Workbook

Sheet Hướng dẫn
A1: HƯỚNG DẪN CHUNG CHO BỘ BIỂU MẪU TÍNH KHỐI LƯỢNG GIẢNG VIÊN
A2: I. YÊU CẦU BẮT BUỘC
A3: - Các dữ liệu của bộ biểu mẫu phải được ghép lại thành 1 file excel duy nhất, trong đó từng sheet là một mẫu tính khác nhau.
A4: - Trong các bảng tổng hợp mẫu A1,2: thứ tự tên GV giữa các bảng tính giống nhau.
A5: - Học phần: Giáo dục thể chất phải được viết tắt thành GDTC
A6: - Công tác: Cố vấn học tập hoặc Sinh hoạt chủ nhiệm --> Viết đúng tên hoặc có thể được viết tắt thành CVHT, SHCN. Cột sĩ số: để trống
A7: - Tên lớp giảng dạy: không được có khoảng trống giữa các ký tự. VD: 15CĐ-Ô5 là đúng, 15 CĐ-Ô5 là sai.
A8: - Dữ liệu minh họa cách tính: Phải mở cột ẩn và xóa các dữ liệu minh họa trong file Phòng TS-ĐT gửi để đảm bảo tính chính xác dữ liệu trước khi dán dữ liệu hoặc in các bảng tính.
A9: - Các cột được tô màu (D, J, S, U, W): Điền đầy đủ thông tin. Phải ẩn (Hide) trước khi in.
A10: II. BỘ MẪU A
A11: + Mẫu A1: Bảng tính khối lượng công việc của Giảng viên trong năm học.
A12: Từ dự kiến khối lượng công việc của Giảng viên trong năm học 2017-2018 Phòng TS-ĐT đã gửi mẫu cho các khoa: Coppy dữ liệu khoa đã có sẳn dán vào các cột (2), cột D, cột (6), (7), cột J, cột (11), (12), (14), (15), cột S, cột (16), cột U, cột (17), cột W, cột (18) và cột (22) nếu có
... A41: LƯU Ý: Trong quá trình thao tác trên các biểu mẫu, nếu có thắc mắc xin liên hệ qua địa chỉ egov hoặc Phòng Tuyển sinh - Đào tạo

Sheet Mau A2
Q1: Mẫu A2
A2: UBND THÀNH PHỐ HỒ CHÍ MINH | K2: CỘNG HÒA XÃ HỘI CHỦ NGHĨA VIỆT NAM
A3: TRƯỜNG CAO ĐẲNG LÝ TỰ TRỌNG THÀNH PHỐ HỒ CHÍ MINH | K3: Độc lập - Tự do - Hạnh phúc
A4: BẢNG TỔNG KẾT KHỐI LƯỢNG CÔNG VIỆC CỦA GIẢNG VIÊN TRONG NĂM HỌC 2017 - 2018
A5: KHOA : ………………………………..
A7: TT | B7: Họ và Tên | D7: Thực hiện trong năm học | J7: Số tiết chuẩn giảng dạy cả năm còn lại | K7: Số tiết chuẩn "Học tập, bồi dưỡng chuẩn hóa, bồi dưỡng nâng cao, nghiên cứu khoa học" còn lại | L7: Số tiết chuẩn "Thực tập tại doanh nghiệp hoặc cơ quan chuyên môn" còn lại | M7: Số tiết thừa, thiếu giảng dạy | N7: Số tiết thừa, thiếu "Học tập, bồi dưỡng chuẩn hóa, bồi dưỡng nâng cao, nghiên cứu khoa học" | O7: Số tiết thừa, thiếu "Thực tập tại doanh nghiệp hoặc cơ quan chuyên môn" | P7: Tổng số tiết thừa, thiếu năm học 2017-2018 | Q7: Số tiết thiếu năm học 2016-2017 | R7: Tổng số tiết thừa, thiếu (sau khi cộng số tiết thiếu năm học 2016-2017)
D8: Số tiết quy đổi và đã nhân hệ số | E8: Kiêm nhiệm | F8: Số tiết soạn đề, coi thi, chấm thi | G8: Tổng tiết thực hiện | H8: Số tiết "Học tập, bồi dưỡng chuẩn hóa, bồi dưỡng nâng cao, nghiên cứu khoa học" | I8: Số tiết "Thực tập tại doanh nghiệp hoặc cơ quan chuyên môn"
R9: Khối lượng vượt giờ (tính phụ trội) | S9: Khối lượng thỉnh giảng (tiết thỉnh giảng) | T9: Số tiết thiếu năm học 2017-2018
A10: (1) | B10: (2) | D10: (3) | E10: (4) | F10: (5) | G10: (6) | H10: (7) | I10: (8) | J10: (9) | K10: (10) | L10: (11) | M10: (12) | N10: (13) | O10: (14) | Q10: (15) | R10: (16) | S10: (17) | T10: (18)
A11: 1 | B11: =IF('Mau A1'!B11="","",'Mau A1'!B11) -> Nguyễn Vân | C11: =IF('Mau A1'!C11="","",'Mau A1'!C11) -> Giang | D11: =SUM('Mau A1'!M11:M22) -> 593.4 | E11: =SUM('Mau A1'!N11:N22) -> 157.5 | F11: =SUM('Mau A1'!O11:O22) -> 0 | G11: =SUM('Mau A1'!P11:P22) -> 750.9 | H11: =SUM('Mau A1'!Q11:Q22) -> 21.4 | I11: =SUM('Mau A1'!R11:R22) -> 51.8 | J11: =SUM('Mau A1'!T11:T22) -> 450 | K11: =SUM('Mau A1'!V11:V22) -> 112 | L11: =SUM('Mau A1'!X11:X22) -> 56 | M11: =SUM('Mau A1'!Y11:Y22) -> 300.9 | N11: =SUM('Mau A1'!Z11:Z22) -> -90.6 | O11: =SUM('Mau A1'!AA11:AA22) -> -4.2 | P11: =SUM('Mau A1'!AC11:AC22) -> 206.1 | Q11: =SUM('Mau A1'!AB11:AB22) -> 0 | R11: =ROUND(IF(AND(0<M11<200,0<(M11-Q11)<200,N11>=0,O11>=0),M11-Q11,IF(OR(AND(P11>0,P11>200),(P11-Q11)>200),"200",IF(OR(AND(N11<=0,O11=0,P11<200),AND(N11=0,O11<0,P11<200),AND(N11<0,O11<0,P11<200)),P11-Q11, ))),1) -> 200 | S11: =ROUND(IF(AND(N11>0,O11>0,M11<=0,R11=0),P11-Q11,IF(AND(P11>0,R11=200),P11-Q11-R11, )),1) -> 6.1 | T11: =ROUND(IF(SUM(M11:O11)-Q11<0,SUM(M11:O11)-Q11, ),1) -> 0
A12: 2 | B12: =IF('Mau A1'!B23="","",'Mau A1'!B23) -> Nguyễn | C12: =IF('Mau A1'!C23="","",'Mau A1'!C23) -> Khoa | D12: =SUM('Mau A1'!M23:M33) -> 567 | E12: =SUM('Mau A1'!N23:N33) -> 213.8 | F12: =SUM('Mau A1'!O23:O33) -> 0 | G12: =SUM('Mau A1'!P23:P33) -> 763 | H12: =SUM('Mau A1'!Q23:Q33) -> 0 | I12: =SUM('Mau A1'!R23:R33) -> 29.4 | J12: =SUM('Mau A1'!T23:T33) -> 450 | K12: =SUM('Mau A1'!V23:V33) -> 112 | L12: =SUM('Mau A1'!X23:X33) -> 56 | M12: =SUM('Mau A1'!Y23:Y33) -> 313.1 | N12: =SUM('Mau A1'!Z23:Z33) -> -112 | O12: =SUM('Mau A1'!AA23:AA33) -> -27 | P12: =SUM('Mau A1'!AC23:AC33) -> 174.1 | Q12: =SUM('Mau A1'!AB23:AB33) -> 0 | R12: =ROUND(IF(AND(0<M12<200,0<(M12-Q12)<200,N12>=0,O12>=0),M12-Q12,IF(OR(AND(P12>0,P12>200),(P12-Q12)>200),"200",IF(OR(AND(N12<=0,O12=0,P12<200),AND(N12=0,O12<0,P12<200),AND(N12<0,O12<0,P12<200)),P12-Q12, ))),1) -> 174.1 | S12: =ROUND(IF(AND(N12>0,O12>0,M12<=0,R12=0),P12-Q12,IF(AND(P12>0,R12=200),P12-Q12-R12, )),1) -> 0 | T12: =ROUND(IF(SUM(M12:O12)-Q12<0,SUM(M12:O12)-Q12, ),1) -> 0
A13: 3 | B13: =IF('Mau A1'!B34="","",'Mau A1'!B34) -> Nguyễn Văn | C13: =IF('Mau A1'!C34="","",'Mau A1'!C34) -> Minh | D13: =SUM('Mau A1'!M34:M44) -> 735.6 | E13: =SUM('Mau A1'!N34:N44) -> 37.5 | F13: =SUM('Mau A1'!O34:O44) -> 0 | G13: =SUM('Mau A1'!P34:P44) -> 773.1 | H13: =SUM('Mau A1'!Q34:Q44) -> 0 | I13: =SUM('Mau A1'!R34:R44) -> 37.8 | J13: =SUM('Mau A1'!T34:T44) -> 450 | K13: =SUM('Mau A1'!V34:V44) -> 112 | L13: =SUM('Mau A1'!X34:X44) -> 56 | M13: =SUM('Mau A1'!Y34:Y44) -> 323.1 | N13: =SUM('Mau A1'!Z34:Z44) -> -112 | O13: =SUM('Mau A1'!AA34:AA44) -> -18.2 | P13: =SUM('Mau A1'!AC34:AC44) -> 192.9 | Q13: =SUM('Mau A1'!AB34:AB44) -> 0 | R13: =ROUND(IF(AND(0<M13<200,0<(M13-Q13)<200,N13>=0,O13>=0),M13-Q13,IF(OR(AND(P13>0,P13>200),(P13-Q13)>200),"200",IF(OR(AND(N13<=0,O13=0,P13<200),AND(N13=0,O13<0,P13<200),AND(N13<0,O13<0,P13<200)),P13-Q13, ))),1) -> 192.9 | S13: =ROUND(IF(AND(N13>0,O13>0,M13<=0,R13=0),P13-Q13,IF(AND(P13>0,R13=200),P13-Q13-R13, )),1) -> 0 | T13: =ROUND(IF(SUM(M13:O13)-Q13<0,SUM(M13:O13)-Q13, ),1) -> 0
A14: 4 | B14: =IF('Mau A1'!B45="","",'Mau A1'!B45) -> Vũ Thị Thái | C14: =IF('Mau A1'!C45="","",'Mau A1'!C45) -> Linh | D14: =SUM('Mau A1'!M45:M63) -> 603.8 | E14: =SUM('Mau A1'!N45:N63) -> 139.5 | F14: =SUM('Mau A1'!O45:O63) -> 0 | G14: =SUM('Mau A1'!P45:P63) -> 743.3 | H14: =SUM('Mau A1'!Q45:Q63) -> 0 | I14: =SUM('Mau A1'!R45:R63) -> 39.9 | J14: =SUM('Mau A1'!T45:T63) -> 450 | K14: =SUM('Mau A1'!V45:V63) -> 112 | L14: =SUM('Mau A1'!X45:X63) -> 56 | M14: =SUM('Mau A1'!Y45:Y63) -> 293.3 | N14: =SUM('Mau A1'!Z45:Z63) -> -112 | O14: =SUM('Mau A1'!AA45:AA63) -> -16.1 | P14: =SUM('Mau A1'!AC45:AC63) -> 165.2 | Q14: =SUM('Mau A1'!AB45:AB63) -> 0 | R14: =ROUND(IF(AND(0<M14<200,0<(M14-Q14)<200,N14>=0,O14>=0),M14-Q14,IF(OR(AND(P14>0,P14>200),(P14-Q14)>200),"200",IF(OR(AND(N14<=0,O14=0,P14<200),AND(N14=0,O14<0,P14<200),AND(N14<0,O14<0,P14<200)),P14-Q14, ))),1) -> 165.2 | S14: =ROUND(IF(AND(N14>0,O14>0,M14<=0,R14=0),P14-Q14,IF(AND(P14>0,R14=200),P14-Q14-R14, )),1) -> 0 | T14: =ROUND(IF(SUM(M14:O14)-Q14<0,SUM(M14:O14)-Q14, ),1) -> 0
A15: 5 | B15: =IF('Mau A1'!B64="","",'Mau A1'!B64) -> Nguyễn Văn | C15: =IF('Mau A1'!C64="","",'Mau A1'!C64) -> Danh | D15: =SUM('Mau A1'!M64:M82) -> 706.9 | E15: =SUM('Mau A1'!N64:N82) -> 67.5 | F15: =SUM('Mau A1'!O64:O82) -> 0 | G15: =SUM('Mau A1'!P64:P82) -> 774.4 | H15: =SUM('Mau A1'!Q64:Q82) -> 0 | I15: =SUM('Mau A1'!R64:R82) -> 38.5 | J15: =SUM('Mau A1'!T64:T82) -> 450 | K15: =SUM('Mau A1'!V64:V82) -> 112 | L15: =SUM('Mau A1'!X64:X82) -> 56 | M15: =SUM('Mau A1'!Y64:Y82) -> 324.4 | N15: =SUM('Mau A1'!Z64:Z82) -> -112 | O15: =SUM('Mau A1'!AA64:AA82) -> -17.5 | P15: =SUM('Mau A1'!AC64:AC82) -> 194.9 | Q15: =SUM('Mau A1'!AB64:AB82) -> 0 | R15: =ROUND(IF(AND(0<M15<200,0<(M15-Q15)<200,N15>=0,O15>=0),M15-Q15,IF(OR(AND(P15>0,P15>200),(P15-Q15)>200),"200",IF(OR(AND(N15<=0,O15=0,P15<200),AND(N15=0,O15<0,P15<200),AND(N15<0,O15<0,P15<200)),P15-Q15, ))),1) -> 194.9 | S15: =ROUND(IF(AND(N15>0,O15>0,M15<=0,R15=0),P15-Q15,IF(AND(P15>0,R15=200),P15-Q15-R15, )),1) -> 0 | T15: =ROUND(IF(SUM(M15:O15)-Q15<0,SUM(M15:O15)-Q15, ),1) -> 0
A16: 6 | B16: =IF('Mau A1'!B83="","",'Mau A1'!B83) -> Nguyễn Thị | C16: =IF('Mau A1'!C83="","",'Mau A1'!C83) -> Thủy | D16: =SUM('Mau A1'!M83:M98) -> 707.8 | E16: =SUM('Mau A1'!N83:N98) -> 67.5 | F16: =SUM('Mau A1'!O83:O98) -> 0 | G16: =SUM('Mau A1'!P83:P98) -> 775.3 | H16: =SUM('Mau A1'!Q83:Q98) -> 0 | I16: =SUM('Mau A1'!R83:R98) -> 53.2 | J16: =SUM('Mau A1'!T83:T98) -> 450 | K16: =SUM('Mau A1'!V83:V98) -> 112 | L16: =SUM('Mau A1'!X83:X98) -> 56 | M16: =SUM('Mau A1'!Y83:Y98) -> 325.3 | N16: =SUM('Mau A1'!Z83:Z98) -> -112 | O16: =SUM('Mau A1'!AA83:AA98) -> -2.8 | P16: =SUM('Mau A1'!AC83:AC98) -> 210.5 | Q16: =SUM('Mau A1'!AB83:AB98) -> 0 | R16: =ROUND(IF(AND(0<M16<200,0<(M16-Q16)<200,N16>=0,O16>=0),M16-Q16,IF(OR(AND(P16>0,P16>200),(P16-Q16)>200),"200",IF(OR(AND(N16<=0,O16=0,P16<200),AND(N16=0,O16<0,P16<200),AND(N16<0,O16<0,P16<200)),P16-Q16, ))),1) -> 200 | S16: =ROUND(IF(AND(N16>0,O16>0,M16<=0,R16=0),P16-Q16,IF(AND(P16>0,R16=200),P16-Q16-R16, )),1) -> 10.5 | T16: =ROUND(IF(SUM(M16:O16)-Q16<0,SUM(M16:O16)-Q16, ),1) -> 0
A17: 7 | B17: =IF('Mau A1'!B99="","",'Mau A1'!B99) -> Nguyễn Thị Thu | C17: =IF('Mau A1'!C99="","",'Mau A1'!C99) -> Hồng | D17: =SUM('Mau A1'!M99:M117) -> 694.6 | E17: =SUM('Mau A1'!N99:N117) -> 67.5 | F17: =SUM('Mau A1'!O99:O117) -> 0 | G17: =SUM('Mau A1'!P99:P117) -> 762.1 | H17: =SUM('Mau A1'!Q99:Q117) -> 0 | I17: =SUM('Mau A1'!R99:R117) -> 48.8 | J17: =SUM('Mau A1'!T99:T117) -> 450 | K17: =SUM('Mau A1'!V99:V117) -> 112 | L17: =SUM('Mau A1'!X99:X117) -> 56 | M17: =SUM('Mau A1'!Y99:Y117) -> 312.1 | N17: =SUM('Mau A1'!Z99:Z117) -> -112 | O17: =SUM('Mau A1'!AA99:AA117) -> -7.2 | P17: =SUM('Mau A1'!AC99:AC117) -> 192.9 | Q17: =SUM('Mau A1'!AB99:AB117) -> 0 | R17: =ROUND(IF(AND(0<M17<200,0<(M17-Q17)<200,N17>=0,O17>=0),M17-Q17,IF(OR(AND(P17>0,P17>200),(P17-Q17)>200),"200",IF(OR(AND(N17<=0,O17=0,P17<200),AND(N17=0,O17<0,P17<200),AND(N17<0,O17<0,P17<200)),P17-Q17, ))),1) -> 192.9 | S17: =ROUND(IF(AND(N17>0,O17>0,M17<=0,R17=0),P17-Q17,IF(AND(P17>0,R17=200),P17-Q17-R17, )),1) -> 0 | T17: =ROUND(IF(SUM(M17:O17)-Q17<0,SUM(M17:O17)-Q17, ),1) -> 0
A18: 8 | B18: =IF('Mau A1'!B118="","",'Mau A1'!B118) -> Lê Hồng | C18: =IF('Mau A1'!C118="","",'Mau A1'!C118) -> Thái | D18: =SUM('Mau A1'!M118:M134) -> 528.5 | E18: =SUM('Mau A1'!N118:N134) -> 89.5 | F18: =SUM('Mau A1'!O118:O134) -> 0 | G18: =SUM('Mau A1'!P118:P134) -> 618 | H18: =SUM('Mau A1'!Q118:Q134) -> 0 | I18: =SUM('Mau A1'!R118:R134) -> 36.05 | J18: =SUM('Mau A1'!T118:T134) -> 267.2 | K18: =SUM('Mau A1'!V118:V134) -> 112 | L18: =SUM('Mau A1'!X118:X134) -> 56 | M18: =SUM('Mau A1'!Y118:Y134) -> 350.8 | N18: =SUM('Mau A1'!Z118:Z134) -> -112 | O18: =SUM('Mau A1'!AA118:AA134) -> -20 | P18: =SUM('Mau A1'!AC118:AC134) -> 218.8 | Q18: =SUM('Mau A1'!AB118:AB134) -> 0 | R18: =ROUND(IF(AND(0<M18<200,0<(M18-Q18)<200,N18>=0,O18>=0),M18-Q18,IF(OR(AND(P18>0,P18>200),(P18-Q18)>200),"200",IF(OR(AND(N18<=0,O18=0,P18<200),AND(N18=0,O18<0,P18<200),AND(N18<0,O18<0,P18<200)),P18-Q18, ))),1) -> 200 | S18: =ROUND(IF(AND(N18>0,O18>0,M18<=0,R18=0),P18-Q18,IF(AND(P18>0,R18=200),P18-Q18-R18, )),1) -> 18.8 | T18: =ROUND(IF(SUM(M18:O18)-Q18<0,SUM(M18:O18)-Q18, ),1) -> 0
A19: 9 | B19: =IF('Mau A1'!B135="","",'Mau A1'!B135) -> Nguyễn Thị Khánh | C19: =IF('Mau A1'!C135="","",'Mau A1'!C135) -> Thư | D19: =SUM('Mau A1'!M135:M149) -> 701.6 | E19: =SUM('Mau A1'!N135:N149) -> 67.5 | F19: =SUM('Mau A1'!O135:O149) -> 0 | G19: =SUM('Mau A1'!P135:P149) -> 769.1 | H19: =SUM('Mau A1'!Q135:Q149) -> 0 | I19: =SUM('Mau A1'!R135:R149) -> 46.2 | J19: =SUM('Mau A1'!T135:T149) -> 450 | K19: =SUM('Mau A1'!V135:V149) -> 112 | L19: =SUM('Mau A1'!X135:X149) -> 56 | M19: =SUM('Mau A1'!Y135:Y149) -> 319.1 | N19: =SUM('Mau A1'!Z135:Z149) -> -112 | O19: =SUM('Mau A1'!AA135:AA149) -> -9.8 | P19: =SUM('Mau A1'!AC135:AC149) -> 197.3 | Q19: =SUM('Mau A1'!AB135:AB149) -> 0 | R19: =ROUND(IF(AND(0<M19<200,0<(M19-Q19)<200,N19>=0,O19>=0),M19-Q19,IF(OR(AND(P19>0,P19>200),(P19-Q19)>200),"200",IF(OR(AND(N19<=0,O19=0,P19<200),AND(N19=0,O19<0,P19<200),AND(N19<0,O19<0,P19<200)),P19-Q19, ))),1) -> 197.3 | S19: =ROUND(IF(AND(N19>0,O19>0,M19<=0,R19=0),P19-Q19,IF(AND(P19>0,R19=200),P19-Q19-R19, )),1) -> 0 | T19: =ROUND(IF(SUM(M19:O19)-Q19<0,SUM(M19:O19)-Q19, ),1) -> 0
A20: 10 | B20: =IF('Mau A1'!B150="","",'Mau A1'!B150) -> Nguyễn Sanh | C20: Cường | D20: =SUM('Mau A1'!M150:M160) -> 603.8 | E20: =SUM('Mau A1'!N150:N160) -> 67.5 | F20: =SUM('Mau A1'!O150:O160) -> 0 | G20: =SUM('Mau A1'!P150:P160) -> 671.3 | H20: =SUM('Mau A1'!Q150:Q160) -> 0 | I20: =SUM('Mau A1'!R150:R160) -> 54.6 | J20: =SUM('Mau A1'!T150:T160) -> 0 | K20: =SUM('Mau A1'!V150:V160) -> 112 | L20: =SUM('Mau A1'!X150:X160) -> 56 | M20: =SUM('Mau A1'!Y150:Y160) -> 221.3 | N20: =SUM('Mau A1'!Z150:Z160) -> -112 | O20: =SUM('Mau A1'!AA150:AA160) -> -1.4 | P20: =SUM('Mau A1'!AC150:AC160) -> 107.9 | Q20: =SUM('Mau A1'!AB150:AB160) -> 0 | R20: =ROUND(IF(AND(0<M20<200,0<(M20-Q20)<200,N20>=0,O20>=0),M20-Q20,IF(OR(AND(P20>0,P20>200),(P20-Q20)>200),"200",IF(OR(AND(N20<=0,O20=0,P20<200),AND(N20=0,O20<0,P20<200),AND(N20<0,O20<0,P20<200)),P20-Q20, ))),1) -> 107.9 | S20: =ROUND(IF(AND(N20>0,O20>0,M20<=0,R20=0),P20-Q20,IF(AND(P20>0,R20=200),P20-Q20-R20, )),1) -> 0 | T20: =ROUND(IF(SUM(M20:O20)-Q20<0,SUM(M20:O20)-Q20, ),1) -> 0
A21: 11 | B21: =IF('Mau A1'!B165="","",'Mau A1'!B165) -> Võ Anh | C21: Trang | D21: =SUM('Mau A1'!M165:M173) -> 591.3 | E21: =SUM('Mau A1'!N165:N173) -> 67.5 | F21: =SUM('Mau A1'!O165:O173) -> 0 | G21: =SUM('Mau A1'!P165:P173) -> 658.8 | H21: =SUM('Mau A1'!Q165:Q173) -> 0 | I21: =SUM('Mau A1'!R165:R173) -> 56 | J21: =SUM('Mau A1'!T165:T173) -> 0 | K21: =SUM('Mau A1'!V165:V173) -> 112 | L21: =SUM('Mau A1'!X165:X173) -> 56 | M21: =SUM('Mau A1'!Y165:Y173) -> 208.8 | N21: =SUM('Mau A1'!Z165:Z173) -> -112 | O21: =SUM('Mau A1'!AA165:AA173) -> 0 | P21: =SUM('Mau A1'!AC165:AC173) -> 96.8 | Q21: =SUM('Mau A1'!AB165:AB173) -> 0 | R21: =ROUND(IF(AND(0<M21<200,0<(M21-Q21)<200,N21>=0,O21>=0),M21-Q21,IF(OR(AND(P21>0,P21>200),(P21-Q21)>200),"200",IF(OR(AND(N21<=0,O21=0,P21<200),AND(N21=0,O21<0,P21<200),AND(N21<0,O21<0,P21<200)),P21-Q21, ))),1) -> 96.8 | S21: =ROUND(IF(AND(N21>0,O21>0,M21<=0,R21=0),P21-Q21,IF(AND(P21>0,R21=200),P21-Q21-R21, )),1) -> 0 | T21: =ROUND(IF(SUM(M21:O21)-Q21<0,SUM(M21:O21)-Q21, ),1) -> 0
A22: 12 | B22: =IF('Mau A1'!B180="","",'Mau A1'!B180) -> Ng Ng Hoàng Ngọc | C22: Quyên | D22: =SUM('Mau A1'!J180:K191) -> 501.3 | E22: =SUM('Mau A1'!K180:L191) -> 17.5 | F22: =SUM('Mau A1'!L180:M191) -> 536.2 | G22: =SUM('Mau A1'!M180:N191) -> 594.5 | H22: =SUM('Mau A1'!N180:O191) -> 67.5 | I22: =SUM('Mau A1'!O180:P191) -> 756.5 | J22: =SUM('Mau A1'!Q180:Q191) -> 0 | K22: =SUM('Mau A1'!S180:S191) -> 0 | L22: =SUM('Mau A1'!U180:U191) -> 0 | M22: =SUM('Mau A1'!V180:V191) -> 112 | N22: =SUM('Mau A1'!Z180:Z191) -> -112 | O22: =SUM('Mau A1'!AA180:AA191) -> -5.6 | P22: =SUM('Mau A1'!AC180:AC191) -> 188.9 | Q22: =SUM('Mau A1'!AB180:AB191) -> 0 | R22: =ROUND(IF(AND(0<M22<200,0<(M22-Q22)<200,N22>=0,O22>=0),M22-Q22,IF(OR(AND(P22>0,P22>200),(P22-Q22)>200),"200",IF(OR(AND(N22<=0,O22=0,P22<200),AND(N22=0,O22<0,P22<200),AND(N22<0,O22<0,P22<200)),P22-Q22, ))),1) -> 188.9 | S22: =ROUND(IF(AND(N22>0,O22>0,M22<=0,R22=0),P22-Q22,IF(AND(P22>0,R22=200),P22-Q22-R22, )),1) -> 0 | T22: =ROUND(IF(SUM(M22:O22)-Q22<0,SUM(M22:O22)-Q22, ),1) -> -5.6
A23: 13 | B23: =IF('Mau A1'!B194="","",'Mau A1'!B194) -> Trần Việt | C23: =IF('Mau A1'!C194="","",'Mau A1'!C194) -> Khánh | D23: =SUM('Mau A1'!M194:M205) -> 545.9 | E23: =SUM('Mau A1'!N194:N205) -> 112.5 | F23: =SUM('Mau A1'!O194:O205) -> 0 | G23: =SUM('Mau A1'!P194:P205) -> 658.4 | H23: =SUM('Mau A1'!Q194:Q205) -> 0 | I23: =SUM('Mau A1'!R194:R205) -> 50.4 | J23: =SUM('Mau A1'!T194:T205) -> 450 | K23: =SUM('Mau A1'!V194:V205) -> 112 | L23: =SUM('Mau A1'!X194:X205) -> 56 | M23: =SUM('Mau A1'!Y194:Y205) -> 208.4 | N23: =SUM('Mau A1'!Z194:Z205) -> -112 | O23: =SUM('Mau A1'!AA194:AA205) -> -5.6 | P23: =SUM('Mau A1'!AC194:AC205) -> 90.8 | Q23: =SUM('Mau A1'!AB194:AB205) -> 0 | R23: =ROUND(IF(AND(0<M23<200,0<(M23-Q23)<200,N23>=0,O23>=0),M23-Q23,IF(OR(AND(P23>0,P23>200),(P23-Q23)>200),"200",IF(OR(AND(N23<=0,O23=0,P23<200),AND(N23=0,O23<0,P23<200),AND(N23<0,O23<0,P23<200)),P23-Q23, ))),1) -> 90.8 | S23: =ROUND(IF(AND(N23>0,O23>0,M23<=0,R23=0),P23-Q23,IF(AND(P23>0,R23=200),P23-Q23-R23, )),1) -> 0 | T23: =ROUND(IF(SUM(M23:O23)-Q23<0,SUM(M23:O23)-Q23, ),1) -> 0
A24: 14 | B24: =IF('Mau A1'!B206="","",'Mau A1'!B206) -> Đỗ Thị Hải | C24: =IF('Mau A1'!C206="","",'Mau A1'!C206) -> Yến | D24: =SUM('Mau A1'!M206:M217) -> 741 | E24: =SUM('Mau A1'!N206:N217) -> 67.5 | F24: =SUM('Mau A1'!O206:O217) -> 0 | G24: =SUM('Mau A1'!P206:P217) -> 808.5 | H24: =SUM('Mau A1'!Q206:Q217) -> 0 | I24: =SUM('Mau A1'!R206:R217) -> 54.6 | J24: =SUM('Mau A1'!T206:T217) -> 450 | K24: =SUM('Mau A1'!V206:V217) -> 112 | L24: =SUM('Mau A1'!X206:X217) -> 56 | M24: =SUM('Mau A1'!Y206:Y217) -> 358.5 | N24: =SUM('Mau A1'!Z206:Z217) -> -112 | O24: =SUM('Mau A1'!AA206:AA217) -> -1.4 | P24: =SUM('Mau A1'!AC206:AC217) -> 245.1 | Q24: =SUM('Mau A1'!AB206:AB217) -> 0 | R24: =ROUND(IF(AND(0<M24<200,0<(M24-Q24)<200,N24>=0,O24>=0),M24-Q24,IF(OR(AND(P24>0,P24>200),(P24-Q24)>200),"200",IF(OR(AND(N24<=0,O24=0,P24<200),AND(N24=0,O24<0,P24<200),AND(N24<0,O24<0,P24<200)),P24-Q24, ))),1) -> 200 | S24: =ROUND(IF(AND(N24>0,O24>0,M24<=0,R24=0),P24-Q24,IF(AND(P24>0,R24=200),P24-Q24-R24, )),1) -> 45.1 | T24: =ROUND(IF(SUM(M24:O24)-Q24<0,SUM(M24:O24)-Q24, ),1) -> 0
A25: 15 | B25: =IF('Mau A1'!B218="","",'Mau A1'!B218) -> Trần Vĩnh | C25: =IF('Mau A1'!C218="","",'Mau A1'!C218) -> Xuyên | D25: =SUM('Mau A1'!M218:M230) -> 712 | E25: =SUM('Mau A1'!N218:N230) -> 67.5 | F25: =SUM('Mau A1'!O218:O230) -> 0 | G25: =SUM('Mau A1'!P218:P230) -> 779.5 | H25: =SUM('Mau A1'!Q218:Q230) -> 0 | I25: =SUM('Mau A1'!R218:R230) -> 51.8 | J25: =SUM('Mau A1'!T218:T230) -> 450 | K25: =SUM('Mau A1'!V218:V230) -> 112 | L25: =SUM('Mau A1'!X218:X230) -> 56 | M25: =SUM('Mau A1'!Y218:Y230) -> 329.5 | N25: =SUM('Mau A1'!Z218:Z230) -> -112 | O25: =SUM('Mau A1'!AA218:AA230) -> -4.2 | P25: =SUM('Mau A1'!AC218:AC230) -> 213.3 | Q25: =SUM('Mau A1'!AB218:AB230) -> 0 | R25: =ROUND(IF(AND(0<M25<200,0<(M25-Q25)<200,N25>=0,O25>=0),M25-Q25,IF(OR(AND(P25>0,P25>200),(P25-Q25)>200),"200",IF(OR(AND(N25<=0,O25=0,P25<200),AND(N25=0,O25<0,P25<200),AND(N25<0,O25<0,P25<200)),P25-Q25, ))),1) -> 200 | S25: =ROUND(IF(AND(N25>0,O25>0,M25<=0,R25=0),P25-Q25,IF(AND(P25>0,R25=200),P25-Q25-R25, )),1) -> 13.3 | T25: =ROUND(IF(SUM(M25:O25)-Q25<0,SUM(M25:O25)-Q25, ),1) -> 0
A26: 16 | B26: =IF('Mau A1'!B231="","",'Mau A1'!B231) -> Nguyễn Cao | C26: =IF('Mau A1'!C231="","",'Mau A1'!C231) -> Phong | D26: =SUM('Mau A1'!M231:M245) -> 738.8 | E26: =SUM('Mau A1'!N231:N245) -> 89.5 | F26: =SUM('Mau A1'!O231:O245) -> 0 | G26: =SUM('Mau A1'!P231:P245) -> 828.3 | H26: =SUM('Mau A1'!Q231:Q245) -> 0 | I26: =SUM('Mau A1'!R231:R245) -> 35 | J26: =SUM('Mau A1'!T231:T245) -> 450 | K26: =SUM('Mau A1'!V231:V245) -> 112 | L26: =SUM('Mau A1'!X231:X245) -> 56 | M26: =SUM('Mau A1'!Y231:Y245) -> 378.3 | N26: =SUM('Mau A1'!Z231:Z245) -> -112 | O26: =SUM('Mau A1'!AA231:AA245) -> -21 | P26: =SUM('Mau A1'!AC231:AC245) -> 245.3 | Q26: =SUM('Mau A1'!AB231:AB245) -> 0 | R26: =ROUND(IF(AND(0<M26<200,0<(M26-Q26)<200,N26>=0,O26>=0),M26-Q26,IF(OR(AND(P26>0,P26>200),(P26-Q26)>200),"200",IF(OR(AND(N26<=0,O26=0,P26<200),AND(N26=0,O26<0,P26<200),AND(N26<0,O26<0,P26<200)),P26-Q26, ))),1) -> 200 | S26: =ROUND(IF(AND(N26>0,O26>0,M26<=0,R26=0),P26-Q26,IF(AND(P26>0,R26=200),P26-Q26-R26, )),1) -> 45.3 | T26: =ROUND(IF(SUM(M26:O26)-Q26<0,SUM(M26:O26)-Q26, ),1) -> 0
A27: 17 | B27: =IF('Mau A1'!B246="","",'Mau A1'!B246) -> Mai Chiếm | C27: =IF('Mau A1'!C246="","",'Mau A1'!C246) -> Tuấn | D27: =SUM('Mau A1'!M246:M257) -> 684 | E27: =SUM('Mau A1'!N246:N257) -> 67.5 | F27: =SUM('Mau A1'!O246:O257) -> 0 | G27: =SUM('Mau A1'!P246:P257) -> 751.5 | H27: =SUM('Mau A1'!Q246:Q257) -> 0 | I27: =SUM('Mau A1'!R246:R257) -> 54.6 | J27: =SUM('Mau A1'!T246:T257) -> 450 | K27: =SUM('Mau A1'!V246:V257) -> 112 | L27: =SUM('Mau A1'!X246:X257) -> 56 | M27: =SUM('Mau A1'!Y246:Y257) -> 301.5 | N27: =SUM('Mau A1'!Z246:Z257) -> -112 | O27: =SUM('Mau A1'!AA246:AA257) -> -1.4 | P27: =SUM('Mau A1'!AC246:AC257) -> 188.1 | Q27: =SUM('Mau A1'!AB246:AB257) -> 0 | R27: =ROUND(IF(AND(0<M27<200,0<(M27-Q27)<200,N27>=0,O27>=0),M27-Q27,IF(OR(AND(P27>0,P27>200),(P27-Q27)>200),"200",IF(OR(AND(N27<=0,O27=0,P27<200),AND(N27=0,O27<0,P27<200),AND(N27<0,O27<0,P27<200)),P27-Q27, ))),1) -> 188.1 | S27: =ROUND(IF(AND(N27>0,O27>0,M27<=0,R27=0),P27-Q27,IF(AND(P27>0,R27=200),P27-Q27-R27, )),1) -> 0 | T27: =ROUND(IF(SUM(M27:O27)-Q27<0,SUM(M27:O27)-Q27, ),1) -> 0
A28: 18 | B28: =IF('Mau A1'!B258="","",'Mau A1'!B258) -> Lê Quý Hưng | C28: =IF('Mau A1'!C258="","",'Mau A1'!C258) -> Quốc | D28: =SUM('Mau A1'!M258:M280) -> 708.7 | E28: =SUM('Mau A1'!N258:N280) -> 67.5 | F28: =SUM('Mau A1'!O258:O280) -> 0 | G28: =SUM('Mau A1'!P258:P280) -> 776.2 | H28: =SUM('Mau A1'!Q258:Q280) -> 0 | I28: =SUM('Mau A1'!R258:R280) -> 44.8 | J28: =SUM('Mau A1'!T258:T280) -> 450 | K28: =SUM('Mau A1'!V258:V280) -> 112 | L28: =SUM('Mau A1'!X258:X280) -> 56 | M28: =SUM('Mau A1'!Y258:Y280) -> 326.2 | N28: =SUM('Mau A1'!Z258:Z280) -> -112 | O28: =SUM('Mau A1'!AA258:AA280) -> -11.2 | P28: =SUM('Mau A1'!AC258:AC280) -> 203 | Q28: =SUM('Mau A1'!AB258:AB280) -> 0 | R28: =ROUND(IF(AND(0<M28<200,0<(M28-Q28)<200,N28>=0,O28>=0),M28-Q28,IF(OR(AND(P28>0,P28>200),(P28-Q28)>200),"200",IF(OR(AND(N28<=0,O28=0,P28<200),AND(N28=0,O28<0,P28<200),AND(N28<0,O28<0,P28<200)),P28-Q28, ))),1) -> 200 | S28: =ROUND(IF(AND(N28>0,O28>0,M28<=0,R28=0),P28-Q28,IF(AND(P28>0,R28=200),P28-Q28-R28, )),1) -> 3 | T28: =ROUND(IF(SUM(M28:O28)-Q28<0,SUM(M28:O28)-Q28, ),1) -> 0
A29: 19 | B29: =IF('Mau A1'!B281="","",'Mau A1'!B281) -> Nguyễn Văn | C29: =IF('Mau A1'!C281="","",'Mau A1'!C281) -> Đôn | D29: =SUM('Mau A1'!M281:M295) -> 605.9 | E29: =SUM('Mau A1'!N281:N295) -> 112.5 | F29: =SUM('Mau A1'!O281:O295) -> 0 | G29: =SUM('Mau A1'!P281:P295) -> 718.4 | H29: =SUM('Mau A1'!Q281:Q295) -> 42.9 | I29: =SUM('Mau A1'!R281:R295) -> 56 | J29: =SUM('Mau A1'!T281:T295) -> 450 | K29: =SUM('Mau A1'!V281:V295) -> 112 | L29: =SUM('Mau A1'!X281:X295) -> 56 | M29: =SUM('Mau A1'!Y281:Y295) -> 268.4 | N29: =SUM('Mau A1'!Z281:Z295) -> -69.1 | O29: =SUM('Mau A1'!AA281:AA295) -> 0 | P29: =SUM('Mau A1'!AC281:AC295) -> 199.3 | Q29: =SUM('Mau A1'!AB281:AB295) -> 0 | R29: =ROUND(IF(AND(0<M29<200,0<(M29-Q29)<200,N29>=0,O29>=0),M29-Q29,IF(OR(AND(P29>0,P29>200),(P29-Q29)>200),"200",IF(OR(AND(N29<=0,O29=0,P29<200),AND(N29=0,O29<0,P29<200),AND(N29<0,O29<0,P29<200)),P29-Q29, ))),1) -> 199.3 | S29: =ROUND(IF(AND(N29>0,O29>0,M29<=0,R29=0),P29-Q29,IF(AND(P29>0,R29=200),P29-Q29-R29, )),1) -> 0 | T29: =ROUND(IF(SUM(M29:O29)-Q29<0,SUM(M29:O29)-Q29, ),1) -> 0
A30: 20 | B30: =IF('Mau A1'!B296="","",'Mau A1'!B296) -> Bùi Văn | C30: =IF('Mau A1'!C296="","",'Mau A1'!C296) -> Dũng | D30: =SUM('Mau A1'!M296:M316) -> 652.5 | E30: =SUM('Mau A1'!N296:N316) -> 67.5 | F30: =SUM('Mau A1'!O296:O316) -> 0 | G30: =SUM('Mau A1'!P296:P316) -> 720 | H30: =SUM('Mau A1'!Q296:Q316) -> 0 | I30: =SUM('Mau A1'!R296:R316) -> 56 | J30: =SUM('Mau A1'!T296:T316) -> 450 | K30: =SUM('Mau A1'!V296:V316) -> 112 | L30: =SUM('Mau A1'!X296:X316) -> 56 | M30: =SUM('Mau A1'!Y296:Y316) -> 270 | N30: =SUM('Mau A1'!Z296:Z316) -> -112 | O30: =SUM('Mau A1'!AA296:AA316) -> 0 | P30: =SUM('Mau A1'!AC296:AC316) -> 158 | Q30: =SUM('Mau A1'!AB296:AB316) -> 0 | R30: =ROUND(IF(AND(0<M30<200,0<(M30-Q30)<200,N30>=0,O30>=0),M30-Q30,IF(OR(AND(P30>0,P30>200),(P30-Q30)>200),"200",IF(OR(AND(N30<=0,O30=0,P30<200),AND(N30=0,O30<0,P30<200),AND(N30<0,O30<0,P30<200)),P30-Q30, ))),1) -> 158 | S30: =ROUND(IF(AND(N30>0,O30>0,M30<=0,R30=0),P30-Q30,IF(AND(P30>0,R30=200),P30-Q30-R30, )),1) -> 0 | T30: =ROUND(IF(SUM(M30:O30)-Q30<0,SUM(M30:O30)-Q30, ),1) -> 0
A31: 21 | B31: =IF('Mau A1'!B317="","",'Mau A1'!B317) -> Đậng Ngọc | C31: =IF('Mau A1'!C317="","",'Mau A1'!C317) -> Đoàn | D31: =SUM('Mau A1'!M317:M346) -> 642.5 | E31: =SUM('Mau A1'!N317:N346) -> 67.5 | F31: =SUM('Mau A1'!O317:O346) -> 0 | G31: =SUM('Mau A1'!P317:P346) -> 710 | H31: =SUM('Mau A1'!Q317:Q346) -> 0 | I31: =SUM('Mau A1'!R317:R346) -> 56 | J31: =SUM('Mau A1'!T317:T346) -> 450 | K31: =SUM('Mau A1'!V317:V346) -> 112 | L31: =SUM('Mau A1'!X317:X346) -> 56 | M31: =SUM('Mau A1'!Y317:Y346) -> 260 | N31: =SUM('Mau A1'!Z317:Z346) -> -112 | O31: =SUM('Mau A1'!AA317:AA346) -> 0 | P31: =SUM('Mau A1'!AC317:AC346) -> 148 | Q31: =SUM('Mau A1'!AB317:AB346) -> 0 | R31: =ROUND(IF(AND(0<M31<200,0<(M31-Q31)<200,N31>=0,O31>=0),M31-Q31,IF(OR(AND(P31>0,P31>200),(P31-Q31)>200),"200",IF(OR(AND(N31<=0,O31=0,P31<200),AND(N31=0,O31<0,P31<200),AND(N31<0,O31<0,P31<200)),P31-Q31, ))),1) -> 148 | S31: =ROUND(IF(AND(N31>0,O31>0,M31<=0,R31=0),P31-Q31,IF(AND(P31>0,R31=200),P31-Q31-R31, )),1) -> 0 | T31: =ROUND(IF(SUM(M31:O31)-Q31<0,SUM(M31:O31)-Q31, ),1) -> 0
A32: 22 | B32: =IF('Mau A1'!B347="","",'Mau A1'!B347) -> Lê Tất | C32: =IF('Mau A1'!C347="","",'Mau A1'!C347) -> Đạt | D32: =SUM('Mau A1'!M347:M364) -> 771.9 | E32: =SUM('Mau A1'!N347:N364) -> 67.5 | F32: =SUM('Mau A1'!O347:O364) -> 0 | G32: =SUM('Mau A1'!P347:P364) -> 839.4 | H32: =SUM('Mau A1'!Q347:Q364) -> 0 | I32: =SUM('Mau A1'!R347:R364) -> 40.6 | J32: =SUM('Mau A1'!T347:T364) -> 450 | K32: =SUM('Mau A1'!V347:V364) -> 112 | L32: =SUM('Mau A1'!X347:X364) -> 56 | M32: =SUM('Mau A1'!Y347:Y364) -> 389.4 | N32: =SUM('Mau A1'!Z347:Z364) -> -112 | O32: =SUM('Mau A1'!AA347:AA364) -> -15.4 | P32: =SUM('Mau A1'!AC347:AC364) -> 262 | Q32: =SUM('Mau A1'!AB347:AB364) -> 0 | R32: =ROUND(IF(AND(0<M32<200,0<(M32-Q32)<200,N32>=0,O32>=0),M32-Q32,IF(OR(AND(P32>0,P32>200),(P32-Q32)>200),"200",IF(OR(AND(N32<=0,O32=0,P32<200),AND(N32=0,O32<0,P32<200),AND(N32<0,O32<0,P32<200)),P32-Q32, ))),1) -> 200 | S32: =ROUND(IF(AND(N32>0,O32>0,M32<=0,R32=0),P32-Q32,IF(AND(P32>0,R32=200),P32-Q32-R32, )),1) -> 62 | T32: =ROUND(IF(SUM(M32:O32)-Q32<0,SUM(M32:O32)-Q32, ),1) -> 0
A33: 23 | B33: =IF('Mau A1'!B365="","",'Mau A1'!B365) -> Dương Ngọc | C33: =IF('Mau A1'!C365="","",'Mau A1'!C365) -> Vọng | D33: =SUM('Mau A1'!M365:M382) -> 705.6 | E33: =SUM('Mau A1'!N365:N382) -> 67.5 | F33: =SUM('Mau A1'!O365:O382) -> 0 | G33: =SUM('Mau A1'!P365:P382) -> 773.1 | H33: =SUM('Mau A1'!Q365:Q382) -> 0 | I33: =SUM('Mau A1'!R365:R382) -> 21 | J33: =SUM('Mau A1'!T365:T382) -> 450 | K33: =SUM('Mau A1'!V365:V382) -> 112 | L33: =SUM('Mau A1'!X365:X382) -> 56 | M33: =SUM('Mau A1'!Y365:Y382) -> 323.1 | N33: =SUM('Mau A1'!Z365:Z382) -> -112 | O33: =SUM('Mau A1'!AA365:AA382) -> -35 | P33: =SUM('Mau A1'!AC365:AC382) -> 176.1 | Q33: =SUM('Mau A1'!AB365:AB382) -> 0 | R33: =ROUND(IF(AND(0<M33<200,0<(M33-Q33)<200,N33>=0,O33>=0),M33-Q33,IF(OR(AND(P33>0,P33>200),(P33-Q33)>200),"200",IF(OR(AND(N33<=0,O33=0,P33<200),AND(N33=0,O33<0,P33<200),AND(N33<0,O33<0,P33<200)),P33-Q33, ))),1) -> 176.1 | S33: =ROUND(IF(AND(N33>0,O33>0,M33<=0,R33=0),P33-Q33,IF(AND(P33>0,R33=200),P33-Q33-R33, )),1) -> 0 | T33: =ROUND(IF(SUM(M33:O33)-Q33<0,SUM(M33:O33)-Q33, ),1) -> 0
A34: 24 | B34: =IF('Mau A1'!B383="","",'Mau A1'!B383) -> Lê Phi | C34: =IF('Mau A1'!C383="","",'Mau A1'!C383) -> Trường | D34: =SUM('Mau A1'!M383:M412) -> 694.1 | E34: =SUM('Mau A1'!N383:N412) -> 67.5 | F34: =SUM('Mau A1'!O383:O412) -> 0 | G34: =SUM('Mau A1'!P383:P412) -> 761.6 | H34: =SUM('Mau A1'!Q383:Q412) -> 0 | I34: =SUM('Mau A1'!R383:R412) -> 56 | J34: =SUM('Mau A1'!T383:T412) -> 450 | K34: =SUM('Mau A1'!V383:V412) -> 112 | L34: =SUM('Mau A1'!X383:X412) -> 56 | M34: =SUM('Mau A1'!Y383:Y412) -> 311.6 | N34: =SUM('Mau A1'!Z383:Z412) -> -112 | O34: =SUM('Mau A1'!AA383:AA412) -> 0 | P34: =SUM('Mau A1'!AC383:AC412) -> 199.6 | Q34: =SUM('Mau A1'!AB383:AB412) -> 0 | R34: =ROUND(IF(AND(0<M34<200,0<(M34-Q34)<200,N34>=0,O34>=0),M34-Q34,IF(OR(AND(P34>0,P34>200),(P34-Q34)>200),"200",IF(OR(AND(N34<=0,O34=0,P34<200),AND(N34=0,O34<0,P34<200),AND(N34<0,O34<0,P34<200)),P34-Q34, ))),1) -> 199.6 | S34: =ROUND(IF(AND(N34>0,O34>0,M34<=0,R34=0),P34-Q34,IF(AND(P34>0,R34=200),P34-Q34-R34, )),1) -> 0 | T34: =ROUND(IF(SUM(M34:O34)-Q34<0,SUM(M34:O34)-Q34, ),1) -> 0
A35: 25 | B35: =IF('Mau A1'!B413="","",'Mau A1'!B413) -> Nguyễn Ngọc | C35: =IF('Mau A1'!C413="","",'Mau A1'!C413) -> Tuyên | D35: =SUM('Mau A1'!M413:M442) -> 687 | E35: =SUM('Mau A1'!N413:N442) -> 67.5 | F35: =SUM('Mau A1'!O413:O442) -> 0 | G35: =SUM('Mau A1'!P413:P442) -> 754.5 | H35: =SUM('Mau A1'!Q413:Q442) -> 0 | I35: =SUM('Mau A1'!R413:R442) -> 56 | J35: =SUM('Mau A1'!T413:T442) -> 450 | K35: =SUM('Mau A1'!V413:V442) -> 112 | L35: =SUM('Mau A1'!X413:X442) -> 56 | M35: =SUM('Mau A1'!Y413:Y442) -> 304.5 | N35: =SUM('Mau A1'!Z413:Z442) -> -112 | O35: =SUM('Mau A1'!AA413:AA442) -> 0 | P35: =SUM('Mau A1'!AC413:AC442) -> 192.5 | Q35: =SUM('Mau A1'!AB413:AB442) -> 0 | R35: =ROUND(IF(AND(0<M35<200,0<(M35-Q35)<200,N35>=0,O35>=0),M35-Q35,IF(OR(AND(P35>0,P35>200),(P35-Q35)>200),"200",IF(OR(AND(N35<=0,O35=0,P35<200),AND(N35=0,O35<0,P35<200),AND(N35<0,O35<0,P35<200)),P35-Q35, ))),1) -> 192.5 | S35: =ROUND(IF(AND(N35>0,O35>0,M35<=0,R35=0),P35-Q35,IF(AND(P35>0,R35=200),P35-Q35-R35, )),1) -> 0 | T35: =ROUND(IF(SUM(M35:O35)-Q35<0,SUM(M35:O35)-Q35, ),1) -> 0
A36: 26 | B36: =IF('Mau A1'!B443="","",'Mau A1'!B443) | C36: =IF('Mau A1'!C443="","",'Mau A1'!C443) | D36: =SUM('Mau A1'!M443:M472) -> 0 | E36: =SUM('Mau A1'!N443:N472) -> 0 | F36: =SUM('Mau A1'!O443:O472) -> 0 | G36: =SUM('Mau A1'!P443:P472) -> 0 | H36: =SUM('Mau A1'!Q443:Q472) -> 0 | I36: =SUM('Mau A1'!R443:R472) -> 0 | J36: =SUM('Mau A1'!T443:T472) -> 450 | K36: =SUM('Mau A1'!V443:V472) -> 112 | L36: =SUM('Mau A1'!X443:X472) -> 56 | M36: =SUM('Mau A1'!Y443:Y472) -> -450 | N36: =SUM('Mau A1'!Z443:Z472) -> -112 | O36: =SUM('Mau A1'!AA443:AA472) -> -56 | P36: =SUM('Mau A1'!AC443:AC472) -> -618 | Q36: =SUM('Mau A1'!AB443:AB472) -> 0 | R36: =ROUND(IF(AND(0<M36<200,0<(M36-Q36)<200,N36>=0,O36>=0),M36-Q36,IF(OR(AND(P36>0,P36>200),(P36-Q36)>200),"200",IF(OR(AND(N36<=0,O36=0,P36<200),AND(N36=0,O36<0,P36<200),AND(N36<0,O36<0,P36<200)),P36-Q36, ))),1) -> -618 | S36: =ROUND(IF(AND(N36>0,O36>0,M36<=0,R36=0),P36-Q36,IF(AND(P36>0,R36=200),P36-Q36-R36, )),1) -> 0 | T36: =ROUND(IF(SUM(M36:O36)-Q36<0,SUM(M36:O36)-Q36, ),1) -> -618
A37: 27 | B37: =IF('Mau A1'!B473="","",'Mau A1'!B473) | C37: =IF('Mau A1'!C473="","",'Mau A1'!C473) | D37: =SUM('Mau A1'!M473:M502) -> 0 | E37: =SUM('Mau A1'!N473:N502) -> 0 | F37: =SUM('Mau A1'!O473:O502) -> 0 | G37: =SUM('Mau A1'!P473:P502) -> 0 | H37: =SUM('Mau A1'!Q473:Q502) -> 0 | I37: =SUM('Mau A1'!R473:R502) -> 0 | J37: =SUM('Mau A1'!T473:T502) -> 450 | K37: =SUM('Mau A1'!V473:V502) -> 112 | L37: =SUM('Mau A1'!X473:X502) -> 56 | M37: =SUM('Mau A1'!Y473:Y502) -> -450 | N37: =SUM('Mau A1'!Z473:Z502) -> -112 | O37: =SUM('Mau A1'!AA473:AA502) -> -56 | P37: =SUM('Mau A1'!AC473:AC502) -> -618 | Q37: =SUM('Mau A1'!AB473:AB502) -> 9.3 | R37: =ROUND(IF(AND(0<M37<200,0<(M37-Q37)<200,N37>=0,O37>=0),M37-Q37,IF(OR(AND(P37>0,P37>200),(P37-Q37)>200),"200",IF(OR(AND(N37<=0,O37=0,P37<200),AND(N37=0,O37<0,P37<200),AND(N37<0,O37<0,P37<200)),P37-Q37, ))),1) -> -627.3 | S37: =ROUND(IF(AND(N37>0,O37>0,M37<=0,R37=0),P37-Q37,IF(AND(P37>0,R37=200),P37-Q37-R37, )),1) -> 0 | T37: =ROUND(IF(SUM(M37:O37)-Q37<0,SUM(M37:O37)-Q37, ),1) -> -627.3
A38: 28 | B38: =IF('Mau A1'!B503="","",'Mau A1'!B503) | C38: =IF('Mau A1'!C503="","",'Mau A1'!C503) | D38: =SUM('Mau A1'!M503:M532) -> 0 | E38: =SUM('Mau A1'!N503:N532) -> 0 | F38: =SUM('Mau A1'!O503:O532) -> 0 | G38: =SUM('Mau A1'!P503:P532) -> 0 | H38: =SUM('Mau A1'!Q503:Q532) -> 0 | I38: =SUM('Mau A1'!R503:R532) -> 0 | J38: =SUM('Mau A1'!T503:T532) -> 450 | K38: =SUM('Mau A1'!V503:V532) -> 112 | L38: =SUM('Mau A1'!X503:X532) -> 56 | M38: =SUM('Mau A1'!Y503:Y532) -> -450 | N38: =SUM('Mau A1'!Z503:Z532) -> -112 | O38: =SUM('Mau A1'!AA503:AA532) -> -56 | P38: =SUM('Mau A1'!AC503:AC532) -> -618 | Q38: =SUM('Mau A1'!AB503:AB532) -> 47.2 | R38: =ROUND(IF(AND(0<M38<200,0<(M38-Q38)<200,N38>=0,O38>=0),M38-Q38,IF(OR(AND(P38>0,P38>200),(P38-Q38)>200),"200",IF(OR(AND(N38<=0,O38=0,P38<200),AND(N38=0,O38<0,P38<200),AND(N38<0,O38<0,P38<200)),P38-Q38, ))),1) -> -665.2 | S38: =ROUND(IF(AND(N38>0,O38>0,M38<=0,R38=0),P38-Q38,IF(AND(P38>0,R38=200),P38-Q38-R38, )),1) -> 0 | T38: =ROUND(IF(SUM(M38:O38)-Q38<0,SUM(M38:O38)-Q38, ),1) -> -665.2
A39: 29 | B39: =IF('Mau A1'!B533="","",'Mau A1'!B533) | C39: =IF('Mau A1'!C533="","",'Mau A1'!C533) | D39: =SUM('Mau A1'!M533:M562) -> 0 | E39: =SUM('Mau A1'!N533:N562) -> 0 | F39: =SUM('Mau A1'!O533:O562) -> 0 | G39: =SUM('Mau A1'!P533:P562) -> 0 | H39: =SUM('Mau A1'!Q533:Q562) -> 0 | I39: =SUM('Mau A1'!R533:R562) -> 0 | J39: =SUM('Mau A1'!T533:T562) -> 450 | K39: =SUM('Mau A1'!V533:V562) -> 112 | L39: =SUM('Mau A1'!X533:X562) -> 56 | M39: =SUM('Mau A1'!Y533:Y562) -> -450 | N39: =SUM('Mau A1'!Z533:Z562) -> -112 | O39: =SUM('Mau A1'!AA533:AA562) -> -56 | P39: =SUM('Mau A1'!AC533:AC562) -> -618 | Q39: =SUM('Mau A1'!AB533:AB562) -> 76.1 | R39: =ROUND(IF(AND(0<M39<200,0<(M39-Q39)<200,N39>=0,O39>=0),M39-Q39,IF(OR(AND(P39>0,P39>200),(P39-Q39)>200),"200",IF(OR(AND(N39<=0,O39=0,P39<200),AND(N39=0,O39<0,P39<200),AND(N39<0,O39<0,P39<200)),P39-Q39, ))),1) -> -694.1 | S39: =ROUND(IF(AND(N39>0,O39>0,M39<=0,R39=0),P39-Q39,IF(AND(P39>0,R39=200),P39-Q39-R39, )),1) -> 0 | T39: =ROUND(IF(SUM(M39:O39)-Q39<0,SUM(M39:O39)-Q39, ),1) -> -694.1
A40: 30 | B40: =IF('Mau A1'!B563="","",'Mau A1'!B563) | C40: =IF('Mau A1'!C563="","",'Mau A1'!C563) | D40: =SUM('Mau A1'!M563:M592) -> 0 | E40: =SUM('Mau A1'!N563:N592) -> 0 | F40: =SUM('Mau A1'!O563:O592) -> 0 | G40: =SUM('Mau A1'!P563:P592) -> 0 | H40: =SUM('Mau A1'!Q563:Q592) -> 0 | I40: =SUM('Mau A1'!R563:R592) -> 0 | J40: =SUM('Mau A1'!T563:T592) -> 450 | K40: =SUM('Mau A1'!V563:V592) -> 112 | L40: =SUM('Mau A1'!X563:X592) -> 56 | M40: =SUM('Mau A1'!Y563:Y592) -> -450 | N40: =SUM('Mau A1'!Z563:Z592) -> -112 | O40: =SUM('Mau A1'!AA563:AA592) -> -56 | P40: =SUM('Mau A1'!AC563:AC592) -> -618 | Q40: =SUM('Mau A1'!AB563:AB592) -> 0 | R40: =ROUND(IF(AND(0<M40<200,0<(M40-Q40)<200,N40>=0,O40>=0),M40-Q40,IF(OR(AND(P40>0,P40>200),(P40-Q40)>200),"200",IF(OR(AND(N40<=0,O40=0,P40<200),AND(N40=0,O40<0,P40<200),AND(N40<0,O40<0,P40<200)),P40-Q40, ))),1) -> -618 | S40: =ROUND(IF(AND(N40>0,O40>0,M40<=0,R40=0),P40-Q40,IF(AND(P40>0,R40=200),P40-Q40-R40, )),1) -> 0 | T40: =ROUND(IF(SUM(M40:O40)-Q40<0,SUM(M40:O40)-Q40, ),1) -> -618
A41: 31 | B41: =IF('Mau A1'!B593="","",'Mau A1'!B593) | C41: =IF('Mau A1'!C593="","",'Mau A1'!C593) | D41: =SUM('Mau A1'!M593:M622) -> 0 | E41: =SUM('Mau A1'!N593:N622) -> 0 | F41: =SUM('Mau A1'!O593:O622) -> 0 | G41: =SUM('Mau A1'!P593:P622) -> 0 | H41: =SUM('Mau A1'!Q593:Q622) -> 0 | I41: =SUM('Mau A1'!R593:R622) -> 0 | J41: =SUM('Mau A1'!T593:T622) -> 0 | K41: =SUM('Mau A1'!V593:V622) -> 0 | L41: =SUM('Mau A1'!X593:X622) -> 0 | M41: =SUM('Mau A1'!Y593:Y622) -> 0 | N41: =SUM('Mau A1'!Z593:Z622) -> 0 | O41: =SUM('Mau A1'!AA593:AA622) -> 0 | P41: =SUM('Mau A1'!AC593:AC622) -> 0 | Q41: =SUM('Mau A1'!AB593:AB622) -> 0 | R41: =ROUND(IF(AND(0<M41<200,0<(M41-Q41)<200,N41>=0,O41>=0),M41-Q41,IF(OR(AND(P41>0,P41>200),(P41-Q41)>200),"200",IF(OR(AND(N41<=0,O41=0,P41<200),AND(N41=0,O41<0,P41<200),AND(N41<0,O41<0,P41<200)),P41-Q41, ))),1) -> 0 | S41: =ROUND(IF(AND(N41>0,O41>0,M41<=0,R41=0),P41-Q41,IF(AND(P41>0,R41=200),P41-Q41-R41, )),1) -> 0 | T41: =ROUND(IF(SUM(M41:O41)-Q41<0,SUM(M41:O41)-Q41, ),1) -> 0
...

Sheet LHP
A1: STT | G1: HK | H1: Giảng viên | I1: SỐ LƯỢNG
A2: 1 | F2: =B588&E588 -> 04100001080115TC-QTM | G2: 1 | H2: Bùi Văn Dũng | I2: 13
A3: 2 | F3: =B589&E589 -> 04100007360215TC-QTM | G3: 1 | H3: Đào Anh Tuấn | I3: 33
A4: 3 | F4: =B590&E590 -> 04100009230115TC-QTM | G4: 1 | H4: Nguyễn Khoa | I4: 13
A5: 4 | F5: =B591&E591 -> 04100009240115TC-QTM | G5: 1 | H5: Nguyễn Sanh Cường | I5: 13
A6: 5 | F6: =B592&E592 -> 02040015660117C2-QTM1 | G6: 1 | H6: Đỗ Thị Hải Yến | I6: 13
A7: 6 | F7: =B593&E593 -> 04100009260115TC-QTM | G7: 1 | H7: Nguyễn Nguyên Hoàng Ngọc Quyên | I7: 13
A8: 7 | F8: =B594&E594 -> 04100009270115TC-QTM | G8: 1 | H8: Nguyễn Ngọc Tuyên | I8: 13
A9: 8 | F9: =B595&E595 -> 04100009280115TC-QTM | G9: 1 | H9: Đặng Ngọc Đoàn, Dương Ngọc Vọng | I9: 13
A10: 9 | F10: =B596&E596 -> 04100009290115TC-QTM | G10: 1 | H10: Dương Ngọc Vọng | I10: 13
A11: 10 | F11: =B597&E597 -> 05060011120115TCN-Đ | G11: 1 | H11: Nguyễn Anh Kiệt | I11: 47
A12: 11 | F12: =B598&E598 -> 05060011130115TCN-Đ | G12: 1 | H12: Nguyễn Hồng Đức | I12: 21
A13: 12 | F13: =B599&E599 -> 05060011140115TCN-Đ | G13: 1 | H13: Quách Minh Thử | I13: 21
... A15: 14 | F15: =B601&E601 -> 05060011160115TCN-Đ | G15: 1 | H15: Trần Công Tiến | I15: 21
A16: 15 | F16: =B602&E602 -> 05060011110115TCN-Đ | G16: 1 | I16: 47
A17: 16 | F17: =B603&E603 -> 05060011190115TCN-ĐT | G17: 1 | H17: Nguyễn Hồng Đức | I17: 26
A18: 17 | F18: =B604&E604 -> 05060011200115TCN-ĐT | G18: 1 | H18: Bốc Minh Trí | I18: 26
A19: 18 | F19: =B605&E605 -> 05060011610115TCN-ĐT | G19: 1 | H19: Huỳnh Ngọc Mai | I19: 26
A20: 19 | F20: =B606&E606 -> 05060011620115TCN-ĐT | G20: 1 | H20: Nguyễn Thị Tố Nga | I20: 26
A21: 20 | F21: =B607&E607 -> 05060011630115TCN-ĐT | G21: 1 | H21: Nguyễn Minh Đức(A) | I21: 26
A22: 21 | F22: =B608&E608 -> 05060011740115TCN-LĐL | G22: 1 | H22: Phan Văn Hòa | I22: 31
A23: 22 | F23: =B609&E609 -> 05060011760115TCN-LĐL | G23: 1 | H23: Đinh Đồng Hiệp | I23: 31
A24: 23 | F24: =B610&E610 -> 05060011770115TCN-LĐL | G24: 1 | H24: Đặng Thế Huân | I24: 31
A25: 24 | F25: =B611&E611 -> 05060011720115TCN-LĐL | G25: 1 | H25: Nguyễn Hồng Đức | I25: 31
A26: 25 | F26: =B612&E612 -> 05060011750115TCN-LĐL | G26: 1 | H26: Nguyễn Vũ Xuân Thì | I26: 31
A27: 26 | F27: =B613&E613 -> 05060011120715TCN-MTT | G27: 1 | H27: Đinh Thị Huyên, Nguyễn Anh Kiệt | I27: 46
A28: 27 | F28: =B614&E614 -> 05060011570115TCN-MTT | G28: 1 | H28: Lâm Thị Phương Thùy, Nguyễn Thị Hiền | I28: 22
... A31: 30 | F31: =B617&E617 -> 05060011600115TCN-MTT | G31: 1 | H31: Chế Vân Cầm | I31: 22
A32: 31 | F32: =B618&E618 -> 05060011110715TCN-MTT | G32: 1 | I32: 46
A33: 32 | F33: =B619&E619 -> 03060011210115CĐN-QTD | G33: 1 | H33: Lê Xuân Thủy | I33: 14
A34: 33 | F34: =B620&E620 -> 03060011220115CĐN-QTD | G34: 1 | H34: Phạm Thị Gia Tâm | I34: 14
A35: 34 | F35: =B621&E621 -> 03060011230115CĐN-QTD | G35: 1 | H35: Phạm Quỳnh Như | I35: 14
A36: 35 | F36: =B622&E622 -> 03060011240115CĐN-QTD | G36: 1 | H36: Nguyễn Trọng Nghĩa | I36: 14
A37: 36 | F37: =B623&E623 -> 03060011250115CĐN-QTD | G37: 1 | H37: Trịnh Hoàng Hiệp | I37: 14
A38: 37 | F38: =B624&E624 -> 03060011260115CĐN-QTD | G38: 1 | H38: Nguyễn Trọng Nghĩa | I38: 14
A39: 38 | F39: =B625&E625 -> 03060011270115CĐN-QTD | G39: 1 | H39: Trịnh Hoàng Hiệp | I39: 14
A40: 39 | F40: =B626&E626 -> 03060011280115CĐN-QTD | G40: 1 | H40: Lê Thị Thu Thảo | I40: 14
A41: 40 | F41: =B627&E627 -> 03060011290115CĐN-QTD | G41: 1 | H41: Lữ Xuân Trang | I41: 14
A42: 41 | F42: =B628&E628 -> 03060000080116CĐN-Ô1 | G42: 1 | H42: Nguyễn Thị Thanh Tú | I42: 40
A43: 42 | F43: =B629&E629 -> 03060006350116CĐN-Ô1 | G43: 1 | H43: Hoàng Phúc Bảo | I43: 40
...

Sheet Mau A1
AB1: Mẫu A1
A2: UBND THÀNH PHỐ HỒ CHÍ MINH | V2: CỘNG HÒA XÃ HỘI CHỦ NGHĨA VIỆT NAM
A3: TRƯỜNG CAO ĐẲNG LÝ TỰ TRỌNG THÀNH PHỐ HỒ CHÍ MINH | V3: Độc lập - Tự do - Hạnh phúc
A4: BẢNG TÍNH KHỐI LƯỢNG CÔNG VIỆC CỦA GIẢNG VIÊN TRONG NĂM HỌC 2017 - 2018
A5: KHOA : ………………………………..
A7: TT | B7: Họ và Tên | E7: Môn dạy | F7: lớp dạy | G7: Học kỳ | H7: Thực hiện trong năm học | S7: Số tiết chuẩn giảng dạy | T7: Số tiết chuẩn giảng dạy còn lại | U7: Số tiết chuẩn "Học tập, bồi dưỡng chuẩn hóa, bồi dưỡng nâng cao, nghiên cứu khoa học" | V7: Số tiết chuẩn "Học tập, bồi dưỡng chuẩn hóa, bồi dưỡng nâng cao, nghiên cứu khoa học" còn lại | W7: Số tiết chuẩn "Thực tập tại doanh nghiệp hoặc cơ quan chuyên môn" | X7: Số tiết chuẩn "Thực tập tại doanh nghiệp hoặc cơ quan chuyên môn" còn lại | Y7: Số tiết thừa, thiếu giảng dạy | Z7: Số tiết thừa, thiếu "Học tập, bồi dưỡng chuẩn hóa, bồi dưỡng nâng cao, nghiên cứu khoa học" | AA7: Số tiết thừa, thiếu "Thực tập tại doanh nghiệp hoặc cơ quan chuyên môn" | AB7: Số tiết thiếu năm học 2016-2017 | AC7: Tổng số tiết thừa, thiếu năm học 2017-2018
D8: MÃ LỚP HP | H8: Chưa nhân hệ số | J8: Sĩ số LHP | K8: Hệ số | M8: Số tiết quy đổi và đã nhân hệ số | N8: Kiêm nhiệm | O8: Số tiết soạn đề, coi thi, chấm thi | P8: Tổng tiết thực hiện | Q8: Số tiết "Học tập, bồi dưỡng chuẩn hóa, bồi dưỡng nâng cao, nghiên cứu khoa học" | R8: Số tiết "Thực tập tại doanh nghiệp hoặc cơ quan chuyên môn"
H9: LT | I9: TH | J9: Chính thức và học lại | K9: LT | L9: TH
A10: (1) | B10: (2) | E10: (3) | F10: (4) | G10: (5) | H10: (6) | I10: (7) | K10: (8) | L10: (9) | M10: (10) | N10: (11) | O10: (12) | P10: (13) | Q10: (14) | R10: (15) | T10: (16) | V10: (17) | X10: (18) | Y10: (19) | Z10: (20) | AA10: (21) | AB10: (22) | AC10: (23)
A11: 1 | B11: Nguyễn Vân | C11: Giang | D11: 020200001807 | E11: Cấu trúc dữ liệu và giải thuật | F11: 16CĐ-TW2 | G11: 1 | I11: 30 | J11: 44 | K11: =IF(OR(LEFT(E11,2)="ĐA",LEFT(E11,2)="DA",LEFT(E11,5)="Đồ án",LEFT(E11,5)="Đồán ",LEFT(E11,9)="Sinh hoạt",LEFT(E11,9)="sinh hoạt",LEFT(E11,6)="Cố vấn",LEFT(E11,6)="cố vấn",LEFT(E11,4)="cvht",LEFT(E11,4)="CVHT",LEFT(E11,4)="shcn",LEFT(E11,4)="SHCN"),0,(IF(AND(H11>0,J11>0),IF(J11>60,1.3,IF(J11>35,1.2,1)),0))) -> 0 | L11: =IF(OR(LEFT(E11,2)="ĐA",LEFT(E11,2)="DA",LEFT(E11,5)="Đồ án",LEFT(E11,5)="Đồán "),0,IF(AND(J11>0,I11>0),IF(AND(OR(LEFT(E11,4)="GDQP",LEFT(E11,4)="gdqp",LEFT(E11,19)="Giáo dục quốc phòng"),J11>50),1.3,IF(J11>35,1.2,IF(J11>29,1.1,1))),0)) -> 1.2 | M11: =ROUND(IF(OR(LEFT(E11,2)="ĐA",LEFT(E11,2)="DA",LEFT(E11,5)="Đồ án",LEFT(E11,5)="Đồán "),J11*0.5,(IF(H11>0,H11*K11,"0")+IF(I11>0,(I11*0.75)*L11,"0"))),1) -> 27 | N11: 157.5 | O11: 0 | P11: =SUM(M11:M22)+N11+O11 -> 750.9 | Q11: 21.4 | R11: 51.8 | S11: 450 | T11: 450 | U11: 112 | V11: 112 | W11: 56 | X11: 56 | Y11: =ROUND((P11-T11),1) -> 300.9 | Z11: =IF(OR(SUM(V11:V22)="",SUM(Q11:Q22)=""),0,IF(OR(SUM(U11:U22)=320,SUM(V11:V22)>0),ROUND((SUM(Q11:Q22)-SUM(V11:V22)),1),0)) -> -90.6 | AA11: =IF(OR(SUM(X11:X22)="",SUM(R11:R22)=""),0,IF(OR(SUM(W11:W22)=160,SUM(X11:X22)>0),ROUND((SUM(R11:R22)-SUM(X11:X22)),1),0)) -> -4.2 | AC11: =SUM(Y11:AA22) -> 206.1
D12: 020200093701 | E12: Cấu trúc dữ liệu và giải thuật | F12: 16CĐ-TP1 | G12: 1 | H12: 45 | I12: 30 | J12: 49 | K12: =IF(OR(LEFT(E12,2)="ĐA",LEFT(E12,2)="DA",LEFT(E12,5)="Đồ án",LEFT(E12,5)="Đồán ",LEFT(E12,9)="Sinh hoạt",LEFT(E12,9)="sinh hoạt",LEFT(E12,6)="Cố vấn",LEFT(E12,6)="cố vấn",LEFT(E12,4)="cvht",LEFT(E12,4)="CVHT",LEFT(E12,4)="shcn",LEFT(E12,4)="SHCN"),0,(IF(AND(H12>0,J12>0),IF(J12>60,1.3,IF(J12>35,1.2,1)),0))) -> 1.2 | L12: =IF(OR(LEFT(E12,2)="ĐA",LEFT(E12,2)="DA",LEFT(E12,5)="Đồ án",LEFT(E12,5)="Đồán "),0,IF(AND(J12>0,I12>0),IF(AND(OR(LEFT(E12,4)="GDQP",LEFT(E12,4)="gdqp",LEFT(E12,19)="Giáo dục quốc phòng"),J12>50),1.3,IF(J12>35,1.2,IF(J12>29,1.1,1))),0)) -> 1.2 | M12: =ROUND(IF(OR(LEFT(E12,2)="ĐA",LEFT(E12,2)="DA",LEFT(E12,5)="Đồ án",LEFT(E12,5)="Đồán "),J12*0.5,(IF(H12>0,H12*K12,"0")+IF(I12>0,(I12*0.75)*L12,"0"))),1) -> 81
D13: 020200093702 | E13: Cấu trúc dữ liệu và giải thuật | F13: 16CĐ-TP2 | G13: 1 | H13: 45 | I13: 30 | J13: 43 | K13: =IF(OR(LEFT(E13,2)="ĐA",LEFT(E13,2)="DA",LEFT(E13,5)="Đồ án",LEFT(E13,5)="Đồán ",LEFT(E13,9)="Sinh hoạt",LEFT(E13,9)="sinh hoạt",LEFT(E13,6)="Cố vấn",LEFT(E13,6)="cố vấn",LEFT(E13,4)="cvht",LEFT(E13,4)="CVHT",LEFT(E13,4)="shcn",LEFT(E13,4)="SHCN"),0,(IF(AND(H13>0,J13>0),IF(J13>60,1.3,IF(J13>35,1.2,1)),0))) -> 1.2 | L13: =IF(OR(LEFT(E13,2)="ĐA",LEFT(E13,2)="DA",LEFT(E13,5)="Đồ án",LEFT(E13,5)="Đồán "),0,IF(AND(J13>0,I13>0),IF(AND(OR(LEFT(E13,4)="GDQP",LEFT(E13,4)="gdqp",LEFT(E13,19)="Giáo dục quốc phòng"),J13>50),1.3,IF(J13>35,1.2,IF(J13>29,1.1,1))),0)) -> 1.2 | M13: =ROUND(IF(OR(LEFT(E13,2)="ĐA",LEFT(E13,2)="DA",LEFT(E13,5)="Đồ án",LEFT(E13,5)="Đồán "),J13*0.5,(IF(H13>0,H13*K13,"0")+IF(I13>0,(I13*0.75)*L13,"0"))),1) -> 81
D14: 50600084401 | E14: Cấu trúc dữ liệu và giải thuật (Lý thuyết) | F14: 16TCN-QTM1 | G14: 2 | H14: 34 | J14: 56 | K14: =IF(OR(LEFT(E14,2)="ĐA",LEFT(E14,2)="DA",LEFT(E14,5)="Đồ án",LEFT(E14,5)="Đồán ",LEFT(E14,9)="Sinh hoạt",LEFT(E14,9)="sinh hoạt",LEFT(E14,6)="Cố vấn",LEFT(E14,6)="cố vấn",LEFT(E14,4)="cvht",LEFT(E14,4)="CVHT",LEFT(E14,4)="shcn",LEFT(E14,4)="SHCN"),0,(IF(AND(H14>0,J14>0),IF(J14>60,1.3,IF(J14>35,1.2,1)),0))) -> 1.2 | L14: =IF(OR(LEFT(E14,2)="ĐA",LEFT(E14,2)="DA",LEFT(E14,5)="Đồ án",LEFT(E14,5)="Đồán "),0,IF(AND(J14>0,I14>0),IF(AND(OR(LEFT(E14,4)="GDQP",LEFT(E14,4)="gdqp",LEFT(E14,19)="Giáo dục quốc phòng"),J14>50),1.3,IF(J14>35,1.2,IF(J14>29,1.1,1))),0)) -> 0 | M14: =ROUND(IF(OR(LEFT(E14,2)="ĐA",LEFT(E14,2)="DA",LEFT(E14,5)="Đồ án",LEFT(E14,5)="Đồán "),J14*0.5,(IF(H14>0,H14*K14,"0")+IF(I14>0,(I14*0.75)*L14,"0"))),1) -> 40.8
D15: 50600084401 | E15: Cấu trúc dữ liệu và giải thuật (TH Nhóm 1) | F15: 16TCN-QTM1 | G15: 2 | I15: 26 | J15: 28 | K15: =IF(OR(LEFT(E15,2)="ĐA",LEFT(E15,2)="DA",LEFT(E15,5)="Đồ án",LEFT(E15,5)="Đồán ",LEFT(E15,9)="Sinh hoạt",LEFT(E15,9)="sinh hoạt",LEFT(E15,6)="Cố vấn",LEFT(E15,6)="cố vấn",LEFT(E15,4)="cvht",LEFT(E15,4)="CVHT",LEFT(E15,4)="shcn",LEFT(E15,4)="SHCN"),0,(IF(AND(H15>0,J15>0),IF(J15>60,1.3,IF(J15>35,1.2,1)),0))) -> 0 | L15: =IF(OR(LEFT(E15,2)="ĐA",LEFT(E15,2)="DA",LEFT(E15,5)="Đồ án",LEFT(E15,5)="Đồán "),0,IF(AND(J15>0,I15>0),IF(AND(OR(LEFT(E15,4)="GDQP",LEFT(E15,4)="gdqp",LEFT(E15,19)="Giáo dục quốc phòng"),J15>50),1.3,IF(J15>35,1.2,IF(J15>29,1.1,1))),0)) -> 1 | M15: =ROUND(IF(OR(LEFT(E15,2)="ĐA",LEFT(E15,2)="DA",LEFT(E15,5)="Đồ án",LEFT(E15,5)="Đồán "),J15*0.5,(IF(H15>0,H15*K15,"0")+IF(I15>0,(I15*0.75)*L15,"0"))),1) -> 19.5
D16: 50600084401 | E16: Cấu trúc dữ liệu và giải thuật (TH Nhóm 2) | F16: 16TCN-QTM1 | G16: 2 | I16: 26 | J16: 28 | K16: =IF(OR(LEFT(E16,2)="ĐA",LEFT(E16,2)="DA",LEFT(E16,5)="Đồ án",LEFT(E16,5)="Đồán ",LEFT(E16,9)="Sinh hoạt",LEFT(E16,9)="sinh hoạt",LEFT(E16,6)="Cố vấn",LEFT(E16,6)="cố vấn",LEFT(E16,4)="cvht",LEFT(E16,4)="CVHT",LEFT(E16,4)="shcn",LEFT(E16,4)="SHCN"),0,(IF(AND(H16>0,J16>0),IF(J16>60,1.3,IF(J16>35,1.2,1)),0))) -> 0 | L16: =IF(OR(LEFT(E16,2)="ĐA",LEFT(E16,2)="DA",LEFT(E16,5)="Đồ án",LEFT(E16,5)="Đồán "),0,IF(AND(J16>0,I16>0),IF(AND(OR(LEFT(E16,4)="GDQP",LEFT(E16,4)="gdqp",LEFT(E16,19)="Giáo dục quốc phòng"),J16>50),1.3,IF(J16>35,1.2,IF(J16>29,1.1,1))),0)) -> 1 | M16: =ROUND(IF(OR(LEFT(E16,2)="ĐA",LEFT(E16,2)="DA",LEFT(E16,5)="Đồ án",LEFT(E16,5)="Đồán "),J16*0.5,(IF(H16>0,H16*K16,"0")+IF(I16>0,(I16*0.75)*L16,"0"))),1) -> 19.5
D17: 50600084402 | E17: Cấu trúc dữ liệu và giải thuật | F17: 16TCN-QTM2 | G17: 2 | H17: 38 | I17: 20 | J17: 50 | K17: =IF(OR(LEFT(E17,2)="ĐA",LEFT(E17,2)="DA",LEFT(E17,5)="Đồ án",LEFT(E17,5)="Đồán ",LEFT(E17,9)="Sinh hoạt",LEFT(E17,9)="sinh hoạt",LEFT(E17,6)="Cố vấn",LEFT(E17,6)="cố vấn",LEFT(E17,4)="cvht",LEFT(E17,4)="CVHT",LEFT(E17,4)="shcn",LEFT(E17,4)="SHCN"),0,(IF(AND(H17>0,J17>0),IF(J17>60,1.3,IF(J17>35,1.2,1)),0))) -> 1.2 | L17: =IF(OR(LEFT(E17,2)="ĐA",LEFT(E17,2)="DA",LEFT(E17,5)="Đồ án",LEFT(E17,5)="Đồán "),0,IF(AND(J17>0,I17>0),IF(AND(OR(LEFT(E17,4)="GDQP",LEFT(E17,4)="gdqp",LEFT(E17,19)="Giáo dục quốc phòng"),J17>50),1.3,IF(J17>35,1.2,IF(J17>29,1.1,1))),0)) -> 1.2 | M17: =ROUND(IF(OR(LEFT(E17,2)="ĐA",LEFT(E17,2)="DA",LEFT(E17,5)="Đồ án",LEFT(E17,5)="Đồán "),J17*0.5,(IF(H17>0,H17*K17,"0")+IF(I17>0,(I17*0.75)*L17,"0"))),1) -> 63.6
D18: 50600084402 | E18: Cấu trúc dữ liệu và giải thuật (TH nhóm 1) | F18: 16TCN-QTM2 | G18: 2 | I18: 6 | J18: 25 | K18: =IF(OR(LEFT(E18,2)="ĐA",LEFT(E18,2)="DA",LEFT(E18,5)="Đồ án",LEFT(E18,5)="Đồán ",LEFT(E18,9)="Sinh hoạt",LEFT(E18,9)="sinh hoạt",LEFT(E18,6)="Cố vấn",LEFT(E18,6)="cố vấn",LEFT(E18,4)="cvht",LEFT(E18,4)="CVHT",LEFT(E18,4)="shcn",LEFT(E18,4)="SHCN"),0,(IF(AND(H18>0,J18>0),IF(J18>60,1.3,IF(J18>35,1.2,1)),0))) -> 0 | L18: =IF(OR(LEFT(E18,2)="ĐA",LEFT(E18,2)="DA",LEFT(E18,5)="Đồ án",LEFT(E18,5)="Đồán "),0,IF(AND(J18>0,I18>0),IF(AND(OR(LEFT(E18,4)="GDQP",LEFT(E18,4)="gdqp",LEFT(E18,19)="Giáo dục quốc phòng"),J18>50),1.3,IF(J18>35,1.2,IF(J18>29,1.1,1))),0)) -> 1 | M18: =ROUND(IF(OR(LEFT(E18,2)="ĐA",LEFT(E18,2)="DA",LEFT(E18,5)="Đồ án",LEFT(E18,5)="Đồán "),J18*0.5,(IF(H18>0,H18*K18,"0")+IF(I18>0,(I18*0.75)*L18,"0"))),1) -> 4.5
D19: 50600084402 | E19: Cấu trúc dữ liệu và giải thuật (TH Nhóm 2) | F19: 16TCN-QTM2 | G19: 2 | I19: 6 | J19: 25 | K19: =IF(OR(LEFT(E19,2)="ĐA",LEFT(E19,2)="DA",LEFT(E19,5)="Đồ án",LEFT(E19,5)="Đồán ",LEFT(E19,9)="Sinh hoạt",LEFT(E19,9)="sinh hoạt",LEFT(E19,6)="Cố vấn",LEFT(E19,6)="cố vấn",LEFT(E19,4)="cvht",LEFT(E19,4)="CVHT",LEFT(E19,4)="shcn",LEFT(E19,4)="SHCN"),0,(IF(AND(H19>0,J19>0),IF(J19>60,1.3,IF(J19>35,1.2,1)),0))) -> 0 | L19: =IF(OR(LEFT(E19,2)="ĐA",LEFT(E19,2)="DA",LEFT(E19,5)="Đồ án",LEFT(E19,5)="Đồán "),0,IF(AND(J19>0,I19>0),IF(AND(OR(LEFT(E19,4)="GDQP",LEFT(E19,4)="gdqp",LEFT(E19,19)="Giáo dục quốc phòng"),J19>50),1.3,IF(J19>35,1.2,IF(J19>29,1.1,1))),0)) -> 1 | M19: =ROUND(IF(OR(LEFT(E19,2)="ĐA",LEFT(E19,2)="DA",LEFT(E19,5)="Đồ án",LEFT(E19,5)="Đồán "),J19*0.5,(IF(H19>0,H19*K19,"0")+IF(I19>0,(I19*0.75)*L19,"0"))),1) -> 4.5
D20: 021100094303 | E20: Kỹ thuật Lập trình | F20: 17C1-LTM1 | G20: 2 | H20: 30 | I20: 60 | J20: 49 | K20: =IF(OR(LEFT(E20,2)="ĐA",LEFT(E20,2)="DA",LEFT(E20,5)="Đồ án",LEFT(E20,5)="Đồán ",LEFT(E20,9)="Sinh hoạt",LEFT(E20,9)="sinh hoạt",LEFT(E20,6)="Cố vấn",LEFT(E20,6)="cố vấn",LEFT(E20,4)="cvht",LEFT(E20,4)="CVHT",LEFT(E20,4)="shcn",LEFT(E20,4)="SHCN"),0,(IF(AND(H20>0,J20>0),IF(J20>60,1.3,IF(J20>35,1.2,1)),0))) -> 1.2 | L20: =IF(OR(LEFT(E20,2)="ĐA",LEFT(E20,2)="DA",LEFT(E20,5)="Đồ án",LEFT(E20,5)="Đồán "),0,IF(AND(J20>0,I20>0),IF(AND(OR(LEFT(E20,4)="GDQP",LEFT(E20,4)="gdqp",LEFT(E20,19)="Giáo dục quốc phòng"),J20>50),1.3,IF(J20>35,1.2,IF(J20>29,1.1,1))),0)) -> 1.2 | M20: =ROUND(IF(OR(LEFT(E20,2)="ĐA",LEFT(E20,2)="DA",LEFT(E20,5)="Đồ án",LEFT(E20,5)="Đồán "),J20*0.5,(IF(H20>0,H20*K20,"0")+IF(I20>0,(I20*0.75)*L20,"0"))),1) -> 90
D21: 021100094403 | E21: Cấu trúc dữ liệu và giải thuật | F21: 17C1-LTM1 | G21: 2 | H21: 15 | I21: 60 | J21: 49 | K21: =IF(OR(LEFT(E21,2)="ĐA",LEFT(E21,2)="DA",LEFT(E21,5)="Đồ án",LEFT(E21,5)="Đồán ",LEFT(E21,9)="Sinh hoạt",LEFT(E21,9)="sinh hoạt",LEFT(E21,6)="Cố vấn",LEFT(E21,6)="cố vấn",LEFT(E21,4)="cvht",LEFT(E21,4)="CVHT",LEFT(E21,4)="shcn",LEFT(E21,4)="SHCN"),0,(IF(AND(H21>0,J21>0),IF(J21>60,1.3,IF(J21>35,1.2,1)),0))) -> 1.2 | L21: =IF(OR(LEFT(E21,2)="ĐA",LEFT(E21,2)="DA",LEFT(E21,5)="Đồ án",LEFT(E21,5)="Đồán "),0,IF(AND(J21>0,I21>0),IF(AND(OR(LEFT(E21,4)="GDQP",LEFT(E21,4)="gdqp",LEFT(E21,19)="Giáo dục quốc phòng"),J21>50),1.3,IF(J21>35,1.2,IF(J21>29,1.1,1))),0)) -> 1.2 | M21: =ROUND(IF(OR(LEFT(E21,2)="ĐA",LEFT(E21,2)="DA",LEFT(E21,5)="Đồ án",LEFT(E21,5)="Đồán "),J21*0.5,(IF(H21>0,H21*K21,"0")+IF(I21>0,(I21*0.75)*L21,"0"))),1) -> 72
D22: 021100094307 | E22: Kỹ thuật Lập trình | F22: 17C1-CTM2 | G22: 2 | H22: 30 | I22: 60 | J22: 50 | K22: =IF(OR(LEFT(E22,2)="ĐA",LEFT(E22,2)="DA",LEFT(E22,5)="Đồ án",LEFT(E22,5)="Đồán ",LEFT(E22,9)="Sinh hoạt",LEFT(E22,9)="sinh hoạt",LEFT(E22,6)="Cố vấn",LEFT(E22,6)="cố vấn",LEFT(E22,4)="cvht",LEFT(E22,4)="CVHT",LEFT(E22,4)="shcn",LEFT(E22,4)="SHCN"),0,(IF(AND(H22>0,J22>0),IF(J22>60,1.3,IF(J22>35,1.2,1)),0))) -> 1.2 | L22: =IF(OR(LEFT(E22,2)="ĐA",LEFT(E22,2)="DA",LEFT(E22,5)="Đồ án",LEFT(E22,5)="Đồán "),0,IF(AND(J22>0,I22>0),IF(AND(OR(LEFT(E22,4)="GDQP",LEFT(E22,4)="gdqp",LEFT(E22,19)="Giáo dục quốc phòng"),J22>50),1.3,IF(J22>35,1.2,IF(J22>29,1.1,1))),0)) -> 1.2 | M22: =ROUND(IF(OR(LEFT(E22,2)="ĐA",LEFT(E22,2)="DA",LEFT(E22,5)="Đồ án",LEFT(E22,5)="Đồán "),J22*0.5,(IF(H22>0,H22*K22,"0")+IF(I22>0,(I22*0.75)*L22,"0"))),1) -> 90
A23: 2 | B23: Nguyễn | C23: Khoa | D23: 41000092301 | E23: Lập trình quản lý | F23: 15TC-QTM | G23: 1 | H23: 45 | I23: 30 | J23: 13 | K23: =IF(OR(LEFT(E23,2)="ĐA",LEFT(E23,2)="DA",LEFT(E23,5)="Đồ án",LEFT(E23,5)="Đồán ",LEFT(E23,9)="Sinh hoạt",LEFT(E23,9)="sinh hoạt",LEFT(E23,6)="Cố vấn",LEFT(E23,6)="cố vấn",LEFT(E23,4)="cvht",LEFT(E23,4)="CVHT",LEFT(E23,4)="shcn",LEFT(E23,4)="SHCN"),0,(IF(AND(H23>0,J23>0),IF(J23>60,1.3,IF(J23>35,1.2,1)),0))) -> 1 | L23: =IF(OR(LEFT(E23,2)="ĐA",LEFT(E23,2)="DA",LEFT(E23,5)="Đồ án",LEFT(E23,5)="Đồán "),0,IF(AND(J23>0,I23>0),IF(AND(OR(LEFT(E23,4)="GDQP",LEFT(E23,4)="gdqp",LEFT(E23,19)="Giáo dục quốc phòng"),J23>50),1.3,IF(J23>35,1.2,IF(J23>29,1.1,1))),0)) -> 1 | M23: =ROUND(IF(OR(LEFT(E23,2)="ĐA",LEFT(E23,2)="DA",LEFT(E23,5)="Đồ án",LEFT(E23,5)="Đồán "),J23*0.5,(IF(H23>0,H23*K23,"0")+IF(I23>0,(I23*0.75)*L23,"0"))),1) -> 67.5 | N23: 213.8 | O23: 0 | P23: 763 | Q23: 0 | R23: 29.4 | S23: 450 | T23: 450 | U23: 112 | V23: 112 | W23: 56 | X23: 56 | Y23: 313.1 | Z23: -112 | AA23: -27 | AC23: 174.1
D24: 30600068401 | E24: Tin học ứng dụng trong kinh doanh | F24: 16CĐN-QTD | G24: 1 | H24: 31 | I24: 39 | J24: 38 | K24: =IF(OR(LEFT(E24,2)="ĐA",LEFT(E24,2)="DA",LEFT(E24,5)="Đồ án",LEFT(E24,5)="Đồán ",LEFT(E24,9)="Sinh hoạt",LEFT(E24,9)="sinh hoạt",LEFT(E24,6)="Cố vấn",LEFT(E24,6)="cố vấn",LEFT(E24,4)="cvht",LEFT(E24,4)="CVHT",LEFT(E24,4)="shcn",LEFT(E24,4)="SHCN"),0,(IF(AND(H24>0,J24>0),IF(J24>60,1.3,IF(J24>35,1.2,1)),0))) -> 1.2 | L24: =IF(OR(LEFT(E24,2)="ĐA",LEFT(E24,2)="DA",LEFT(E24,5)="Đồ án",LEFT(E24,5)="Đồán "),0,IF(AND(J24>0,I24>0),IF(AND(OR(LEFT(E24,4)="GDQP",LEFT(E24,4)="gdqp",LEFT(E24,19)="Giáo dục quốc phòng"),J24>50),1.3,IF(J24>35,1.2,IF(J24>29,1.1,1))),0)) -> 1.2 | M24: =ROUND(IF(OR(LEFT(E24,2)="ĐA",LEFT(E24,2)="DA",LEFT(E24,5)="Đồ án",LEFT(E24,5)="Đồán "),J24*0.5,(IF(H24>0,H24*K24,"0")+IF(I24>0,(I24*0.75)*L24,"0"))),1) -> 72.3
D25: 20200009803 | E25: Lập trình quản lý | F25: 16CĐ-TM1 | G25: 1 | H25: 45 | I25: 30 | J25: 46 | K25: =IF(OR(LEFT(E25,2)="ĐA",LEFT(E25,2)="DA",LEFT(E25,5)="Đồ án",LEFT(E25,5)="Đồán ",LEFT(E25,9)="Sinh hoạt",LEFT(E25,9)="sinh hoạt",LEFT(E25,6)="Cố vấn",LEFT(E25,6)="cố vấn",LEFT(E25,4)="cvht",LEFT(E25,4)="CVHT",LEFT(E25,4)="shcn",LEFT(E25,4)="SHCN"),0,(IF(AND(H25>0,J25>0),IF(J25>60,1.3,IF(J25>35,1.2,1)),0))) -> 1.2 | L25: =IF(OR(LEFT(E25,2)="ĐA",LEFT(E25,2)="DA",LEFT(E25,5)="Đồ án",LEFT(E25,5)="Đồán "),0,IF(AND(J25>0,I25>0),IF(AND(OR(LEFT(E25,4)="GDQP",LEFT(E25,4)="gdqp",LEFT(E25,19)="Giáo dục quốc phòng"),J25>50),1.3,IF(J25>35,1.2,IF(J25>29,1.1,1))),0)) -> 1.2 | M25: =ROUND(IF(OR(LEFT(E25,2)="ĐA",LEFT(E25,2)="DA",LEFT(E25,5)="Đồ án",LEFT(E25,5)="Đồán "),J25*0.5,(IF(H25>0,H25*K25,"0")+IF(I25>0,(I25*0.75)*L25,"0"))),1) -> 81
D26: 20200009804 | E26: Lập trình quản lý | F26: 16CĐ-TM2 | G26: 1 | H26: 45 | I26: 30 | J26: 42 | K26: =IF(OR(LEFT(E26,2)="ĐA",LEFT(E26,2)="DA",LEFT(E26,5)="Đồ án",LEFT(E26,5)="Đồán ",LEFT(E26,9)="Sinh hoạt",LEFT(E26,9)="sinh hoạt",LEFT(E26,6)="Cố vấn",LEFT(E26,6)="cố vấn",LEFT(E26,4)="cvht",LEFT(E26,4)="CVHT",LEFT(E26,4)="shcn",LEFT(E26,4)="SHCN"),0,(IF(AND(H26>0,J26>0),IF(J26>60,1.3,IF(J26>35,1.2,1)),0))) -> 1.2 | L26: =IF(OR(LEFT(E26,2)="ĐA",LEFT(E26,2)="DA",LEFT(E26,5)="Đồ án",LEFT(E26,5)="Đồán "),0,IF(AND(J26>0,I26>0),IF(AND(OR(LEFT(E26,4)="GDQP",LEFT(E26,4)="gdqp",LEFT(E26,19)="Giáo dục quốc phòng"),J26>50),1.3,IF(J26>35,1.2,IF(J26>29,1.1,1))),0)) -> 1.2 | M26: =ROUND(IF(OR(LEFT(E26,2)="ĐA",LEFT(E26,2)="DA",LEFT(E26,5)="Đồ án",LEFT(E26,5)="Đồán "),J26*0.5,(IF(H26>0,H26*K26,"0")+IF(I26>0,(I26*0.75)*L26,"0"))),1) -> 81
D27: 21100119922 | E27: Tin học | F27: 17C1-ĐCN3 | G27: 1 | H27: 0 | I27: 4 | J27: 37 | K27: =IF(OR(LEFT(E27,2)="ĐA",LEFT(E27,2)="DA",LEFT(E27,5)="Đồ án",LEFT(E27,5)="Đồán ",LEFT(E27,9)="Sinh hoạt",LEFT(E27,9)="sinh hoạt",LEFT(E27,6)="Cố vấn",LEFT(E27,6)="cố vấn",LEFT(E27,4)="cvht",LEFT(E27,4)="CVHT",LEFT(E27,4)="shcn",LEFT(E27,4)="SHCN"),0,(IF(AND(H27>0,J27>0),IF(J27>60,1.3,IF(J27>35,1.2,1)),0))) -> 0 | L27: =IF(OR(LEFT(E27,2)="ĐA",LEFT(E27,2)="DA",LEFT(E27,5)="Đồ án",LEFT(E27,5)="Đồán "),0,IF(AND(J27>0,I27>0),IF(AND(OR(LEFT(E27,4)="GDQP",LEFT(E27,4)="gdqp",LEFT(E27,19)="Giáo dục quốc phòng"),J27>50),1.3,IF(J27>35,1.2,IF(J27>29,1.1,1))),0)) -> 1.2 | M27: =ROUND(IF(OR(LEFT(E27,2)="ĐA",LEFT(E27,2)="DA",LEFT(E27,5)="Đồ án",LEFT(E27,5)="Đồán "),J27*0.5,(IF(H27>0,H27*K27,"0")+IF(I27>0,(I27*0.75)*L27,"0"))),1) -> 3.6
D28: 21100119946 | E28: Tin học | F28: 17C1-ĐCN4 | G28: 1 | H28: 30 | I28: 60 | J28: 45 | K28: =IF(OR(LEFT(E28,2)="ĐA",LEFT(E28,2)="DA",LEFT(E28,5)="Đồ án",LEFT(E28,5)="Đồán ",LEFT(E28,9)="Sinh hoạt",LEFT(E28,9)="sinh hoạt",LEFT(E28,6)="Cố vấn",LEFT(E28,6)="cố vấn",LEFT(E28,4)="cvht",LEFT(E28,4)="CVHT",LEFT(E28,4)="shcn",LEFT(E28,4)="SHCN"),0,(IF(AND(H28>0,J28>0),IF(J28>60,1.3,IF(J28>35,1.2,1)),0))) -> 1.2 | L28: =IF(OR(LEFT(E28,2)="ĐA",LEFT(E28,2)="DA",LEFT(E28,5)="Đồ án",LEFT(E28,5)="Đồán "),0,IF(AND(J28>0,I28>0),IF(AND(OR(LEFT(E28,4)="GDQP",LEFT(E28,4)="gdqp",LEFT(E28,19)="Giáo dục quốc phòng"),J28>50),1.3,IF(J28>35,1.2,IF(J28>29,1.1,1))),0)) -> 1.2 | M28: =ROUND(IF(OR(LEFT(E28,2)="ĐA",LEFT(E28,2)="DA",LEFT(E28,5)="Đồ án",LEFT(E28,5)="Đồán "),J28*0.5,(IF(H28>0,H28*K28,"0")+IF(I28>0,(I28*0.75)*L28,"0"))),1) -> 90
D29: 71400119904 | E29: Tin học | F29: 17T4-LTM1 | G29: 1 | H29: 30 | I29: 60 | J29: 44 | K29: =IF(OR(LEFT(E29,2)="ĐA",LEFT(E29,2)="DA",LEFT(E29,5)="Đồ án",LEFT(E29,5)="Đồán ",LEFT(E29,9)="Sinh hoạt",LEFT(E29,9)="sinh hoạt",LEFT(E29,6)="Cố vấn",LEFT(E29,6)="cố vấn",LEFT(E29,4)="cvht",LEFT(E29,4)="CVHT",LEFT(E29,4)="shcn",LEFT(E29,4)="SHCN"),0,(IF(AND(H29>0,J29>0),IF(J29>60,1.3,IF(J29>35,1.2,1)),0))) -> 1.2 | L29: =IF(OR(LEFT(E29,2)="ĐA",LEFT(E29,2)="DA",LEFT(E29,5)="Đồ án",LEFT(E29,5)="Đồán "),0,IF(AND(J29>0,I29>0),IF(AND(OR(LEFT(E29,4)="GDQP",LEFT(E29,4)="gdqp",LEFT(E29,19)="Giáo dục quốc phòng"),J29>50),1.3,IF(J29>35,1.2,IF(J29>29,1.1,1))),0)) -> 1.2 | M29: =ROUND(IF(OR(LEFT(E29,2)="ĐA",LEFT(E29,2)="DA",LEFT(E29,5)="Đồ án",LEFT(E29,5)="Đồán "),J29*0.5,(IF(H29>0,H29*K29,"0")+IF(I29>0,(I29*0.75)*L29,"0"))),1) -> 90
D30: 71400119905 | E30: Tin học | F30: 17T4-QTM1 | G30: 1 | H30: 2 | I30: 4 | J30: 45 | K30: =IF(OR(LEFT(E30,2)="ĐA",LEFT(E30,2)="DA",LEFT(E30,5)="Đồ án",LEFT(E30,5)="Đồán ",LEFT(E30,9)="Sinh hoạt",LEFT(E30,9)="sinh hoạt",LEFT(E30,6)="Cố vấn",LEFT(E30,6)="cố vấn",LEFT(E30,4)="cvht",LEFT(E30,4)="CVHT",LEFT(E30,4)="shcn",LEFT(E30,4)="SHCN"),0,(IF(AND(H30>0,J30>0),IF(J30>60,1.3,IF(J30>35,1.2,1)),0))) -> 1.2 | L30: =IF(OR(LEFT(E30,2)="ĐA",LEFT(E30,2)="DA",LEFT(E30,5)="Đồ án",LEFT(E30,5)="Đồán "),0,IF(AND(J30>0,I30>0),IF(AND(OR(LEFT(E30,4)="GDQP",LEFT(E30,4)="gdqp",LEFT(E30,19)="Giáo dục quốc phòng"),J30>50),1.3,IF(J30>35,1.2,IF(J30>29,1.1,1))),0)) -> 1.2 | M30: =ROUND(IF(OR(LEFT(E30,2)="ĐA",LEFT(E30,2)="DA",LEFT(E30,5)="Đồ án",LEFT(E30,5)="Đồán "),J30*0.5,(IF(H30>0,H30*K30,"0")+IF(I30>0,(I30*0.75)*L30,"0"))),1) -> 6
D31: 71300119902 | E31: Tin học | F31: 17T4-QTM2 | G31: 1 | H31: 10 | I31: 20 | J31: 43 | K31: =IF(OR(LEFT(E31,2)="ĐA",LEFT(E31,2)="DA",LEFT(E31,5)="Đồ án",LEFT(E31,5)="Đồán ",LEFT(E31,9)="Sinh hoạt",LEFT(E31,9)="sinh hoạt",LEFT(E31,6)="Cố vấn",LEFT(E31,6)="cố vấn",LEFT(E31,4)="cvht",LEFT(E31,4)="CVHT",LEFT(E31,4)="shcn",LEFT(E31,4)="SHCN"),0,(IF(AND(H31>0,J31>0),IF(J31>60,1.3,IF(J31>35,1.2,1)),0))) -> 1.2 | L31: =IF(OR(LEFT(E31,2)="ĐA",LEFT(E31,2)="DA",LEFT(E31,5)="Đồ án",LEFT(E31,5)="Đồán "),0,IF(AND(J31>0,I31>0),IF(AND(OR(LEFT(E31,4)="GDQP",LEFT(E31,4)="gdqp",LEFT(E31,19)="Giáo dục quốc phòng"),J31>50),1.3,IF(J31>35,1.2,IF(J31>29,1.1,1))),0)) -> 1.2 | M31: =ROUND(IF(OR(LEFT(E31,2)="ĐA",LEFT(E31,2)="DA",LEFT(E31,5)="Đồ án",LEFT(E31,5)="Đồán "),J31*0.5,(IF(H31>0,H31*K31,"0")+IF(I31>0,(I31*0.75)*L31,"0"))),1) -> 30
