Workbook

Sheet Hướng dẫn
A1: HƯỚNG DẪN CHUNG CHO BỘ BIỂU MẪU TÍNH KHỐI LƯỢNG GIẢNG VIÊN
A2: I. YÊU CẦU BẮT BUỘC
A3: - Các dữ liệu của bộ biểu mẫu phải được ghép lại thành 1 file excel duy nhất, trong đó từng sheet là một mẫu tính khác nhau.
A4: - Trong các bảng tổng hợp mẫu A1,2: thứ tự tên GV giữa các bảng tính giống nhau.
A5: - Học phần: Giáo dục thể chất phải được viết tắt thành GDTC
A6: - Công tác: Cố vấn học tập hoặc Sinh hoạt chủ nhiệm --> Viết đúng tên hoặc có thể được viết tắt thành CVHT, SHCN. Cột sĩ số: để trống
A7: - Tên lớp giảng dạy: không được có khoảng trống giữa các ký tự. VD: 15CĐ-Ô5 là đúng, 15 CĐ-Ô5 là sai.
A8: - Dữ liệu minh họa cách tính: Phải mở cột ẩn và xóa các dữ liệu minh họa trong file Phòng TS-ĐT gửi để đảm bảo tính chính xác dữ liệu trước khi dán dữ liệu hoặc in các bảng tính.
A9: - Các cột được tô màu (D, J, S, U, W): Điền đầy đủ thông tin. Phải ẩn (Hide) trước khi in.
A10: II. BỘ MẪU A
A11: + Mẫu A1: Bảng tính khối lượng công việc của Giảng viên trong năm học.
A12: Từ dự kiến khối lượng công việc của Giảng viên trong năm học 2017-2018 Phòng TS-ĐT đã gửi mẫu cho các khoa: Coppy dữ liệu khoa đã có sẳn dán vào các cột (2), cột D, cột (6), (7), cột J, cột (11), (12), (14), (15), cột S, cột (16), cột U, cột (17), cột W, cột (18) và cột (22) nếu có
... A41: LƯU Ý: Trong quá trình thao tác trên các biểu mẫu, nếu có thắc mắc xin liên hệ qua địa chỉ egov hoặc Phòng Tuyển sinh - Đào tạo

Sheet Mau A2
Q1: Mẫu A2
A2: UBND THÀNH PHỐ HỒ CHÍ MINH | K2: CỘNG HÒA XÃ HỘI CHỦ NGHĨA VIỆT NAM
A3: TRƯỜNG CAO ĐẲNG LÝ TỰ TRỌNG THÀNH PHỐ HỒ CHÍ MINH | K3: Độc lập - Tự do - Hạnh phúc
A4: BẢNG TỔNG KẾT KHỐI LƯỢNG CÔNG VIỆC CỦA GIẢNG VIÊN TRONG NĂM HỌC 2017 - 2018
A5: KHOA : ………………………………..
A7: TT | B7: Họ và Tên | D7: Thực hiện trong năm học | J7: Số tiết chuẩn giảng dạy cả năm còn lại | K7: Số tiết chuẩn "Học tập, bồi dưỡng chuẩn hóa, bồi dưỡng nâng cao, nghiên cứu khoa học" còn lại | L7: Số tiết chuẩn "Thực tập tại doanh nghiệp hoặc cơ quan chuyên môn" còn lại | M7: Số tiết thừa, thiếu giảng dạy | N7: Số tiết thừa, thiếu "Học tập, bồi dưỡng chuẩn hóa, bồi dưỡng nâng cao, nghiên cứu khoa học" | O7: Số tiết thừa, thiếu "Thực tập tại doanh nghiệp hoặc cơ quan chuyên môn" | P7: Tổng số tiết thừa, thiếu năm học 2017-2018 | Q7: Số tiết thiếu năm học 2016-2017 | R7: Tổng số tiết thừa, thiếu (sau khi cộng số tiết thiếu năm học 2016-2017)
D8: Số tiết quy đổi và đã nhân hệ số | E8: Kiêm nhiệm | F8: Số tiết soạn đề, coi thi, chấm thi | G8: Tổng tiết thực hiện | H8: Số tiết "Học tập, bồi dưỡng chuẩn hóa, bồi dưỡng nâng cao, nghiên cứu khoa học" | I8: Số tiết "Thực tập tại doanh nghiệp hoặc cơ quan chuyên môn"
R9: Khối lượng vượt giờ (tính phụ trội) | S9: Khối lượng thỉnh giảng (tiết thỉnh giảng) | T9: Số tiết thiếu năm học 2017-2018
A10: (1) | B10: (2) | D10: (3) | E10: (4) | F10: (5) | G10: (6) | H10: (7) | I10: (8) | J10: (9) | K10: (10) | L10: (11) | M10: (12) | N10: (13) | O10: (14) | Q10: (15) | R10: (16) | S10: (17) | T10: (18)
A11: 1 | B11: =IF('Mau A1'!B11="","",'Mau A1'!B11) -> Nguyễn Vân | C11: =IF('Mau A1'!C11="","",'Mau A1'!C11) -> Giang | D11: =SUM('Mau A1'!M11:M22) -> 593.4 | E11: =SUM('Mau A1'!N11:N22) -> 157.5 | F11: =SUM('Mau A1'!O11:O22) -> 0 | G11: =SUM('Mau A1'!P11:P22) -> 750.9 | H11: =SUM('Mau A1'!Q11:Q22) -> 21.4 | I11: =SUM('Mau A1'!R11:R22) -> 51.8 | J11: =SUM('Mau A1'!T11:T22) -> 450 | K11: =SUM('Mau A1'!V11:V22) -> 112 | L11: =SUM('Mau A1'!X11:X22) -> 56 | M11: =SUM('Mau A1'!Y11:Y22) -> 300.9 | N11: =SUM('Mau A1'!Z11:Z22) -> -90.6 | O11: =SUM('Mau A1'!AA11:AA22) -> -4.2 | P11: =SUM('Mau A1'!AC11:AC22) -> 206.1 | Q11: =SUM('Mau A1'!AB11:AB22) -> 0 | R11: =ROUND(IF(AND(0<M11<200,0<(M11-Q11)<200,N11>=0,O11>=0),M11-Q11,IF(OR(AND(P11>0,P11>200),(P11-Q11)>200),"200",IF(OR(AND(N11<=0,O11=0,P11<200),AND(N11=0,O11<0,P11<200),AND(N11<0,O11<0,P11<200)),P11-Q11, ))),1) -> 200 | S11: =ROUND(IF(AND(N11>0,O11>0,M11<=0,R11=0),P11-Q11,IF(AND(P11>0,R11=200),P11-Q11-R11, )),1) -> 6.1 | T11: =ROUND(IF(SUM(M11:O11)-Q11<0,SUM(M11:O11)-Q11, ),1) -> 0
A12: 2 | B12: =IF('Mau A1'!B23="","",'Mau A1'!B23) -> Nguyễn | C12: =IF('Mau A1'!C23="","",'Mau A1'!C23) -> Khoa | D12: =SUM('Mau A1'!M23:M33) -> 567 | E12: =SUM('Mau A1'!N23:N33) -> 213.8 | F12: =SUM('Mau A1'!O23:O33) -> 0 | G12: =SUM('Mau A1'!P23:P33) -> 763 | H12: =SUM('Mau A1'!Q23:Q33) -> 0 | I12: =SUM('Mau A1'!R23:R33) -> 29.4 | J12: =SUM('Mau A1'!T23:T33) -> 450 | K12: =SUM('Mau A1'!V23:V33) -> 112 | L12: =SUM('Mau A1'!X23:X33) -> 56 | M12: =SUM('Mau A1'!Y23:Y33) -> 313.1 | N12: =SUM('Mau A1'!Z23:Z33) -> -112 | O12: =SUM('Mau A1'!AA23:AA33) -> -27 | P12: =SUM('Mau A1'!AC23:AC33) -> 174.1 | Q12: =SUM('Mau A1'!AB23:AB33) -> 0 | R12: =ROUND(IF(AND(0<M12<200,0<(M12-Q12)<200,N12>=0,O12>=0),M12-Q12,IF(OR(AND(P12>0,P12>200),(P12-Q12)>200),"200",IF(OR(AND(N12<=0,O12=0,P12<200),AND(N12=0,O12<0,P12<200),AND(N12<0,O12<0,P12<200)),P12-Q12, ))),1) -> 174.1 | S12: =ROUND(IF(AND(N12>0,O12>0,M12<=0,R12=0),P12-Q12,IF(AND(P12>0,R12=200),P12-Q12-R12, )),1) -> 0 | T12: =ROUND(IF(SUM(M12:O12)-Q12<0,SUM(M12:O12)-Q12, ),1) -> 0
A13: 3 | B13: =IF('Mau A1'!B34="","",'Mau A1'!B34) -> Nguyễn Văn | C13: =IF('Mau A1'!C34="","",'Mau A1'!C34) -> Minh | D13: =SUM('Mau A1'!M34:M44) -> 735.6 | E13: =SUM('Mau A1'!N34:N44) -> 37.5 | F13: =SUM('Mau A1'!O34:O44) -> 0 | G13: =SUM('Mau A1'!P34:P44) -> 773.1 | H13: =SUM('Mau A1'!Q34:Q44) -> 0 | I13: =SUM('Mau A1'!R34:R44) -> 37.8 | J13: =SUM('Mau A1'!T34:T44) -> 450 | K13: =SUM('Mau A1'!V34:V44) -> 112 | L13: =SUM('Mau A1'!X34:X44) -> 56 | M13: =SUM('Mau A1'!Y34:Y44) -> 323.1 | N13: =SUM('Mau A1'!Z34:Z44) -> -112 | O13: =SUM('Mau A1'!AA34:AA44) -> -18.2 | P13: =SUM('Mau A1'!AC34:AC44) -> 192.9 | Q13: =SUM('Mau A1'!AB34:AB44) -> 0 | R13: =ROUND(IF(AND(0<M13<200,0<(M13-Q13)<200,N13>=0,O13>=0),M13-Q13,IF(OR(AND(P13>0,P13>200),(P13-Q13)>200),"200",IF(OR(AND(N13<=0,O13=0,P13<200),AND(N13=0,O13<0,P13<200),AND(N13<0,O13<0,P13<200)),P13-Q13, ))),1) -> 192.9 | S13: =ROUND(IF(AND(N13>0,O13>0,M13<=0,R13=0),P13-Q13,IF(AND(P13>0,R13=200),P13-Q13-R13, )),1) -> 0 | T13: =ROUND(IF(SUM(M13:O13)-Q13<0,SUM(M13:O13)-Q13, ),1) -> 0
A14: 4 | B14: =IF('Mau A1'!B45="","",'Mau A1'!B45) -> Vũ Thị Thái | C14: =IF('Mau A1'!C45="","",'Mau A1'!C45) -> Linh | D14: =SUM('Mau A1'!M45:M63) -> 603.8 | E14: =SUM('Mau A1'!N45:N63) -> 139.5 | F14: =SUM('Mau A1'!O45:O63) -> 0 | G14: =SUM('Mau A1'!P45:P63) -> 743.3 | H14: =SUM('Mau A1'!Q45:Q63) -> 0 | I14: =SUM('Mau A1'!R45:R63) -> 39.9 | J14: =SUM('Mau A1'!T45:T63) -> 450 | K14: =SUM('Mau A1'!V45:V63) -> 112 | L14: =SUM('Mau A1'!X45:X63) -> 56 | M14: =SUM('Mau A1'!Y45:Y63) -> 293.3 | N14: =SUM('Mau A1'!Z45:Z63) -> -112 | O14: =SUM('Mau A1'!AA45:AA63) -> -16.1 | P14: =SUM('Mau A1'!AC45:AC63) -> 165.2 | Q14: =SUM('Mau A1'!AB45:AB63) -> 0 | R14: =ROUND(IF(AND(0<M14<200,0<(M14-Q14)<200,N14>=0,O14>=0),M14-Q14,IF(OR(AND(P14>0,P14>200),(P14-Q14)>200),"200",IF(OR(AND(N14<=0,O14=0,P14<200),AND(N14=0,O14<0,P14<200),AND(N14<0,O14<0,P14<200)),P14-Q14, ))),1) -> 165.2 | S14: =ROUND(IF(AND(N14>0,O14>0,M14<=0,R14=0),P14-Q14,IF(AND(P14>0,R14=200),P14-Q14-R14, )),1) -> 0 | T14: =ROUND(IF(SUM(M14:O14)-Q14<0,SUM(M14:O14)-Q14, ),1) -> 0
A15: 5 | B15: =IF('Mau A1'!B64="","",'Mau A1'!B64) -> Nguyễn Văn | C15: =IF('Mau A1'!C64="","",'Mau A1'!C64) -> Danh | D15: =SUM('Mau A1'!M64:M82) -> 706.9 | E15: =SUM('Mau A1'!N64:N82) -> 67.5 | F15: =SUM('Mau A1'!O64:O82) -> 0 | G15: =SUM('Mau A1'!P64:P82) -> 774.4 | H15: =SUM('Mau A1'!Q64:Q82) -> 0 | I15: =SUM('Mau A1'!R64:R82) -> 38.5 | J15: =SUM('Mau A1'!T64:T82) -> 450 | K15: =SUM('Mau A1'!V64:V82) -> 112 | L15: =SUM('Mau A1'!X64:X82) -> 56 | M15: =SUM('Mau A1'!Y64:Y82) -> 324.4 | N15: =SUM('Mau A1'!Z64:Z82) -> -112 | O15: =SUM('Mau A1'!AA64:AA82) -> -17.5 | P15: =SUM('Mau A1'!AC64:AC82) -> 194.9 | Q15: =SUM('Mau A1'!AB64:AB82) -> 0 | R15: =ROUND(IF(AND(0<M15<200,0<(M15-Q15)<200,N15>=0,O15>=0),M15-Q15,IF(OR(AND(P15>0,P15>200),(P15-Q15)>200),"200",IF(OR(AND(N15<=0,O15=0,P15<200),AND(N15=0,O15<0,P15<200),AND(N15<0,O15<0,P15<200)),P15-Q15, ))),1) -> 194.9 | S15: =ROUND(IF(AND(N15>0,O15>0,M15<=0,R15=0),P15-Q15,IF(AND(P15>0,R15=200),P15-Q15-R15, )),1) -> 0 | T15: =ROUND(IF(SUM(M15:O15)-Q15<0,SUM(M15:O15)-Q15, ),1) -> 0
A16: 6 | B16: =IF('Mau A1'!B83="","",'Mau A1'!B83) -> Nguyễn Thị | C16: =IF('Mau A1'!C83="","",'Mau A1'!C83) -> Thủy | D16: =SUM('Mau A1'!M83:M98) -> 707.8 | E16: =SUM('Mau A1'!N83:N98) -> 67.5 | F16: =SUM('Mau A1'!O83:O98) -> 0 | G16: =SUM('Mau A1'!P83:P98) -> 775.3 | H16: =SUM('Mau A1'!Q83:Q98) -> 0 | I16: =SUM('Mau A1'!R83:R98) -> 53.2 | J16: =SUM('Mau A1'!T83:T98) -> 450 | K16: =SUM('Mau A1'!V83:V98) -> 112 | L16: =SUM('Mau A1'!X83:X98) -> 56 | M16: =SUM('Mau A1'!Y83:Y98) -> 325.3 | N16: =SUM('Mau A1'!Z83:Z98) -> -112 | O16: =SUM('Mau A1'!AA83:AA98) -> -2.8 | P16: =SUM('Mau A1'!AC83:AC98) -> 210.5 | Q16: =SUM('Mau A1'!AB83:AB98) -> 0 | R16: =ROUND(IF(AND(0<M16<200,0<(M16-Q16)<200,N16>=0,O16>=0),M16-Q16,IF(OR(AND(P16>0,P16>200),(P16-Q16)>200),"200",IF(OR(AND(N16<=0,O16=0,P16<200),AND(N16=0,O16<0,P16<200),AND(N16<0,O16<0,P16<200)),P16-Q16, ))),1) -> 200 | S16: =ROUND(IF(AND(N16>0,O16>0,M16<=0,R16=0),P16-Q16,IF(AND(P16>0,R16=200),P16-Q16-R16, )),1) -> 10.5 | T16: =ROUND(IF(SUM(M16:O16)-Q16<0,SUM(M16:O16)-Q16, ),1) -> 0
A17: 7 | B17: =IF('Mau A1'!B99="","",'Mau A1'!B99) -> Nguyễn Thị Thu | C17: =IF('Mau A1'!C99="","",'Mau A1'!C99) -> Hồng | D17: =SUM('Mau A1'!M99:M117) -> 694.6 | E17: =SUM('Mau A1'!N99:N117) -> 67.5 | F17: =SUM('Mau A1'!O99:O117) -> 0 | G17: =SUM('Mau A1'!P99:P117) -> 762.1 | H17: =SUM('Mau A1'!Q99:Q117) -> 0 | I17: =SUM('Mau A1'!R99:R117) -> 48.8 | J17: =SUM('Mau A1'!T99:T117) -> 450 | K17: =SUM('Mau A1'!V99:V117) -> 112 | L17: =SUM('Mau A1'!X99:X117) -> 56 | M17: =SUM('Mau A1'!Y99:Y117) -> 312.1 | N17: =SUM('Mau A1'!Z99:Z117) -> -112 | O17: =SUM('Mau A1'!AA99:AA117) -> -7.2 | P17: =SUM('Mau A1'!AC99:AC117) -> 192.9 | Q17: =SUM('Mau A1'!AB99:AB117) -> 0 | R17: =ROUND(IF(AND(0<M17<200,0<(M17-Q17)<200,N17>=0,O17>=0),M17-Q17,IF(OR(AND(P17>0,P17>200),(P17-Q17)>200),"200",IF(OR(AND(N17<=0,O17=0,P17<200),AND(N17=0,O17<0,P17<200),AND(N17<0,O17<0,P17<200)),P17-Q17, ))),1) -> 192.9 | S17: =ROUND(IF(AND(N17>0,O17>0,M17<=0,R17=0),P17-Q17,IF(AND(P17>0,R17=200),P17-Q17-R17, )),1) -> 0 | T17: =ROUND(IF(SUM(M17:O17)-Q17<0,SUM(M17:O17)-Q17, ),1) -> 0
A18: 8 | B18: =IF('Mau A1'!B118="","",'Mau A1'!B118) -> Lê Hồng | C18: =IF('Mau A1'!C118="","",'Mau A1'!C118) -> Thái | D18: =SUM('Mau A1'!M118:M134) -> 528.5 | E18: =SUM('Mau A1'!N118:N134) -> 89.5 | F18: =SUM('Mau A1'!O118:O134) -> 0 | G18: =SUM('Mau A1'!P118:P134) -> 618 | H18: =SUM('Mau A1'!Q118:Q134) -> 0 | I18: =SUM('Mau A1'!R118:R134) -> 36.05 | J18: =SUM('Mau A1'!T118:T134) -> 267.2 | K18: =SUM('Mau A1'!V118:V134) -> 112 | L18: =SUM('Mau A1'!X118:X134) -> 56 | M18: =SUM('Mau A1'!Y118:Y134) -> 350.8 | N18: =SUM('Mau A1'!Z118:Z134) -> -112 | O18: =SUM('Mau A1'!AA118:AA134) -> -20 | P18: =SUM('Mau A1'!AC118:AC134) -> 218.8 | Q18: =SUM('Mau A1'!AB118:AB134) -> 0 | R18: =ROUND(IF(AND(0<M18<200,0<(M18-Q18)<200,N18>=0,O18>=0),M18-Q18,IF(OR(AND(P18>0,P18>200),(P18-Q18)>200),"200",IF(OR(AND(N18<=0,O18=0,P18<200),AND(N18=0,O18<0,P18<200),AND(N18<0,O18<0,P18<200)),P18-Q18, ))),1) -> 200 | S18: =ROUND(IF(AND(N18>0,O18>0,M18<=0,R18=0),P18-Q18,IF(AND(P18>0,R18=200),P18-Q18-R18, )),1) -> 18.8 | T18: =ROUND(IF(SUM(M18:O18)-Q18<0,SUM(M18:O18)-Q18, ),1) -> 0
A19: 9 | B19: =IF('Mau A1'!B135="","",'Mau A1'!B135) -> Nguyễn Thị Khánh | C19: =IF('Mau A1'!C135="","",'Mau A1'!C135) -> Thư | D19: =SUM('Mau A1'!M135:M149) -> 701.6 | E19: =SUM('Mau A1'!N135:N149) -> 67.5 | F19: =SUM('Mau A1'!O135:O149) -> 0 | G19: =SUM('Mau A1'!P135:P149) -> 769.1 | H19: =SUM('Mau A1'!Q135:Q149) -> 0 | I19: =SUM('Mau A1'!R135:R149) -> 46.2 | J19: =SUM('Mau A1'!T135:T149) -> 450 | K19: =SUM('Mau A1'!V135:V149) -> 112 | L19: =SUM('Mau A1'!X135:X149) -> 56 | M19: =SUM('Mau A1'!Y135:Y149) -> 319.1 | N19: =SUM('Mau A1'!Z135:Z149) -> -112 | O19: =SUM('Mau A1'!AA135:AA149) -> -9.8 | P19: =SUM('Mau A1'!AC135:AC149) -> 197.3 | Q19: =SUM('Mau A1'!AB135:AB149) -> 0 | R19: =ROUND(IF(AND(0<M19<200,0<(M19-Q19)<200,N19>=0,O19>=0),M19-Q19,IF(OR(AND(P19>0,P19>200),(P19-Q19)>200),"200",IF(OR(AND(N19<=0,O19=0,P19<200),AND(N19=0,O19<0,P19<200),AND(N19<0,O19<0,P19<200)),P19-Q19, ))),1) -> 197.3 | S19: =ROUND(IF(AND(N19>0,O19>0,M19<=0,R19=0),P19-Q19,IF(AND(P19>0,R19=200),P19-Q19-R19, )),1) -> 0 | T19: =ROUND(IF(SUM(M19:O19)-Q19<0,SUM(M19:O19)-Q19, ),1) -> 0
A20: 10 | B20: =IF('Mau A1'!B150="","",'Mau A1'!B150) -> Nguyễn Sanh | C20: Cường | D20: =SUM('Mau A1'!M150:M160) -> 603.8 | E20: =SUM('Mau A1'!N150:N160) -> 67.5 | F20: =SUM('Mau A1'!O150:O160) -> 0 | G20: =SUM('Mau A1'!P150:P160) -> 671.3 | H20: =SUM('Mau A1'!Q150:Q160) -> 0 | I20: =SUM('Mau A1'!R150:R160) -> 54.6 | J20: =SUM('Mau A1'!T150:T160) -> 0 | K20: =SUM('Mau A1'!V150:V160) -> 112 | L20: =SUM('Mau A1'!X150:X160) -> 56 | M20: =SUM('Mau A1'!Y150:Y160) -> 221.3 | N20: =SUM('Mau A1'!Z150:Z160) -> -112 | O20: =SUM('Mau A1'!AA150:AA160) -> -1.4 | P20: =SUM('Mau A1'!AC150:AC160) -> 107.9 | Q20: =SUM('Mau A1'!AB150:AB160) -> 0 | R20: =ROUND(IF(AND(0<M20<200,0<(M20-Q20)<200,N20>=0,O20>=0),M20-Q20,IF(OR(AND(P20>0,P20>200),(P20-Q20)>200),"200",IF(OR(AND(N20<=0,O20=0,P20<200),AND(N20=0,O20<0,P20<200),AND(N20<0,O20<0,P20<200)),P20-Q20, ))),1) -> 107.9 | S20: =ROUND(IF(AND(N20>0,O20>0,M20<=0,R20=0),P20-Q20,IF(AND(P20>0,R20=200),P20-Q20-R20, )),1) -> 0 | T20: =ROUND(IF(SUM(M20:O20)-Q20<0,SUM(M20:O20)-Q20, ),1) -> 0
A21: 11 | B21: =IF('Mau A1'!B165="","",'Mau A1'!B165) -> Võ Anh | C21: Trang | D21: =SUM('Mau A1'!M165:M173) -> 591.3 | E21: =SUM('Mau A1'!N165:N173) -> 67.5 | F21: =SUM('Mau A1'!O165:O173) -> 0 | G21: =SUM('Mau A1'!P165:P173) -> 658.8 | H21: =SUM('Mau A1'!Q165:Q173) -> 0 | I21: =SUM('Mau A1'!R165:R173) -> 56 | J21: =SUM('Mau A1'!T165:T173) -> 0 | K21: =SUM('Mau A1'!V165:V173) -> 112 | L21: =SUM('Mau A1'!X165:X173) -> 56 | M21: =SUM('Mau A1'!Y165:Y173) -> 208.8 | N21: =SUM('Mau A1'!Z165:Z173) -> -112 | O21: =SUM('Mau A1'!AA165:AA173) -> 0 | P21: =SUM('Mau A1'!AC165:AC173) -> 96.8 | Q21: =SUM('Mau A1'!AB165:AB173) -> 0 | R21: =ROUND(IF(AND(0<M21<200,0<(M21-Q21)<200,N21>=0,O21>=0),M21-Q21,IF(OR(AND(P21>0,P21>200),(P21-Q21)>200),"200",IF(OR(AND(N21<=0,O21=0,P21<200),AND(N21=0,O21<0,P21<200),AND(N21<0,O21<0,P21<200)),P21-Q21, ))),1) -> 96.8 | S21: =ROUND(IF(AND(N21>0,O21>0,M21<=0,R21=0),P21-Q21,IF(AND(P21>0,R21=200),P21-Q21-R21, )),1) -> 0 | T21: =ROUND(IF(SUM(M21:O21)-Q21<0,SUM(M21:O21)-Q21, ),1) -> 0
A22: 12 | B22: =IF('Mau A1'!B180="","",'Mau A1'!B180) -> Ng Ng Hoàng Ngọc | C22: Quyên | D22: =SUM('Mau A1'!J180:K191) -> 501.3 | E22: =SUM('Mau A1'!K180:L191) -> 17.5 | F22: =SUM('Mau A1'!L180:M191) -> 536.2 | G22: =SUM('Mau A1'!M180:N191) -> 594.5 | H22: =SUM('Mau A1'!N180:O191) -> 67.5 | I22: =SUM('Mau A1'!O180:P191) -> 756.5 | J22: =SUM('Mau A1'!Q180:Q191) -> 0 | K22: =SUM('Mau A1'!S180:S191) -> 0 | L22: =SUM('Mau A1'!U180:U191) -> 0 | M22: =SUM('Mau A1'!V180:V191) -> 112 | N22: =SUM('Mau A1'!Z180:Z191) -> -112 | O22: =SUM('Mau A1'!AA180:AA191) -> -5.6 | P22: =SUM('Mau A1'!AC180:AC191) -> 188.9 | Q22: =SUM('Mau A1'!AB180:AB191) -> 0 | R22: =ROUND(IF(AND(0<M22<200,0<(M22-Q22)<200,N22>=0,O22>=0),M22-Q22,IF(OR(AND(P22>0,P22>200),(P22-Q22)>200),"200",IF(OR(AND(N22<=0,O22=0,P22<200),AND(N22=0,O22<0,P22<200),AND(N22<0,O22<0,P22<200)),P22-Q22, ))),1) -> 188.9 | S22: =ROUND(IF(AND(N22>0,O22>0,M22<=0,R22=0),P22-Q22,IF(AND(P22>0,R22=200),P22-Q22-R22, )),1) -> 0 | T22: =ROUND(IF(SUM(M22:O22)-Q22<0,SUM(M22:O22)-Q22, ),1) -> -5.6
A23: 13 | B23: =IF('Mau A1'!B194="","",'Mau A1'!B194) -> Trần Việt | C23: =IF('Mau A1'!C194="","",'Mau A1'!C194) -> Khánh | D23: =SUM('Mau A1'!M194:M205) -> 545.9 | E23: =SUM('Mau A1'!N194:N205) -> 112.5 | F23: =SUM('Mau A1'!O194:O205) -> 0 | G23: =SUM('Mau A1'!P194:P205) -> 658.4 | H23: =SUM('Mau A1'!Q194:Q205) -> 0 | I23: =SUM('Mau A1'!R194:R205) -> 50.4 | J23: =SUM('Mau A1'!T194:T205) -> 450 | K23: =SUM('Mau A1'!V194:V205) -> 112 | L23: =SUM('Mau A1'!X194:X205) -> 56 | M23: =SUM('Mau A1'!Y194:Y205) -> 208.4 | N23: =SUM('Mau A1'!Z194:Z205) -> -112 | O23: =SUM('Mau A1'!AA194:AA205) -> -5.6 | P23: =SUM('Mau A1'!AC194:AC205) -> 90.8 | Q23: =SUM('Mau A1'!AB194:AB205) -> 0 | R23: =ROUND(IF(AND(0<M23<200,0<(M23-Q23)<200,N23>=0,O23>=0),M23-Q23,IF(OR(AND(P23>0,P23>200),(P23-Q23)>200),"200",IF(OR(AND(N23<=0,O23=0,P23<200),AND(N23=0,O23<0,P23<200),AND(N23<0,O23<0,P23<200)),P23-Q23, ))),1) -> 90.8 | S23: =ROUND(IF(AND(N23>0,O23>0,M23<=0,R23=0),P23-Q23,IF(AND(P23>0,R23=200),P23-Q23-R23, )),1) -> 0 | T23: =ROUND(IF(SUM(M23:O23)-Q23<0,SUM(M23:O23)-Q23, ),1) -> 0
A24: 14 | B24: =IF('Mau A1'!B206="","",'Mau A1'!B206) -> Đỗ Thị Hải | C24: =IF('Mau A1'!C206="","",'Mau A1'!C206) -> Yến | D24: =SUM('Mau A1'!M206:M217) -> 741 | E24: =SUM('Mau A1'!N206:N217) -> 67.5 | F24: =SUM('Mau A1'!O206:O217) -> 0 | G24: =SUM('Mau A1'!P206:P217) -> 808.5 | H24: =SUM('Mau A1'!Q206:Q217) -> 0 | I24: =SUM('Mau A1'!R206:R217) -> 54.6 | J24: =SUM('Mau A1'!T206:T217) -> 450 | K24: =SUM('Mau A1'!V206:V217) -> 112 | L24: =SUM('Mau A1'!X206:X217) -> 56 | M24: =SUM('Mau A1'!Y206:Y217) -> 358.5 | N24: =SUM('Mau A1'!Z206:Z217) -> -112 | O24: =SUM('Mau A1'!AA206:AA217) -> -1.4 | P24: =SUM('Mau A1'!AC206:AC217) -> 245.1 | Q24: =SUM('Mau A1'!AB206:AB217) -> 0 | R24: =ROUND(IF(AND(0<M24<200,0<(M24-Q24)<200,N24>=0,O24>=0),M24-Q24,IF(OR(AND(P24>0,P24>200),(P24-Q24)>200),"200",IF(OR(AND(N24<=0,O24=0,P24<200),AND(N24=0,O24<0,P24<200),AND(N24<0,O24<0,P24<200)),P24-Q24, ))),1) -> 200 | S24: =ROUND(IF(AND(N24>0,O24>0,M24<=0,R24=0),P24-Q24,IF(AND(P24>0,R24=200),P24-Q24-R24, )),1) -> 45.1 | T24: =ROUND(IF(SUM(M24:O24)-Q24<0,SUM(M24:O24)-Q24, ),1) -> 0
A25: 15 | B25: =IF('Mau A1'!B218="","",'Mau A1'!B218) -> Trần Vĩnh | C25: =IF('Mau A1'!C218="","",'Mau A1'!C218) -> Xuyên | D25: =SUM('Mau A1'!M218:M230) -> 712 | E25: =SUM('Mau A1'!N218:N230) -> 67.5 | F25: =SUM('Mau A1'!O218:O230) -> 0 | G25: =SUM('Mau A1'!P218:P230) -> 779.5 | H25: =SUM('Mau A1'!Q218:Q230) -> 0 | I25: =SUM('Mau A1'!R218:R230) -> 51.8 | J25: =SUM('Mau A1'!T218:T230) -> 450 | K25: =SUM('Mau A1'!V218:V230) -> 112 | L25: =SUM('Mau A1'!X218:X230) -> 56 | M25: =SUM('Mau A1'!Y218:Y230) -> 329.5 | N25: =SUM('Mau A1'!Z218:Z230) -> -112 | O25: =SUM('Mau A1'!AA218:AA230) -> -4.2 | P25: =SUM('Mau A1'!AC218:AC230) -> 213.3 | Q25: =SUM('Mau A1'!AB218:AB230) -> 0 | R25: =ROUND(IF(AND(0<M25<200,0<(M25-Q25)<200,N25>=0,O25>=0),M25-Q25,IF(OR(AND(P25>0,P25>200),(P25-Q25)>200),"200",IF(OR(AND(N25<=0,O25=0,P25<200),AND(N25=0,O25<0,P25<200),AND(N25<0,O25<0,P25<200)),P25-Q25, ))),1) -> 200 | S25: =ROUND(IF(AND(N25>0,O25>0,M25<=0,R25=0),P25-Q25,IF(AND(P25>0,R25=200),P25-Q25-R25, )),1) -> 13.3 | T25: =ROUND(IF(SUM(M25:O25)-Q25<0,SUM(M25:O25)-Q25, ),1) -> 0
A26: 16 | B26: =IF('Mau A1'!B231="","",'Mau A1'!B231) -> Nguyễn Cao | C26: =IF('Mau A1'!C231="","",'Mau A1'!C231) -> Phong | D26: =SUM('Mau A1'!M231:M245) -> 738.8 | E26: =SUM('Mau A1'!N231:N245) -> 89.5 | F26: =SUM('Mau A1'!O231:O245) -> 0 | G26: =SUM('Mau A1'!P231:P245) -> 828.3 | H26: =SUM('Mau A1'!Q231:Q245) -> 0 | I26: =SUM('Mau A1'!R231:R245) -> 35 | J26: =SUM('Mau A1'!T231:T245) -> 450 | K26: =SUM('Mau A1'!V231:V245) -> 112 | L26: =SUM('Mau A1'!X231:X245) -> 56 | M26: =SUM('Mau A1'!Y231:Y245) -> 378.3 | N26: =SUM('Mau A1'!Z231:Z245) -> -112 | O26: =SUM('Mau A1'!AA231:AA245) -> -21 | P26: =SUM('Mau A1'!AC231:AC245) -> 245.3 | Q26: =SUM('Mau A1'!AB231:AB245) -> 0 | R26: =ROUND(IF(AND(0<M26<200,0<(M26-Q26)<200,N26>=0,O26>=0),M26-Q26,IF(OR(AND(P26>0,P26>200),(P26-Q26)>200),"200",IF(OR(AND(N26<=0,O26=0,P26<200),AND(N26=0,O26<0,P26<200),AND(N26<0,O26<0,P26<200)),P26-Q26, ))),1) -> 200 | S26: =ROUND(IF(AND(N26>0,O26>0,M26<=0,R26=0),P26-Q26,IF(AND(P26>0,R26=200),P26-Q26-R26, )),1) -> 45.3 | T26: =ROUND(IF(SUM(M26:O26)-Q26<0,SUM(M26:O26)-Q26, ),1) -> 0
A27: 17 | B27: =IF('Mau A1'!B246="","",'Mau A1'!B246) -> Mai Chiếm | C27: =IF('Mau A1'!C246="","",'Mau A1'!C246) -> Tuấn | D27: =SUM('Mau A1'!M246:M257) -> 684 | E27: =SUM('Mau A1'!N246:N257) -> 67.5 | F27: =SUM('Mau A1'!O246:O257) -> 0 | G27: =SUM('Mau A1'!P246:P257) -> 751.5 | H27: =SUM('Mau A1'!Q246:Q257) -> 0 | I27: =SUM('Mau A1'!R246:R257) -> 54.6 | J27: =SUM('Mau A1'!T246:T257) -> 450 | K27: =SUM('Mau A1'!V246:V257) -> 112 | L27: =SUM('Mau A1'!X246:X257) -> 56 | M27: =SUM('Mau A1'!Y246:Y257) -> 301.5 | N27: =SUM('Mau A1'!Z246:Z257) -> -112 | O27: =SUM('Mau A1'!AA246:AA257) -> -1.4 | P27: =SUM('Mau A1'!AC246:AC257) -> 188.1 | Q27: =SUM('Mau A1'!AB246:AB257) -> 0 | R27: =ROUND(IF(AND(0<M27<200,0<(M27-Q27)<200,N27>=0,O27>=0),M27-Q27,IF(OR(AND(P27>0,P27>200),(P27-Q27)>200),"200",IF(OR(AND(N27<=0,O27=0,P27<200),AND(N27=0,O27<0,P27<200),AND(N27<0,O27<0,P27<200)),P27-Q27, ))),1) -> 188.1 | S27: =ROUND(IF(AND(N27>0,O27>0,M27<=0,R27=0),P27-Q27,IF(AND(P27>0,R27=200),P27-Q27-R27, )),1) -> 0 | T27: =ROUND(IF(SUM(M27:O27)-Q27<0,SUM(M27:O27)-Q27, ),1) -> 0
A28: 18 | B28: =IF('Mau A1'!B258="","",'Mau A1'!B258) -> Lê Quý Hưng | C28: =IF('Mau A1'!C258="","",'Mau A1'!C258) -> Quốc | D28: =SUM('Mau A1'!M258:M280) -> 708.7 | E28: =SUM('Mau A1'!N258:N280) -> 67.5 | F28: =SUM('Mau A1'!O258:O280) -> 0 | G28: =SUM('Mau A1'!P258:P280) -> 776.2 | H28: =SUM('Mau A1'!Q258:Q280) -> 0 | I28: =SUM('Mau A1'!R258:R280) -> 44.8 | J28: =SUM('Mau A1'!T258:T280) -> 450 | K28: =SUM('Mau A1'!V258:V280) -> 112 | L28: =SUM('Mau A1'!X258:X280) -> 56 | M28: =SUM('Mau A1'!Y258:Y280) -> 326.2 | N28: =SUM('Mau A1'!Z258:Z280) -> -112 | O28: =SUM('Mau A1'!AA258:AA280) -> -11.2 | P28: =SUM('Mau A1'!AC258:AC280) -> 203 | Q28: =SUM('Mau A1'!AB258:AB280) -> 0 | R28: =ROUND(IF(AND(0<M28<200,0<(M28-Q28)<200,N28>=0,O28>=0),M28-Q28,IF(OR(AND(P28>0,P28>200),(P28-Q28)>200),"200",IF(OR(AND(N28<=0,O28=0,P28<200),AND(N28=0,O28<0,P28<200),AND(N28<0,O28<0,P28<200)),P28-Q28, ))),1) -> 200 | S28: =ROUND(IF(AND(N28>0,O28>0,M28<=0,R28=0),P28-Q28,IF(AND(P28>0,R28=200),P28-Q28-R28, )),1) -> 3 | T28: =ROUND(IF(SUM(M28:O28)-Q28<0,SUM(M28:O28)-Q28, ),1) -> 0
A29: 19 | B29: =IF('Mau A1'!B281="","",'Mau A1'!B281) -> Nguyễn Văn | C29: =IF('Mau A1'!C281="","",'Mau A1'!C281) -> Đôn | D29: =SUM('Mau A1'!M281:M295) -> 605.9 | E29: =SUM('Mau A1'!N281:N295) -> 112.5 | F29: =SUM('Mau A1'!O281:O295) -> 0 | G29: =SUM('Mau A1'!P281:P295) -> 718.4 | H29: =SUM('Mau A1'!Q281:Q295) -> 42.9 | I29: =SUM('Mau A1'!R281:R295) -> 56 | J29: =SUM('Mau A1'!T281:T295) -> 450 | K29: =SUM('Mau A1'!V281:V295) -> 112 | L29: =SUM('Mau A1'!X281:X295) -> 56 | M29: =SUM('Mau A1'!Y281:Y295) -> 268.4 | N29: =SUM('Mau A1'!Z281:Z295) -> -69.1 | O29: =SUM('Mau A1'!AA281:AA295) -> 0 | P29: =SUM('Mau A1'!AC281:AC295) -> 199.3 | Q29: =SUM('Mau A1'!AB281:AB295) -> 0 | R29: =ROUND(IF(AND(0<M29<200,0<(M29-Q29)<200,N29>=0,O29>=0),M29-Q29,IF(OR(AND(P29>0,P29>200),(P29-Q29)>200),"200",IF(OR(AND(N29<=0,O29=0,P29<200),AND(N29=0,O29<0,P29<200),AND(N29<0,O29<0,P29<200)),P29-Q29, ))),1) -> 199.3 | S29: =ROUND(IF(AND(N29>0,O29>0,M29<=0,R29=0),P29-Q29,IF(AND(P29>0,R29=200),P29-Q29-R29, )),1) -> 0 | T29: =ROUND(IF(SUM(M29:O29)-Q29<0,SUM(M29:O29)-Q29, ),1) -> 0
A30: 20 | B30: =IF('Mau A1'!B296="","",'Mau A1'!B296) -> Bùi Văn | C30: =IF('Mau A1'!C296="","",'Mau A1'!C296) -> Dũng | D30: =SUM('Mau A1'!M296:M316) -> 652.5 | E30: =SUM('Mau A1'!N296:N316) -> 67.5 | F30: =SUM('Mau A1'!O296:O316) -> 0 | G30: =SUM('Mau A1'!P296:P316) -> 720 | H30: =SUM('Mau A1'!Q296:Q316) -> 0 | I30: =SUM('Mau A1'!R296:R316) -> 56 | J30: =SUM('Mau A1'!T296:T316) -> 450 | K30: =SUM('Mau A1'!V296:V316) -> 112 | L30: =SUM('Mau A1'!X296:X316) -> 56 | M30: =SUM('Mau A1'!Y296:Y316) -> 270 | N30: =SUM('Mau A1'!Z296:Z316) -> -112 | O30: =SUM('Mau A1'!AA296:AA316) -> 0 | P30: =SUM('Mau A1'!AC296:AC316) -> 158 | Q30: =SUM('Mau A1'!AB296:AB316) -> 0 | R30: =ROUND(IF(AND(0<M30<200,0<(M30-Q30)<200,N30>=0,O30>=0),M30-Q30,IF(OR(AND(P30>0,P30>200),(P30-Q30)>200),"200",IF(OR(AND(N30<=0,O30=0,P30<200),AND(N30=0,O30<0,P30<200),AND(N30<0,O30<0,P30<200)),P30-Q30, ))),1) -> 158 | S30: =ROUND(IF(AND(N30>0,O30>0,M30<=0,R30=0),P30-Q30,IF(AND(P30>0,R30=200),P30-Q30-R30, )),1) -> 0 | T30: =ROUND(IF(SUM(M30:O30)-Q30<0,SUM(M30:O30)-Q30, ),1) -> 0
A31: 21 | B31: =IF('Mau A1'!B317="","",'Mau A1'!B317) -> Đậng Ngọc | C31: =IF('Mau A1'!C317="","",'Mau A1'!C317) -> Đoàn | D31: =SUM('Mau A1'!M317:M346) -> 642.5 | E31: =SUM('Mau A1'!N317:N346) -> 67.5 | F31: =SUM('Mau A1'!O317:O346) -> 0 | G31: =SUM('Mau A1'!P317:P346) -> 710 | H31: =SUM('Mau A1'!Q317:Q346) -> 0 | I31: =SUM('Mau A1'!R317:R346) -> 56 | J31: =SUM('Mau A1'!T317:T346) -> 450 | K31: =SUM('Mau A1'!V317:V346) -> 112 | L31: =SUM('Mau A1'!X317:X346) -> 56 | M31: =SUM('Mau A1'!Y317:Y346) -> 260 | N31: =SUM('Mau A1'!Z317:Z346) -> -112 | O31: =SUM('Mau A1'!AA317:AA346) -> 0 | P31: =SUM('Mau A1'!AC317:AC346) -> 148 | Q31: =SUM('Mau A1'!AB317:AB346) -> 0 | R31: =ROUND(IF(AND(0<M31<200,0<(M31-Q31)<200,N31>=0,O31>=0),M31-Q31,IF(OR(AND(P31>0,P31>200),(P31-Q31)>200),"200",IF(OR(AND(N31<=0,O31=0,P31<200),AND(N31=0,O31<0,P31<200),AND(N31<0,O31<0,P31<200)),P31-Q31, ))),1) -> 148 | S31: =ROUND(IF(AND(N31>0,O31>0,M31<=0,R31=0),P31-Q31,IF(AND(P31>0,R31=200),P31-Q31-R31, )),1) -> 0 | T31: =ROUND(IF(SUM(M31:O31)-Q31<0,SUM(M31:O31)-Q31, ),1) -> 0
A32: 22 | B32: =IF('Mau A1'!B347="","",'Mau A1'!B347) -> Lê Tất | C32: =IF('Mau A1'!C347="","",'Mau A1'!C347) -> Đạt | D32: =SUM('Mau A1'!M347:M364) -> 771.9 | E32: =SUM('Mau A1'!N347:N364) -> 67.5 | F32: =SUM('Mau A1'!O347:O364) -> 0 | G32: =SUM('Mau A1'!P347:P364) -> 839.4 | H32: =SUM('Mau A1'!Q347:Q364) -> 0 | I32: =SUM('Mau A1'!R347:R364) -> 40.6 | J32: =SUM('Mau A1'!T347:T364) -> 450 | K32: =SUM('Mau A1'!V347:V364) -> 112 | L32: =SUM('Mau A1'!X347:X364) -> 56 | M32: =SUM('Mau A1'!Y347:Y364) -> 389.4 | N32: =SUM('Mau A1'!Z347:Z364) -> -112 | O32: =SUM('Mau A1'!AA347:AA364) -> -15.4 | P32: =SUM('Mau A1'!AC347:AC364) -> 262 | Q32: =SUM('Mau A1'!AB347:AB364) -> 0 | R32: =ROUND(IF(AND(0<M32<200,0<(M32-Q32)<200,N32>=0,O32>=0),M32-Q32,IF(OR(AND(P32>0,P32>200),(P32-Q32)>200),"200",IF(OR(AND(N32<=0,O32=0,P32<200),AND(N32=0,O32<0,P32<200),AND(N32<0,O32<0,P32<200)),P32-Q32, ))),1) -> 200 | S32: =ROUND(IF(AND(N32>0,O32>0,M32<=0,R32=0),P32-Q32,IF(AND(P32>0,R32=200),P32-Q32-R32, )),1) -> 62 | T32: =ROUND(IF(SUM(M32:O32)-Q32<0,SUM(M32:O32)-Q32, ),1) -> 0
A33: 23 | B33: =IF('Mau A1'!B365="","",'Mau A1'!B365) -> Dương Ngọc | C33: =IF('Mau A1'!C365="","",'Mau A1'!C365) -> Vọng | D33: =SUM('Mau A1'!M365:M382) -> 705.6 | E33: =SUM('Mau A1'!N365:N382) -> 67.5 | F33: =SUM('Mau A1'!O365:O382) -> 0 | G33: =SUM('Mau A1'!P365:P382) -> 773.1 | H33: =SUM('Mau A1'!Q365:Q382) -> 0 | I33: =SUM('Mau A1'!R365:R382) -> 21 | J33: =SUM('Mau A1'!T365:T382) -> 450 | K33: =SUM('Mau A1'!V365:V382) -> 112 | L33: =SUM('Mau A1'!X365:X382) -> 56 | M33: =SUM('Mau A1'!Y365:Y382) -> 323.1 | N33: =SUM('Mau A1'!Z365:Z382) -> -112 | O33: =SUM('Mau A1'!AA365:AA382) -> -35 | P33: =SUM('Mau A1'!AC365:AC382) -> 176.1 | Q33: =SUM('Mau A1'!AB365:AB382) -> 0 | R33: =ROUND(IF(AND(0<M33<200,0<(M33-Q33)<200,N33>=0,O33>=0),M33-Q33,IF(OR(AND(P33>0,P33>200),(P33-Q33)>200),"200",IF(OR(AND(N33<=0,O33=0,P33<200),AND(N33=0,O33<0,P33<200),AND(N33<0,O33<0,P33<200)),P33-Q33, ))),1) -> 176.1 | S33: =ROUND(IF(AND(N33>0,O33>0,M33<=0,R33=0),P33-Q33,IF(AND(P33>0,R33=200),P33-Q33-R33, )),1) -> 0 | T33: =ROUND(IF(SUM(M33:O33)-Q33<0,SUM(M33:O33)-Q33, ),1) -> 0
A34: 24 | B34: =IF('Mau A1'!B383="","",'Mau A1'!B383) -> Lê Phi | C34: =IF('Mau A1'!C383="","",'Mau A1'!C383) -> Trường | D34: =SUM('Mau A1'!M383:M412) -> 694.1 | E34: =SUM('Mau A1'!N383:N412) -> 67.5 | F34: =SUM('Mau A1'!O383:O412) -> 0 | G34: =SUM('Mau A1'!P383:P412) -> 761.6 | H34: =SUM('Mau A1'!Q383:Q412) -> 0 | I34: =SUM('Mau A1'!R383:R412) -> 56 | J34: =SUM('Mau A1'!T383:T412) -> 450 | K34: =SUM('Mau A1'!V383:V412) -> 112 | L34: =SUM('Mau A1'!X383:X412) -> 56 | M34: =SUM('Mau A1'!Y383:Y412) -> 311.6 | N34: =SUM('Mau A1'!Z383:Z412) -> -112 | O34: =SUM('Mau A1'!AA383:AA412) -> 0 | P34: =SUM('Mau A1'!AC383:AC412) -> 199.6 | Q34: =SUM('Mau A1'!AB383:AB412) -> 0 | R34: =ROUND(IF(AND(0<M34<200,0<(M34-Q34)<200,N34>=0,O34>=0),M34-Q34,IF(OR(AND(P34>0,P34>200),(P34-Q34)>200),"200",IF(OR(AND(N34<=0,O34=0,P34<200),AND(N34=0,O34<0,P34<200),AND(N34<0,O34<0,P34<200)),P34-Q34, ))),1) -> 199.6 | S34: =ROUND(IF(AND(N34>0,O34>0,M34<=0,R34=0),P34-Q34,IF(AND(P34>0,R34=200),P34-Q34-R34, )),1) -> 0 | T34: =ROUND(IF(SUM(M34:O34)-Q34<0,SUM(M34:O34)-Q34, ),1) -> 0
A35: 25 | B35: =IF('Mau A1'!B413="","",'Mau A1'!B413) -> Nguyễn Ngọc | C35: =IF('Mau A1'!C413="","",'Mau A1'!C413) -> Tuyên | D35: =SUM('Mau A1'!M413:M442) -> 687 | E35: =SUM('Mau A1'!N413:N442) -> 67.5 | F35: =SUM('Mau A1'!O413:O442) -> 0 | G35: =SUM('Mau A1'!P413:P442) -> 754.5 | H35: =SUM('Mau A1'!Q413:Q442) -> 0 | I35: =SUM('Mau A1'!R413:R442) -> 56 | J35: =SUM('Mau A1'!T413:T442) -> 450 | K35: =SUM('Mau A1'!V413:V442) -> 112 | L35: =SUM('Mau A1'!X413:X442) -> 56 | M35: =SUM('Mau A1'!Y413:Y442) -> 304.5 | N35: =SUM('Mau A1'!Z413:Z442) -> -112 | O35: =SUM('Mau A1'!AA413:AA442) -> 0 | P35: =SUM('Mau A1'!AC413:AC442) -> 192.5 | Q35: =SUM('Mau A1'!AB413:AB442) -> 0 | R35: =ROUND(IF(AND(0<M35<200,0<(M35-Q35)<200,N35>=0,O35>=0),M35-Q35,IF(OR(AND(P35>0,P35>200),(P35-Q35)>200),"200",IF(OR(AND(N35<=0,O35=0,P35<200),AND(N35=0,O35<0,P35<200),AND(N35<0,O35<0,P35<200)),P35-Q35, ))),1) -> 192.5 | S35: =ROUND(IF(AND(N35>0,O35>0,M35<=0,R35=0),P35-Q35,IF(AND(P35>0,R35=200),P35-Q35-R35, )),1) -> 0 | T35: =ROUND(IF(SUM(M35:O35)-Q35<0,SUM(M35:O35)-Q35, ),1) -> 0
A36: 26 | B36: =IF('Mau A1'!B443="","",'Mau A1'!B443) | C36: =IF('Mau A1'!C443="","",'Mau A1'!C443) | D36: =SUM('Mau A1'!M443:M472) -> 0 | E36: =SUM('Mau A1'!N443:N472) -> 0 | F36: =SUM('Mau A1'!O443:O472) -> 0 | G36: =SUM('Mau A1'!P443:P472) -> 0 | H36: =SUM('Mau A1'!Q443:Q472) -> 0 | I36: =SUM('Mau A1'!R443:R472) -> 0 | J36: =SUM('Mau A1'!T443:T472) -> 450 | K36: =SUM('Mau A1'!V443:V472) -> 112 | L36: =SUM('Mau A1'!X443:X472) -> 56 | M36: =SUM('Mau A1'!Y443:Y472) -> -450 | N36: =SUM('Mau A1'!Z443:Z472) -> -112 | O36: =SUM('Mau A1'!AA443:AA472) -> -56 | P36: =SUM('Mau A1'!AC443:AC472) -> -618 | Q36: =SUM('Mau A1'!AB443:AB472) -> 0 | R36: =ROUND(IF(AND(0<M36<200,0<(M36-Q36)<200,N36>=0,O36>=0),M36-Q36,IF(OR(AND(P36>0,P36>200),(P36-Q36)>200),"200",IF(OR(AND(N36<=0,O36=0,P36<200),AND(N36=0,O36<0,P36<200),AND(N36<0,O36<0,P36<200)),P36-Q36, ))),1) -> -618 | S36: =ROUND(IF(AND(N36>0,O36>0,M36<=0,R36=0),P36-Q36,IF(AND(P36>0,R36=200),P36-Q36-R36, )),1) -> 0 | T36: =ROUND(IF(SUM(M36:O36)-Q36<0,SUM(M36:O36)-Q36, ),1) -> -618
A37: 27 | B37: =IF('Mau A1'!B473="","",'Mau A1'!B473) | C37: =IF('Mau A1'!C473="","",'Mau A1'!C473) | D37: =SUM('Mau A1'!M473:M502) -> 0 | E37: =SUM('Mau A1'!N473:N502) -> 0 | F37: =SUM('Mau A1'!O473:O502) -> 0 | G37: =SUM('Mau A1'!P473:P502) -> 0 | H37: =SUM('Mau A1'!Q473:Q502) -> 0 | I37: =SUM('Mau A1'!R473:R502) -> 0 | J37: =SUM('Mau A1'!T473:T502) -> 450 | K37: =SUM('Mau A1'!V473:V502) -> 112 | L37: =SUM('Mau A1'!X473:X502) -> 56 | M37: =SUM('Mau A1'!Y473:Y502) -> -450 | N37: =SUM('Mau A1'!Z473:Z502) -> -112 | O37: =SUM('Mau A1'!AA473:AA502) -> -56 | P37: =SUM('Mau A1'!AC473:AC502) -> -618 | Q37: =SUM('Mau A1'!AB473:AB502) -> 9.3 | R37: =ROUND(IF(AND(0<M37<200,0<(M37-Q37)<200,N37>=0,O37>=0),M37-Q37,IF(OR(AND(P37>0,P37>200),(P37-Q37)>200),"200",IF(OR(AND(N37<=0,O37=0,P37<200),AND(N37=0,O37<0,P37<200),AND(N37<0,O37<0,P37<200)),P37-Q37, ))),1) -> -627.3 | S37: =ROUND(IF(AND(N37>0,O37>0,M37<=0,R37=0),P37-Q37,IF(AND(P37>0,R37=200),P37-Q37-R37, )),1) -> 0 | T37: =ROUND(IF(SUM(M37:O37)-Q37<0,SUM(M37:O37)-Q37, ),1) -> -627.3
A38: 28 | B38: =IF('Mau A1'!B503="","",'Mau A1'!B503) | C38: =IF('Mau A1'!C503="","",'Mau A1'!C503) | D38: =SUM('Mau A1'!M503:M532) -> 0 | E38: =SUM('Mau A1'!N503:N532) -> 0 | F38: =SUM('Mau A1'!O503:O532) -> 0 | G38: =SUM('Mau A1'!P503:P532) -> 0 | H38: =SUM('Mau A1'!Q503:Q532) -> 0 | I38: =SUM('Mau A1'!R503:R532) -> 0 | J38: =SUM('Mau A1'!T503:T532) -> 450 | K38: =SUM('Mau A1'!V503:V532) -> 112 | L38: =SUM('Mau A1'!X503:X532) -> 56 | M38: =SUM('Mau A1'!Y503:Y532) -> -450 | N38: =SUM('Mau A1'!Z503:Z532) -> -112 | O38: =SUM('Mau A1'!AA503:AA532) -> -56 | P38: =SUM('Mau A1'!AC503:AC532) -> -618 | Q38: =SUM('Mau A1'!AB503:AB532) -> 47.2 | R38: =ROUND(IF(AND(0<M38<200,0<(M38-Q38)<200,N38>=0,O38>=0),M38-Q38,IF(OR(AND(P38>0,P38>200),(P38-Q38)>200),"200",IF(OR(AND(N38<=0,O38=0,P38<200),AND(N38=0,O38<0,P38<200),AND(N38<0,O38<0,P38<200)),P38-Q38, ))),1) -> -665.2 | S38: =ROUND(IF(AND(N38>0,O38>0,M38<=0,R38=0),P38-Q38,IF(AND(P38>0,R38=200),P38-Q38-R38, )),1) -> 0 | T38: =ROUND(IF(SUM(M38:O38)-Q38<0,SUM(M38:O38)-Q38, ),1) -> -665.2
A39: 29 | B39: =IF('Mau A1'!B533="","",'Mau A1'!B533) | C39: =IF('Mau A1'!C533="","",'Mau A1'!C533) | D39: =SUM('Mau A1'!M533:M562) -> 0 | E39: =SUM('Mau A1'!N533:N562) -> 0 | F39: =SUM('Mau A1'!O533:O562) -> 0 | G39: =SUM('Mau A1'!P533:P562) -> 0 | H39: =SUM('Mau A1'!Q533:Q562) -> 0 | I39: =SUM('Mau A1'!R533:R562) -> 0 | J39: =SUM('Mau A1'!T533:T562) -> 450 | K39: =SUM('Mau A1'!V533:V562) -> 112 | L39: =SUM('Mau A1'!X533:X562) -> 56 | M39: =SUM('Mau A1'!Y533:Y562) -> -450 | N39: =SUM('Mau A1'!Z533:Z562) -> -112 | O39: =SUM('Mau A1'!AA533:AA562) -> -56 | P39: =SUM('Mau A1'!AC533:AC562) -> -618 | Q39: =SUM('Mau A1'!AB533:AB562) -> 76.1 | R39: =ROUND(IF(AND(0<M39<200,0<(M39-Q39)<200,N39>=0,O39>=0),M39-Q39,IF(OR(AND(P39>0,P39>200),(P39-Q39)>200),"200",IF(OR(AND(N39<=0,O39=0,P39<200),AND(N39=0,O39<0,P39<200),AND(N39<0,O39<0,P39<200)),P39-Q39, ))),1) -> -694.1 | S39: =ROUND(IF(AND(N39>0,O39>0,M39<=0,R39=0),P39-Q39,IF(AND(P39>0,R39=200),P39-Q39-R39, )),1) -> 0 | T39: =ROUND(IF(SUM(M39:O39)-Q39<0,SUM(M39:O39)-Q39, ),1) -> -694.1
A40: 30 | B40: =IF('Mau A1'!B563="","",'Mau A1'!B563) | C40: =IF('Mau A1'!C563="","",'Mau A1'!C563) | D40: =SUM('Mau A1'!M563:M592) -> 0 | E40: =SUM('Mau A1'!N563:N592) -> 0 | F40: =SUM('Mau A1'!O563:O592) -> 0 | G40: =SUM('Mau A1'!P563:P592) -> 0 | H40: =SUM('Mau A1'!Q563:Q592) -> 0 | I40: =SUM('Mau A1'!R563:R592) -> 0 | J40: =SUM('Mau A1'!T563:T592) -> 450 | K40: =SUM('Mau A1'!V563:V592) -> 112 | L40: =SUM('Mau A1'!X563:X592) -> 56 | M40: =SUM('Mau A1'!Y563:Y592) -> -450 | N40: =SUM('Mau A1'!Z563:Z592) -> -112 | O40: =SUM('Mau A1'!AA563:AA592) -> -56 | P40: =SUM('Mau A1'!AC563:AC592) -> -618 | Q40: =SUM('Mau A1'!AB563:AB592) -> 0 | R40: =ROUND(IF(AND(0<M40<200,0<(M40-Q40)<200,N40>=0,O40>=0),M40-Q40,IF(OR(AND(P40>0,P40>200),(P40-Q40)>200),"200",IF(OR(AND(N40<=0,O40=0,P40<200),AND(N40=0,O40<0,P40<200),AND(N40<0,O40<0,P40<200)),P40-Q40, ))),1) -> -618 | S40: =ROUND(IF(AND(N40>0,O40>0,M40<=0,R40=0),P40-Q40,IF(AND(P40>0,R40=200),P40-Q40-R40, )),1) -> 0 | T40: =ROUND(IF(SUM(M40:O40)-Q40<0,SUM(M40:O40)-Q40, ),1) -> -618
A41: 31 | B41: =IF('Mau A1'!B593="","",'Mau A1'!B593) | C41: =IF('Mau A1'!C593="","",'Mau A1'!C593) | D41: =SUM('Mau A1'!M593:M622) -> 0 | E41: =SUM('Mau A1'!N593:N622) -> 0 | F41: =SUM('Mau A1'!O593:O622) -> 0 | G41: =SUM('Mau A1'!P593:P622) -> 0 | H41: =SUM('Mau A1'!Q593:Q622) -> 0 | I41: =SUM('Mau A1'!R593:R622) -> 0 | J41: =SUM('Mau A1'!T593:T622) -> 0 | K41: =SUM('Mau A1'!V593:V622) -> 0 | L41: =SUM('Mau A1'!X593:X622) -> 0 | M41: =SUM('Mau A1'!Y593:Y622) -> 0 | N41: =SUM('Mau A1'!Z593:Z622) -> 0 | O41: =SUM('Mau A1'!AA593:AA622) -> 0 | P41: =SUM('Mau A1'!AC593:AC622) -> 0 | Q41: =SUM('Mau A1'!AB593:AB622) -> 0 | R41: =ROUND(IF(AND(0<M41<200,0<(M41-Q41)<200,N41>=0,O41>=0),M41-Q41,IF(OR(AND(P41>0,P41>200),(P41-Q41)>200),"200",IF(OR(AND(N41<=0,O41=0,P41<200),AND(N41=0,O41<0,P41<200),AND(N41<0,O41<0,P41<200)),P41-Q41, ))),1) -> 0 | S41: =ROUND(IF(AND(N41>0,O41>0,M41<=0,R41=0),P41-Q41,IF(AND(P41>0,R41=200),P41-Q41-R41, )),1) -> 0 | T41: =ROUND(IF(SUM(M41:O41)-Q41<0,SUM(M41:O41)-Q41, ),1) -> 0
A42: 32 | B42: =IF('Mau A1'!B623="","",'Mau A1'!B623) | C42: =IF('Mau A1'!C623="","",'Mau A1'!C623) | D42: =SUM('Mau A1'!M623:M652) -> 0 | E42: =SUM('Mau A1'!N623:N652) -> 0 | F42: =SUM('Mau A1'!O623:O652) -> 0 | G42: =SUM('Mau A1'!P623:P652) -> 0 | H42: =SUM('Mau A1'!Q623:Q652) -> 0 | I42: =SUM('Mau A1'!R623:R652) -> 0 | J42: =SUM('Mau A1'!T623:T652) -> 0 | K42: =SUM('Mau A1'!V623:V652) -> 0 | L42: =SUM('Mau A1'!X623:X652) -> 0 | M42: =SUM('Mau A1'!Y623:Y652) -> 0 | N42: =SUM('Mau A1'!Z623:Z652) -> 0 | O42: =SUM('Mau A1'!AA623:AA652) -> 0 | P42: =SUM('Mau A1'!AC623:AC652) -> 0 | Q42: =SUM('Mau A1'!AB623:AB652) -> 0 | R42: =ROUND(IF(AND(0<M42<200,0<(M42-Q42)<200,N42>=0,O42>=0),M42-Q42,IF(OR(AND(P42>0,P42>200),(P42-Q42)>200),"200",IF(OR(AND(N42<=0,O42=0,P42<200),AND(N42=0,O42<0,P42<200),AND(N42<0,O42<0,P42<200)),P42-Q42, ))),1) -> 0 | S42: =ROUND(IF(AND(N42>0,O42>0,M42<=0,R42=0),P42-Q42,IF(AND(P42>0,R42=200),P42-Q42-R42, )),1) -> 0 | T42: =ROUND(IF(SUM(M42:O42)-Q42<0,SUM(M42:O42)-Q42, ),1) -> 0
A43: 33 | B43: =IF('Mau A1'!B653="","",'Mau A1'!B653) | C43: =IF('Mau A1'!C653="","",'Mau A1'!C653) | D43: =SUM('Mau A1'!M653:M682) -> 0 | E43: =SUM('Mau A1'!N653:N682) -> 0 | F43: =SUM('Mau A1'!O653:O682) -> 0 | G43: =SUM('Mau A1'!P653:P682) -> 0 | H43: =SUM('Mau A1'!Q653:Q682) -> 0 | I43: =SUM('Mau A1'!R653:R682) -> 0 | J43: =SUM('Mau A1'!T653:T682) -> 0 | K43: =SUM('Mau A1'!V653:V682) -> 0 | L43: =SUM('Mau A1'!X653:X682) -> 0 | M43: =SUM('Mau A1'!Y653:Y682) -> 0 | N43: =SUM('Mau A1'!Z653:Z682) -> 0 | O43: =SUM('Mau A1'!AA653:AA682) -> 0 | P43: =SUM('Mau A1'!AC653:AC682) -> 0 | Q43: =SUM('Mau A1'!AB653:AB682) -> 0 | R43: =ROUND(IF(AND(0<M43<200,0<(M43-Q43)<200,N43>=0,O43>=0),M43-Q43,IF(OR(AND(P43>0,P43>200),(P43-Q43)>200),"200",IF(OR(AND(N43<=0,O43=0,P43<200),AND(N43=0,O43<0,P43<200),AND(N43<0,O43<0,P43<200)),P43-Q43, ))),1) -> 0 | S43: =ROUND(IF(AND(N43>0,O43>0,M43<=0,R43=0),P43-Q43,IF(AND(P43>0,R43=200),P43-Q43-R43, )),1) -> 0 | T43: =ROUND(IF(SUM(M43:O43)-Q43<0,SUM(M43:O43)-Q43, ),1) -> 0
A44: 34 | B44: =IF('Mau A1'!B683="","",'Mau A1'!B683) | C44: =IF('Mau A1'!C683="","",'Mau A1'!C683) | D44: =SUM('Mau A1'!M683:M712) -> 0 | E44: =SUM('Mau A1'!N683:N712) -> 0 | F44: =SUM('Mau A1'!O683:O712) -> 0 | G44: =SUM('Mau A1'!P683:P712) -> 0 | H44: =SUM('Mau A1'!Q683:Q712) -> 0 | I44: =SUM('Mau A1'!R683:R712) -> 0 | J44: =SUM('Mau A1'!T683:T712) -> 0 | K44: =SUM('Mau A1'!V683:V712) -> 0 | L44: =SUM('Mau A1'!X683:X712) -> 0 | M44: =SUM('Mau A1'!Y683:Y712) -> 0 | N44: =SUM('Mau A1'!Z683:Z712) -> 0 | O44: =SUM('Mau A1'!AA683:AA712) -> 0 | P44: =SUM('Mau A1'!AC683:AC712) -> 0 | Q44: =SUM('Mau A1'!AB683:AB712) -> 0 | R44: =ROUND(IF(AND(0<M44<200,0<(M44-Q44)<200,N44>=0,O44>=0),M44-Q44,IF(OR(AND(P44>0,P44>200),(P44-Q44)>200),"200",IF(OR(AND(N44<=0,O44=0,P44<200),AND(N44=0,O44<0,P44<200),AND(N44<0,O44<0,P44<200)),P44-Q44, ))),1) -> 0 | S44: =ROUND(IF(AND(N44>0,O44>0,M44<=0,R44=0),P44-Q44,IF(AND(P44>0,R44=200),P44-Q44-R44, )),1) -> 0 | T44: =ROUND(IF(SUM(M44:O44)-Q44<0,SUM(M44:O44)-Q44, ),1) -> 0
A45: 35 | B45: =IF('Mau A1'!B713="","",'Mau A1'!B713) | C45: =IF('Mau A1'!C713="","",'Mau A1'!C713) | D45: =SUM('Mau A1'!M713:M742) -> 0 | E45: =SUM('Mau A1'!N713:N742) -> 0 | F45: =SUM('Mau A1'!O713:O742) -> 0 | G45: =SUM('Mau A1'!P713:P742) -> 0 | H45: =SUM('Mau A1'!Q713:Q742) -> 0 | I45: =SUM('Mau A1'!R713:R742) -> 0 | J45: =SUM('Mau A1'!T713:T742) -> 0 | K45: =SUM('Mau A1'!V713:V742) -> 0 | L45: =SUM('Mau A1'!X713:X742) -> 0 | M45: =SUM('Mau A1'!Y713:Y742) -> 0 | N45: =SUM('Mau A1'!Z713:Z742) -> 0 | O45: =SUM('Mau A1'!AA713:AA742) -> 0 | P45: =SUM('Mau A1'!AC713:AC742) -> 0 | Q45: =SUM('Mau A1'!AB713:AB742) -> 0 | R45: =ROUND(IF(AND(0<M45<200,0<(M45-Q45)<200,N45>=0,O45>=0),M45-Q45,IF(OR(AND(P45>0,P45>200),(P45-Q45)>200),"200",IF(OR(AND(N45<=0,O45=0,P45<200),AND(N45=0,O45<0,P45<200),AND(N45<0,O45<0,P45<200)),P45-Q45, ))),1) -> 0 | S45: =ROUND(IF(AND(N45>0,O45>0,M45<=0,R45=0),P45-Q45,IF(AND(P45>0,R45=200),P45-Q45-R45, )),1) -> 0 | T45: =ROUND(IF(SUM(M45:O45)-Q45<0,SUM(M45:O45)-Q45, ),1) -> 0
A46: 36 | B46: =IF('Mau A1'!B743="","",'Mau A1'!B743) | C46: =IF('Mau A1'!C743="","",'Mau A1'!C743) | D46: =SUM('Mau A1'!M743:M772) -> 0 | E46: =SUM('Mau A1'!N743:N772) -> 0 | F46: =SUM('Mau A1'!O743:O772) -> 0 | G46: =SUM('Mau A1'!P743:P772) -> 0 | H46: =SUM('Mau A1'!Q743:Q772) -> 0 | I46: =SUM('Mau A1'!R743:R772) -> 0 | J46: =SUM('Mau A1'!T743:T772) -> 0 | K46: =SUM('Mau A1'!V743:V772) -> 0 | L46: =SUM('Mau A1'!X743:X772) -> 0 | M46: =SUM('Mau A1'!Y743:Y772) -> 0 | N46: =SUM('Mau A1'!Z743:Z772) -> 0 | O46: =SUM('Mau A1'!AA743:AA772) -> 0 | P46: =SUM('Mau A1'!AC743:AC772) -> 0 | Q46: =SUM('Mau A1'!AB743:AB772) -> 0 | R46: =ROUND(IF(AND(0<M46<200,0<(M46-Q46)<200,N46>=0,O46>=0),M46-Q46,IF(OR(AND(P46>0,P46>200),(P46-Q46)>200),"200",IF(OR(AND(N46<=0,O46=0,P46<200),AND(N46=0,O46<0,P46<200),AND(N46<0,O46<0,P46<200)),P46-Q46, ))),1) -> 0 | S46: =ROUND(IF(AND(N46>0,O46>0,M46<=0,R46=0),P46-Q46,IF(AND(P46>0,R46=200),P46-Q46-R46, )),1) -> 0 | T46: =ROUND(IF(SUM(M46:O46)-Q46<0,SUM(M46:O46)-Q46, ),1) -> 0
A47: 37 | B47: =IF('Mau A1'!B773="","",'Mau A1'!B773) | C47: =IF('Mau A1'!C773="","",'Mau A1'!C773) | D47: =SUM('Mau A1'!M773:M802) -> 0 | E47: =SUM('Mau A1'!N773:N802) -> 0 | F47: =SUM('Mau A1'!O773:O802) -> 0 | G47: =SUM('Mau A1'!P773:P802) -> 0 | H47: =SUM('Mau A1'!Q773:Q802) -> 0 | I47: =SUM('Mau A1'!R773:R802) -> 0 | J47: =SUM('Mau A1'!T773:T802) -> 0 | K47: =SUM('Mau A1'!V773:V802) -> 0 | L47: =SUM('Mau A1'!X773:X802) -> 0 | M47: =SUM('Mau A1'!Y773:Y802) -> 0 | N47: =SUM('Mau A1'!Z773:Z802) -> 0 | O47: =SUM('Mau A1'!AA773:AA802) -> 0 | P47: =SUM('Mau A1'!AC773:AC802) -> 0 | Q47: =SUM('Mau A1'!AB773:AB802) -> 0 | R47: =ROUND(IF(AND(0<M47<200,0<(M47-Q47)<200,N47>=0,O47>=0),M47-Q47,IF(OR(AND(P47>0,P47>200),(P47-Q47)>200),"200",IF(OR(AND(N47<=0,O47=0,P47<200),AND(N47=0,O47<0,P47<200),AND(N47<0,O47<0,P47<200)),P47-Q47, ))),1) -> 0 | S47: =ROUND(IF(AND(N47>0,O47>0,M47<=0,R47=0),P47-Q47,IF(AND(P47>0,R47=200),P47-Q47-R47, )),1) -> 0 | T47: =ROUND(IF(SUM(M47:O47)-Q47<0,SUM(M47:O47)-Q47, ),1) -> 0
A48: 38 | B48: =IF('Mau A1'!B803="","",'Mau A1'!B803) | C48: =IF('Mau A1'!C803="","",'Mau A1'!C803) | D48: =SUM('Mau A1'!M803:M832) -> 0 | E48: =SUM('Mau A1'!N803:N832) -> 0 | F48: =SUM('Mau A1'!O803:O832) -> 0 | G48: =SUM('Mau A1'!P803:P832) -> 0 | H48: =SUM('Mau A1'!Q803:Q832) -> 0 | I48: =SUM('Mau A1'!R803:R832) -> 0 | J48: =SUM('Mau A1'!T803:T832) -> 139.1 | K48: =SUM('Mau A1'!V803:V832) -> 43.3 | L48: =SUM('Mau A1'!X803:X832) -> 21.6 | M48: =SUM('Mau A1'!Y803:Y832) -> -139.1 | N48: =SUM('Mau A1'!Z803:Z832) -> -43.3 | O48: =SUM('Mau A1'!AA803:AA832) -> -21.6 | P48: =SUM('Mau A1'!AC803:AC832) -> -204 | Q48: =SUM('Mau A1'!AB803:AB832) -> 0 | R48: =ROUND(IF(AND(0<M48<200,0<(M48-Q48)<200,N48>=0,O48>=0),M48-Q48,IF(OR(AND(P48>0,P48>200),(P48-Q48)>200),"200",IF(OR(AND(N48<=0,O48=0,P48<200),AND(N48=0,O48<0,P48<200),AND(N48<0,O48<0,P48<200)),P48-Q48, ))),1) -> -204 | S48: =ROUND(IF(AND(N48>0,O48>0,M48<=0,R48=0),P48-Q48,IF(AND(P48>0,R48=200),P48-Q48-R48, )),1) -> 0 | T48: =ROUND(IF(SUM(M48:O48)-Q48<0,SUM(M48:O48)-Q48, ),1) -> -204
A49: 39 | B49: =IF('Mau A1'!B833="","",'Mau A1'!B833) | C49: =IF('Mau A1'!C833="","",'Mau A1'!C833) | D49: =SUM('Mau A1'!M833:M862) -> 0 | E49: =SUM('Mau A1'!N833:N862) -> 0 | F49: =SUM('Mau A1'!O833:O862) -> 0 | G49: =SUM('Mau A1'!P833:P862) -> 0 | H49: =SUM('Mau A1'!Q833:Q862) -> 0 | I49: =SUM('Mau A1'!R833:R862) -> 0 | J49: =SUM('Mau A1'!T833:T862) -> 0 | K49: =SUM('Mau A1'!V833:V862) -> 0 | L49: =SUM('Mau A1'!X833:X862) -> 0 | M49: =SUM('Mau A1'!Y833:Y862) -> 0 | N49: =SUM('Mau A1'!Z833:Z862) -> 0 | O49: =SUM('Mau A1'!AA833:AA862) -> 0 | P49: =SUM('Mau A1'!AC833:AC862) -> 0 | Q49: =SUM('Mau A1'!AB833:AB862) -> 0 | R49: =ROUND(IF(AND(0<M49<200,0<(M49-Q49)<200,N49>=0,O49>=0),M49-Q49,IF(OR(AND(P49>0,P49>200),(P49-Q49)>200),"200",IF(OR(AND(N49<=0,O49=0,P49<200),AND(N49=0,O49<0,P49<200),AND(N49<0,O49<0,P49<200)),P49-Q49, ))),1) -> 0 | S49: =ROUND(IF(AND(N49>0,O49>0,M49<=0,R49=0),P49-Q49,IF(AND(P49>0,R49=200),P49-Q49-R49, )),1) -> 0 | T49: =ROUND(IF(SUM(M49:O49)-Q49<0,SUM(M49:O49)-Q49, ),1) -> 0
A50: 40 | B50: =IF('Mau A1'!B863="","",'Mau A1'!B863) | C50: =IF('Mau A1'!C863="","",'Mau A1'!C863) | D50: =SUM('Mau A1'!M863:M892) -> 0 | E50: =SUM('Mau A1'!N863:N892) -> 0 | F50: =SUM('Mau A1'!O863:O892) -> 0 | G50: =SUM('Mau A1'!P863:P892) -> 0 | H50: =SUM('Mau A1'!Q863:Q892) -> 0 | I50: =SUM('Mau A1'!R863:R892) -> 0 | J50: =SUM('Mau A1'!T863:T892) -> 0 | K50: =SUM('Mau A1'!V863:V892) -> 0 | L50: =SUM('Mau A1'!X863:X892) -> 0 | M50: =SUM('Mau A1'!Y863:Y892) -> 0 | N50: =SUM('Mau A1'!Z863:Z892) -> 0 | O50: =SUM('Mau A1'!AA863:AA892) -> 0 | P50: =SUM('Mau A1'!AC863:AC892) -> 0 | Q50: =SUM('Mau A1'!AB863:AB892) -> 0 | R50: =ROUND(IF(AND(0<M50<200,0<(M50-Q50)<200,N50>=0,O50>=0),M50-Q50,IF(OR(AND(P50>0,P50>200),(P50-Q50)>200),"200",IF(OR(AND(N50<=0,O50=0,P50<200),AND(N50=0,O50<0,P50<200),AND(N50<0,O50<0,P50<200)),P50-Q50, ))),1) -> 0 | S50: =ROUND(IF(AND(N50>0,O50>0,M50<=0,R50=0),P50-Q50,IF(AND(P50>0,R50=200),P50-Q50-R50, )),1) -> 0 | T50: =ROUND(IF(SUM(M50:O50)-Q50<0,SUM(M50:O50)-Q50, ),1) -> 0
A51: 41 | B51: =IF('Mau A1'!B893="","",'Mau A1'!B893) | C51: =IF('Mau A1'!C893="","",'Mau A1'!C893) | D51: =SUM('Mau A1'!M893:M922) -> 0 | E51: =SUM('Mau A1'!N893:N922) -> 0 | F51: =SUM('Mau A1'!O893:O922) -> 0 | G51: =SUM('Mau A1'!P893:P922) -> 0 | H51: =SUM('Mau A1'!Q893:Q922) -> 0 | I51: =SUM('Mau A1'!R893:R922) -> 0 | J51: =SUM('Mau A1'!T893:T922) -> 139.1 | K51: =SUM('Mau A1'!V893:V922) -> 43.3 | L51: =SUM('Mau A1'!X893:X922) -> 21.6 | M51: =SUM('Mau A1'!Y893:Y922) -> -139.1 | N51: =SUM('Mau A1'!Z893:Z922) -> -43.3 | O51: =SUM('Mau A1'!AA893:AA922) -> -21.6 | P51: =SUM('Mau A1'!AC893:AC922) -> -204 | Q51: =SUM('Mau A1'!AB893:AB922) -> 0 | R51: =ROUND(IF(AND(0<M51<200,0<(M51-Q51)<200,N51>=0,O51>=0),M51-Q51,IF(OR(AND(P51>0,P51>200),(P51-Q51)>200),"200",IF(OR(AND(N51<=0,O51=0,P51<200),AND(N51=0,O51<0,P51<200),AND(N51<0,O51<0,P51<200)),P51-Q51, ))),1) -> -204 | S51: =ROUND(IF(AND(N51>0,O51>0,M51<=0,R51=0),P51-Q51,IF(AND(P51>0,R51=200),P51-Q51-R51, )),1) -> 0 | T51: =ROUND(IF(SUM(M51:O51)-Q51<0,SUM(M51:O51)-Q51, ),1) -> -204
A52: 42 | B52: =IF('Mau A1'!B923="","",'Mau A1'!B923) | C52: =IF('Mau A1'!C923="","",'Mau A1'!C923) | D52: =SUM('Mau A1'!M923:M952) -> 0 | E52: =SUM('Mau A1'!N923:N952) -> 0 | F52: =SUM('Mau A1'!O923:O952) -> 0 | G52: =SUM('Mau A1'!P923:P952) -> 0 | H52: =SUM('Mau A1'!Q923:Q952) -> 0 | I52: =SUM('Mau A1'!R923:R952) -> 0 | J52: =SUM('Mau A1'!T923:T952) -> 0 | K52: =SUM('Mau A1'!V923:V952) -> 0 | L52: =SUM('Mau A1'!X923:X952) -> 0 | M52: =SUM('Mau A1'!Y923:Y952) -> 0 | N52: =SUM('Mau A1'!Z923:Z952) -> 0 | O52: =SUM('Mau A1'!AA923:AA952) -> 0 | P52: =SUM('Mau A1'!AC923:AC952) -> 0 | Q52: =SUM('Mau A1'!AB923:AB952) -> 0 | R52: =ROUND(IF(AND(0<M52<200,0<(M52-Q52)<200,N52>=0,O52>=0),M52-Q52,IF(OR(AND(P52>0,P52>200),(P52-Q52)>200),"200",IF(OR(AND(N52<=0,O52=0,P52<200),AND(N52=0,O52<0,P52<200),AND(N52<0,O52<0,P52<200)),P52-Q52, ))),1) -> 0 | S52: =ROUND(IF(AND(N52>0,O52>0,M52<=0,R52=0),P52-Q52,IF(AND(P52>0,R52=200),P52-Q52-R52, )),1) -> 0 | T52: =ROUND(IF(SUM(M52:O52)-Q52<0,SUM(M52:O52)-Q52, ),1) -> 0
A53: 43 | B53: =IF('Mau A1'!B953="","",'Mau A1'!B953) | C53: =IF('Mau A1'!C953="","",'Mau A1'!C953) | D53: =SUM('Mau A1'!M953:M982) -> 0 | E53: =SUM('Mau A1'!N953:N982) -> 0 | F53: =SUM('Mau A1'!O953:O982) -> 0 | G53: =SUM('Mau A1'!P953:P982) -> 0 | H53: =SUM('Mau A1'!Q953:Q982) -> 0 | I53: =SUM('Mau A1'!R953:R982) -> 0 | J53: =SUM('Mau A1'!T953:T982) -> 0 | K53: =SUM('Mau A1'!V953:V982) -> 0 | L53: =SUM('Mau A1'!X953:X982) -> 0 | M53: =SUM('Mau A1'!Y953:Y982) -> 0 | N53: =SUM('Mau A1'!Z953:Z982) -> 0 | O53: =SUM('Mau A1'!AA953:AA982) -> 0 | P53: =SUM('Mau A1'!AC953:AC982) -> 0 | Q53: =SUM('Mau A1'!AB953:AB982) -> 0 | R53: =ROUND(IF(AND(0<M53<200,0<(M53-Q53)<200,N53>=0,O53>=0),M53-Q53,IF(OR(AND(P53>0,P53>200),(P53-Q53)>200),"200",IF(OR(AND(N53<=0,O53=0,P53<200),AND(N53=0,O53<0,P53<200),AND(N53<0,O53<0,P53<200)),P53-Q53, ))),1) -> 0 | S53: =ROUND(IF(AND(N53>0,O53>0,M53<=0,R53=0),P53-Q53,IF(AND(P53>0,R53=200),P53-Q53-R53, )),1) -> 0 | T53: =ROUND(IF(SUM(M53:O53)-Q53<0,SUM(M53:O53)-Q53, ),1) -> 0
A54: 44 | B54: =IF('Mau A1'!B983="","",'Mau A1'!B983) | C54: =IF('Mau A1'!C983="","",'Mau A1'!C983) | D54: =SUM('Mau A1'!M983:M1012) -> 0 | E54: =SUM('Mau A1'!N983:N1012) -> 0 | F54: =SUM('Mau A1'!O983:O1012) -> 0 | G54: =SUM('Mau A1'!P983:P1012) -> 0 | H54: =SUM('Mau A1'!Q983:Q1012) -> 0 | I54: =SUM('Mau A1'!R983:R1012) -> 0 | J54: =SUM('Mau A1'!T983:T1012) -> 0 | K54: =SUM('Mau A1'!V983:V1012) -> 0 | L54: =SUM('Mau A1'!X983:X1012) -> 0 | M54: =SUM('Mau A1'!Y983:Y1012) -> 0 | N54: =SUM('Mau A1'!Z983:Z1012) -> 0 | O54: =SUM('Mau A1'!AA983:AA1012) -> 0 | P54: =SUM('Mau A1'!AC983:AC1012) -> 0 | Q54: =SUM('Mau A1'!AB983:AB1012) -> 0 | R54: =ROUND(IF(AND(0<M54<200,0<(M54-Q54)<200,N54>=0,O54>=0),M54-Q54,IF(OR(AND(P54>0,P54>200),(P54-Q54)>200),"200",IF(OR(AND(N54<=0,O54=0,P54<200),AND(N54=0,O54<0,P54<200),AND(N54<0,O54<0,P54<200)),P54-Q54, ))),1) -> 0 | S54: =ROUND(IF(AND(N54>0,O54>0,M54<=0,R54=0),P54-Q54,IF(AND(P54>0,R54=200),P54-Q54-R54, )),1) -> 0 | T54: =ROUND(IF(SUM(M54:O54)-Q54<0,SUM(M54:O54)-Q54, ),1) -> 0
A55: 45 | B55: =IF('Mau A1'!B1013="","",'Mau A1'!B1013) | C55: =IF('Mau A1'!C1013="","",'Mau A1'!C1013) | D55: =SUM('Mau A1'!M1013:M1042) -> 0 | E55: =SUM('Mau A1'!N1013:N1042) -> 0 | F55: =SUM('Mau A1'!O1013:O1042) -> 0 | G55: =SUM('Mau A1'!P1013:P1042) -> 0 | H55: =SUM('Mau A1'!Q1013:Q1042) -> 0 | I55: =SUM('Mau A1'!R1013:R1042) -> 0 | J55: =SUM('Mau A1'!T1013:T1042) -> 0 | K55: =SUM('Mau A1'!V1013:V1042) -> 0 | L55: =SUM('Mau A1'!X1013:X1042) -> 0 | M55: =SUM('Mau A1'!Y1013:Y1042) -> 0 | N55: =SUM('Mau A1'!Z1013:Z1042) -> 0 | O55: =SUM('Mau A1'!AA1013:AA1042) -> 0 | P55: =SUM('Mau A1'!AC1013:AC1042) -> 0 | Q55: =SUM('Mau A1'!AB1013:AB1042) -> 0 | R55: =ROUND(IF(AND(0<M55<200,0<(M55-Q55)<200,N55>=0,O55>=0),M55-Q55,IF(OR(AND(P55>0,P55>200),(P55-Q55)>200),"200",IF(OR(AND(N55<=0,O55=0,P55<200),AND(N55=0,O55<0,P55<200),AND(N55<0,O55<0,P55<200)),P55-Q55, ))),1) -> 0 | S55: =ROUND(IF(AND(N55>0,O55>0,M55<=0,R55=0),P55-Q55,IF(AND(P55>0,R55=200),P55-Q55-R55, )),1) -> 0 | T55: =ROUND(IF(SUM(M55:O55)-Q55<0,SUM(M55:O55)-Q55, ),1) -> 0
A56: 46 | B56: =IF('Mau A1'!B1043="","",'Mau A1'!B1043) | C56: =IF('Mau A1'!C1043="","",'Mau A1'!C1043) | D56: =SUM('Mau A1'!M1043:M1072) -> 0 | E56: =SUM('Mau A1'!N1043:N1072) -> 0 | F56: =SUM('Mau A1'!O1043:O1072) -> 0 | G56: =SUM('Mau A1'!P1043:P1072) -> 0 | H56: =SUM('Mau A1'!Q1043:Q1072) -> 0 | I56: =SUM('Mau A1'!R1043:R1072) -> 0 | J56: =SUM('Mau A1'!T1043:T1072) -> 0 | K56: =SUM('Mau A1'!V1043:V1072) -> 0 | L56: =SUM('Mau A1'!X1043:X1072) -> 0 | M56: =SUM('Mau A1'!Y1043:Y1072) -> 0 | N56: =SUM('Mau A1'!Z1043:Z1072) -> 0 | O56: =SUM('Mau A1'!AA1043:AA1072) -> 0 | P56: =SUM('Mau A1'!AC1043:AC1072) -> 0 | Q56: =SUM('Mau A1'!AB1043:AB1072) -> 0 | R56: =ROUND(IF(AND(0<M56<200,0<(M56-Q56)<200,N56>=0,O56>=0),M56-Q56,IF(OR(AND(P56>0,P56>200),(P56-Q56)>200),"200",IF(OR(AND(N56<=0,O56=0,P56<200),AND(N56=0,O56<0,P56<200),AND(N56<0,O56<0,P56<200)),P56-Q56, ))),1) -> 0 | S56: =ROUND(IF(AND(N56>0,O56>0,M56<=0,R56=0),P56-Q56,IF(AND(P56>0,R56=200),P56-Q56-R56, )),1) -> 0 | T56: =ROUND(IF(SUM(M56:O56)-Q56<0,SUM(M56:O56)-Q56, ),1) -> 0
A57: 47 | B57: =IF('Mau A1'!B1073="","",'Mau A1'!B1073) | C57: =IF('Mau A1'!C1073="","",'Mau A1'!C1073) | D57: =SUM('Mau A1'!M1073:M1102) -> 0 | E57: =SUM('Mau A1'!N1073:N1102) -> 0 | F57: =SUM('Mau A1'!O1073:O1102) -> 0 | G57: =SUM('Mau A1'!P1073:P1102) -> 0 | H57: =SUM('Mau A1'!Q1073:Q1102) -> 0 | I57: =SUM('Mau A1'!R1073:R1102) -> 0 | J57: =SUM('Mau A1'!T1073:T1102) -> 0 | K57: =SUM('Mau A1'!V1073:V1102) -> 0 | L57: =SUM('Mau A1'!X1073:X1102) -> 0 | M57: =SUM('Mau A1'!Y1073:Y1102) -> 0 | N57: =SUM('Mau A1'!Z1073:Z1102) -> 0 | O57: =SUM('Mau A1'!AA1073:AA1102) -> 0 | P57: =SUM('Mau A1'!AC1073:AC1102) -> 0 | Q57: =SUM('Mau A1'!AB1073:AB1102) -> 0 | R57: =ROUND(IF(AND(0<M57<200,0<(M57-Q57)<200,N57>=0,O57>=0),M57-Q57,IF(OR(AND(P57>0,P57>200),(P57-Q57)>200),"200",IF(OR(AND(N57<=0,O57=0,P57<200),AND(N57=0,O57<0,P57<200),AND(N57<0,O57<0,P57<200)),P57-Q57, ))),1) -> 0 | S57: =ROUND(IF(AND(N57>0,O57>0,M57<=0,R57=0),P57-Q57,IF(AND(P57>0,R57=200),P57-Q57-R57, )),1) -> 0 | T57: =ROUND(IF(SUM(M57:O57)-Q57<0,SUM(M57:O57)-Q57, ),1) -> 0
A58: 48 | B58: =IF('Mau A1'!B1103="","",'Mau A1'!B1103) | C58: =IF('Mau A1'!C1103="","",'Mau A1'!C1103) | D58: =SUM('Mau A1'!M1103:M1132) -> 0 | E58: =SUM('Mau A1'!N1103:N1132) -> 0 | F58: =SUM('Mau A1'!O1103:O1132) -> 0 | G58: =SUM('Mau A1'!P1103:P1132) -> 0 | H58: =SUM('Mau A1'!Q1103:Q1132) -> 0 | I58: =SUM('Mau A1'!R1103:R1132) -> 0 | J58: =SUM('Mau A1'!T1103:T1132) -> 0 | K58: =SUM('Mau A1'!V1103:V1132) -> 0 | L58: =SUM('Mau A1'!X1103:X1132) -> 0 | M58: =SUM('Mau A1'!Y1103:Y1132) -> 0 | N58: =SUM('Mau A1'!Z1103:Z1132) -> 0 | O58: =SUM('Mau A1'!AA1103:AA1132) -> 0 | P58: =SUM('Mau A1'!AC1103:AC1132) -> 0 | Q58: =SUM('Mau A1'!AB1103:AB1132) -> 0 | R58: =ROUND(IF(AND(0<M58<200,0<(M58-Q58)<200,N58>=0,O58>=0),M58-Q58,IF(OR(AND(P58>0,P58>200),(P58-Q58)>200),"200",IF(OR(AND(N58<=0,O58=0,P58<200),AND(N58=0,O58<0,P58<200),AND(N58<0,O58<0,P58<200)),P58-Q58, ))),1) -> 0 | S58: =ROUND(IF(AND(N58>0,O58>0,M58<=0,R58=0),P58-Q58,IF(AND(P58>0,R58=200),P58-Q58-R58, )),1) -> 0 | T58: =ROUND(IF(SUM(M58:O58)-Q58<0,SUM(M58:O58)-Q58, ),1) -> 0
A59: 49 | B59: =IF('Mau A1'!B1133="","",'Mau A1'!B1133) | C59: =IF('Mau A1'!C1133="","",'Mau A1'!C1133) | D59: =SUM('Mau A1'!M1133:M1162) -> 0 | E59: =SUM('Mau A1'!N1133:N1162) -> 0 | F59: =SUM('Mau A1'!O1133:O1162) -> 0 | G59: =SUM('Mau A1'!P1133:P1162) -> 0 | H59: =SUM('Mau A1'!Q1133:Q1162) -> 0 | I59: =SUM('Mau A1'!R1133:R1162) -> 0 | J59: =SUM('Mau A1'!T1133:T1162) -> 0 | K59: =SUM('Mau A1'!V1133:V1162) -> 0 | L59: =SUM('Mau A1'!X1133:X1162) -> 0 | M59: =SUM('Mau A1'!Y1133:Y1162) -> 0 | N59: =SUM('Mau A1'!Z1133:Z1162) -> 0 | O59: =SUM('Mau A1'!AA1133:AA1162) -> 0 | P59: =SUM('Mau A1'!AC1133:AC1162) -> 0 | Q59: =SUM('Mau A1'!AB1133:AB1162) -> 0 | R59: =ROUND(IF(AND(0<M59<200,0<(M59-Q59)<200,N59>=0,O59>=0),M59-Q59,IF(OR(AND(P59>0,P59>200),(P59-Q59)>200),"200",IF(OR(AND(N59<=0,O59=0,P59<200),AND(N59=0,O59<0,P59<200),AND(N59<0,O59<0,P59<200)),P59-Q59, ))),1) -> 0 | S59: =ROUND(IF(AND(N59>0,O59>0,M59<=0,R59=0),P59-Q59,IF(AND(P59>0,R59=200),P59-Q59-R59, )),1) -> 0 | T59: =ROUND(IF(SUM(M59:O59)-Q59<0,SUM(M59:O59)-Q59, ),1) -> 0
A60: 50 | B60: =IF('Mau A1'!B1163="","",'Mau A1'!B1163) | C60: =IF('Mau A1'!C1163="","",'Mau A1'!C1163) | D60: =SUM('Mau A1'!M1163:M1192) -> 0 | E60: =SUM('Mau A1'!N1163:N1192) -> 0 | F60: =SUM('Mau A1'!O1163:O1192) -> 0 | G60: =SUM('Mau A1'!P1163:P1192) -> 0 | H60: =SUM('Mau A1'!Q1163:Q1192) -> 0 | I60: =SUM('Mau A1'!R1163:R1192) -> 0 | J60: =SUM('Mau A1'!T1163:T1192) -> 0 | K60: =SUM('Mau A1'!V1163:V1192) -> 0 | L60: =SUM('Mau A1'!X1163:X1192) -> 0 | M60: =SUM('Mau A1'!Y1163:Y1192) -> 0 | N60: =SUM('Mau A1'!Z1163:Z1192) -> 0 | O60: =SUM('Mau A1'!AA1163:AA1192) -> 0 | P60: =SUM('Mau A1'!AC1163:AC1192) -> 0 | Q60: =SUM('Mau A1'!AB1163:AB1192) -> 0 | R60: =ROUND(IF(AND(0<M60<200,0<(M60-Q60)<200,N60>=0,O60>=0),M60-Q60,IF(OR(AND(P60>0,P60>200),(P60-Q60)>200),"200",IF(OR(AND(N60<=0,O60=0,P60<200),AND(N60=0,O60<0,P60<200),AND(N60<0,O60<0,P60<200)),P60-Q60, ))),1) -> 0 | S60: =ROUND(IF(AND(N60>0,O60>0,M60<=0,R60=0),P60-Q60,IF(AND(P60>0,R60=200),P60-Q60-R60, )),1) -> 0 | T60: =ROUND(IF(SUM(M60:O60)-Q60<0,SUM(M60:O60)-Q60, ),1) -> 0
A61: TỔNG CỘNG | D61: =SUM(D11:D60) -> 16425.5 | E61: =SUM(E11:E60) -> 2049.8 | F61: =SUM(F11:F60) -> 536.2 | G61: =SUM(G11:G60) -> 18533.2 | H61: =SUM(H11:H60) -> 131.8 | I61: =SUM(I11:I60) -> 1881.55 | J61: =SUM(J11:J60) -> 12245.4 | K61: =SUM(K11:K60) -> 3334.6 | ... T61: =SUM(T11:T60) -> -3636.2
B63: Lưu ý: Không cần nhập số liệu, vì tất cả các số liệu được cài sẵn công thức chuyển từ mẫu A1 sang
T64: Thành phố Hồ Chí Minh, ngày tháng năm 2018
A65: HIỆU TRƯỞNG | C65: TRƯỞNG P. TS-ĐT | G65: TRƯỞNG TỔ TT - PC | I65: TRƯỞNG P. QLKH-HTQT | L65: TRƯỞNG PHÒNG KT&ĐBCL | O65: TRƯỞNG P. TC-HC-TH | S65: TRƯỞNG KHOA

Sheet LHP
A1: STT | G1: HK | H1: Giảng viên | I1: SỐ LƯỢNG
A2: 1 | F2: =B588&E588 -> 04100001080115TC-QTM | G2: 1 | H2: Bùi Văn Dũng | I2: 13
A3: 2 | F3: =B589&E589 -> 04100007360215TC-QTM | G3: 1 | H3: Đào Anh Tuấn | I3: 33
A4: 3 | F4: =B590&E590 -> 04100009230115TC-QTM | G4: 1 | H4: Nguyễn Khoa | I4: 13
A5: 4 | F5: =B591&E591 -> 04100009240115TC-QTM | G5: 1 | H5: Nguyễn Sanh Cường | I5: 13
A6: 5 | F6: =B592&E592 -> 02040015660117C2-QTM1 | G6: 1 | H6: Đỗ Thị Hải Yến | I6: 13
A7: 6 | F7: =B593&E593 -> 04100009260115TC-QTM | G7: 1 | H7: Nguyễn Nguyên Hoàng Ngọc Quyên | I7: 13
A8: 7 | F8: =B594&E594 -> 04100009270115TC-QTM | G8: 1 | H8: Nguyễn Ngọc Tuyên | I8: 13
A9: 8 | F9: =B595&E595 -> 04100009280115TC-QTM | G9: 1 | H9: Đặng Ngọc Đoàn, Dương Ngọc Vọng | I9: 13
A10: 9 | F10: =B596&E596 -> 04100009290115TC-QTM | G10: 1 | H10: Dương Ngọc Vọng | I10: 13
A11: 10 | F11: =B597&E597 -> 05060011120115TCN-Đ | G11: 1 | H11: Nguyễn Anh Kiệt | I11: 47
A12: 11 | F12: =B598&E598 -> 05060011130115TCN-Đ | G12: 1 | H12: Nguyễn Hồng Đức | I12: 21
A13: 12 | F13: =B599&E599 -> 05060011140115TCN-Đ | G13: 1 | H13: Quách Minh Thử | I13: 21
... A15: 14 | F15: =B601&E601 -> 05060011160115TCN-Đ | G15: 1 | H15: Trần Công Tiến | I15: 21
A16: 15 | F16: =B602&E602 -> 05060011110115TCN-Đ | G16: 1 | I16: 47
A17: 16 | F17: =B603&E603 -> 05060011190115TCN-ĐT | G17: 1 | H17: Nguyễn Hồng Đức | I17: 26
A18: 17 | F18: =B604&E604 -> 05060011200115TCN-ĐT | G18: 1 | H18: Bốc Minh Trí | I18: 26
A19: 18 | F19: =B605&E605 -> 05060011610115TCN-ĐT | G19: 1 | H19: Huỳnh Ngọc Mai | I19: 26
A20: 19 | F20: =B606&E606 -> 05060011620115TCN-ĐT | G20: 1 | H20: Nguyễn Thị Tố Nga | I20: 26
A21: 20 | F21: =B607&E607 -> 05060011630115TCN-ĐT | G21: 1 | H21: Nguyễn Minh Đức(A) | I21: 26
A22: 21 | F22: =B608&E608 -> 05060011740115TCN-LĐL | G22: 1 | H22: Phan Văn Hòa | I22: 31
A23: 22 | F23: =B609&E609 -> 05060011760115TCN-LĐL | G23: 1 | H23: Đinh Đồng Hiệp | I23: 31
A24: 23 | F24: =B610&E610 -> 05060011770115TCN-LĐL | G24: 1 | H24: Đặng Thế Huân | I24: 31
A25: 24 | F25: =B611&E611 -> 05060011720115TCN-LĐL | G25: 1 | H25: Nguyễn Hồng Đức | I25: 31
A26: 25 | F26: =B612&E612 -> 05060011750115TCN-LĐL | G26: 1 | H26: Nguyễn Vũ Xuân Thì | I26: 31
A27: 26 | F27: =B613&E613 -> 05060011120715TCN-MTT | G27: 1 | H27: Đinh Thị Huyên, Nguyễn Anh Kiệt | I27: 46
A28: 27 | F28: =B614&E614 -> 05060011570115TCN-MTT | G28: 1 | H28: Lâm Thị Phương Thùy, Nguyễn Thị Hiền | I28: 22
... A31: 30 | F31: =B617&E617 -> 05060011600115TCN-MTT | G31: 1 | H31: Chế Vân Cầm | I31: 22
A32: 31 | F32: =B618&E618 -> 05060011110715TCN-MTT | G32: 1 | I32: 46
A33: 32 | F33: =B619&E619 -> 03060011210115CĐN-QTD | G33: 1 | H33: Lê Xuân Thủy | I33: 14
A34: 33 | F34: =B620&E620 -> 03060011220115CĐN-QTD | G34: 1 | H34: Phạm Thị Gia Tâm | I34: 14
A35: 34 | F35: =B621&E621 -> 03060011230115CĐN-QTD | G35: 1 | H35: Phạm Quỳnh Như | I35: 14
A36: 35 | F36: =B622&E622 -> 03060011240115CĐN-QTD | G36: 1 | H36: Nguyễn Trọng Nghĩa | I36: 14
A37: 36 | F37: =B623&E623 -> 03060011250115CĐN-QTD | G37: 1 | H37: Trịnh Hoàng Hiệp | I37: 14
A38: 37 | F38: =B624&E624 -> 03060011260115CĐN-QTD | G38: 1 | H38: Nguyễn Trọng Nghĩa | I38: 14
A39: 38 | F39: =B625&E625 -> 03060011270115CĐN-QTD | G39: 1 | H39: Trịnh Hoàng Hiệp | I39: 14
A40: 39 | F40: =B626&E626 -> 03060011280115CĐN-QTD | G40: 1 | H40: Lê Thị Thu Thảo | I40: 14
A41: 40 | F41: =B627&E627 -> 03060011290115CĐN-QTD | G41: 1 | H41: Lữ Xuân Trang | I41: 14
A42: 41 | F42: =B628&E628 -> 03060000080116CĐN-Ô1 | G42: 1 | H42: Nguyễn Thị Thanh Tú | I42: 40
A43: 42 | F43: =B629&E629 -> 03060006350116CĐN-Ô1 | G43: 1 | H43: Hoàng Phúc Bảo | I43: 40
A44: 43 | F44: =B630&E630 -> 03060006360116CĐN-Ô1 | G44: 1 | H44: Hoàng Phúc Bảo | I44: 40
... A134: 133 | F134: =B720&E720 -> 05060011510115TCN-Ô1 | G134: 1 | H134: Kiều Trung Tín | I134: 42
A135: 134 | F135: =B721&E721 -> 05060011110915TCN-Ô1 | G135: 1 | I135: 42
A136: 135 | F136: =B722&E722 -> 05060011121015TCN-QTM1 | G136: 1 | H136: Nguyễn Anh Kiệt | I136: 67
A137: 136 | F137: =B723&E723 -> 05060011520215TCN-QTM1 | G137: 1 | H137: Lê Hồng Thái | I137: 67
A138: 137 | F138: =B724&E724 -> 05060011530215TCN-QTM1 | G138: 1 | H138: Lê Phi Trường | I138: 67
A139: 138 | F139: =B725&E725 -> 05060011550215TCN-QTM1 | G139: 1 | H139: Nguyễn Thị Thu Hồng | I139: 67
A140: 139 | F140: =B726&E726 -> 05060011560215TCN-QTM1 | G140: 1 | H140: Lê Quý Hưng Quốc | I140: 67
A141: 140 | F141: =B727&E727 -> 05060011111015TCN-QTM1 | G141: 1 | I141: 67
A142: 141 | F142: =B728&E728 -> 05060004681116TCN-LĐL1 | G142: 1 | H142: Nguyễn Văn Hậu | I142: 59
A143: 142 | F143: =B729&E729 -> 05060004741116TCN-LĐL1 | G143: 1 | H143: Đinh Thị Thắng (TG) | I143: 59
A144: 143 | F144: =B730&E730 -> 05060004771116TCN-LĐL1 | G144: 1 | H144: Nguyễn Huỳnh Mai Hạnh | I144: 59
A145: 144 | F145: =B731&E731 -> 05060004801116TCN-LĐL1 | G145: 1 | H145: Nguyễn Thị Thanh Thảo, Nguyễn Thị Thảo, Trương Thị Hồng | I145: 59
A146: 145 | F146: =B732&E732 -> 05060007910116TCN-LĐL1 | G146: 1 | H146: Trần Đình Khoa | I146: 59
A147: 146 | F147: =B733&E733 -> 05060007900116TCN-LĐL1 | G147: 1 | H147: Đỗ Trọng Quý | I147: 59
A148: 147 | F148: =B734&E734 -> 05060007920116TCN-LĐL1 | G148: 1 | H148: Nguyễn Thanh Vĩnh Phúc | I148: 59
A149: 148 | F149: =B735&E735 -> 05060004681216TCN-Ô1 | G149: 1 | H149: Nguyễn Thị Cẩm Thạch | I149: 43
A150: 149 | F150: =B736&E736 -> 05060004741216TCN-Ô1 | G150: 1 | H150: Nguyễn Thanh Tú | I150: 43
A151: 150 | F151: =B737&E737 -> 05060004771216TCN-Ô1 | G151: 1 | H151: Lê Văn Bình | I151: 43
A152: 151 | F152: =B738&E738 -> 05060004801216TCN-Ô1 | G152: 1 | H152: Lê Thị Mùi | I152: 43
A153: 152 | F153: =B739&E739 -> 05060006750316TCN-Ô1 | G153: 1 | H153: Võ Đắc Thịnh | I153: 43
... A282: 281 | F282: =B868&E868 -> 05060011450115TCN-CKL | G282: 1 | H282: Phan Văn Thành | I282: 15
A283: 282 | F283: =B869&E869 -> 05060011111115TCN-CKL | G283: 1 | I283: 46
A284: 283 | F284: =B870&E870 -> 05060011640115TCN-KTD | G284: 1 | H284: Lê Thị Thu Thảo | I284: 24
A285: 284 | F285: =B871&E871 -> 05060011650115TCN-KTD | G285: 1 | H285: Phạm Quỳnh Như | I285: 24
A286: 285 | F286: =B872&E872 -> 05060011660115TCN-KTD | G286: 1 | H286: Lưu Thị Thúy | I286: 24
A287: 286 | F287: =B873&E873 -> 05060011670115TCN-KTD | G287: 1 | H287: Phan Thị Thùy Trang | I287: 24
A288: 287 | F288: =B874&E874 -> 05060011680115TCN-KTD | G288: 1 | H288: Phạm Quỳnh Như | I288: 24
A289: 288 | F289: =B875&E875 -> 05060011690115TCN-KTD | G289: 1 | H289: Đào Anh Tuấn | I289: 24
A290: 289 | F290: =B876&E876 -> 05060011700115TCN-KTD | G290: 1 | H290: Phạm Thị Gia Tâm | I290: 24
A291: 290 | F291: =B877&E877 -> 05060011710115TCN-KTD | G291: 1 | H291: Bùi Ánh Tuyết | I291: 24
A292: 291 | F292: =B878&E878 -> 03060011300215CĐN-Ô | G292: 1 | H292: Nguyễn Hữu Mạnh | I292: 24
A293: 292 | F293: =B879&E879 -> 03060011310215CĐN-Ô | G293: 1 | H293: Nguyễn Thái Bình | I293: 24
A294: 293 | F294: =B880&E880 -> 03060011320215CĐN-Ô | G294: 1 | H294: Trần Duy Sư (TG) | I294: 24
A295: 294 | F295: =B881&E881 -> 03060011330215CĐN-Ô | G295: 1 | H295: Nguyễn Hữu Mạnh | I295: 24
... A339: 338 | F339: =B925&E925 -> 04080000830116TCT_HL1_DLUC | G339: 1 | H339: Hà Quốc Bảo | I339: 5
A340: 1 | F340: =B926&E926 -> 000000000001NHAPHOC | G340: 1 | I340: 23
A341: 2 | F341: =B927&E927 -> 02020000030116CĐ-MTT1 | G341: 1 | H341: Nguyễn Ngọc Thọ | I341: 49
A342: 3 | F342: =B928&E928 -> 02020000030216CĐ-MTT2 | G342: 1 | H342: Nguyễn Ngọc Thọ | I342: 58
A343: 4 | F343: =B929&E929 -> 02020000081116CĐ-ĐL2 | G343: 1 | H343: Nguyễn Thị Thanh Tú, Trương Thị Minh Hà | I343: 52
A344: 5 | F344: =B930&E930 -> 02020000120116CĐ-Ô1 | G344: 1 | H344: Vương Thanh Thủy | I344: 53
A345: 6 | F345: =B931&E931 -> 02020000120216CĐ-Ô10 | G345: 1 | H345: Vương Thanh Thủy | I345: 48
A346: 7 | F346: =B932&E932 -> 02020000120316CĐ-Ô11 | G346: 1 | H346: Vương Thanh Thủy | I346: 48
A347: 8 | F347: =B933&E933 -> 02020000120416CĐ-Ô12 | G347: 1 | H347: Đinh Trần Phương Thảo | I347: 48
A348: 9 | F348: =B934&E934 -> 02020000120616CĐ-Ô2 | G348: 1 | H348: Vương Thanh Thủy | I348: 49
A349: 10 | F349: =B935&E935 -> 02020000120716CĐ-Ô3 | G349: 1 | H349: Vương Thanh Thủy | I349: 54
A350: 11 | F350: =B936&E936 -> 02020000120816CĐ-Ô9 | G350: 1 | H350: Đinh Trần Phương Thảo | I350: 52
A351: 12 | F351: =B937&E937 -> 02020000120916CĐ-Ô4 | G351: 1 | H351: Vương Thanh Thủy | I351: 52
A352: 13 | F352: =B938&E938 -> 02020000121016CĐ-Ô5 | G352: 1 | H352: Vương Thanh Thủy | I352: 53
... A465: 126 | F465: =B1051&E1051 -> 02020008990115CĐ-MTT1 | G465: 1 | H465: Bùi Thị Ngọc Sương | I465: 62
A466: 127 | F466: =B1052&E1052 -> 02020000490115CĐ-MTT1 | G466: 1 | I466: 62
A467: 128 | F467: =B1053&E1053 -> 02020001790115CĐ-MTT1 | G467: 1 | H467: Bùi Thị Ngọc Sương | I467: 62
A468: 129 | F468: =B1054&E1054 -> 02020001910115CĐ-MTT1 | G468: 1 | H468: Nguyễn Ngọc Thọ | I468: 62
A469: 130 | F469: =B1055&E1055 -> 02020001340215CĐ-MTT2 | G469: 1 | H469: Nguyễn Thị Hiền, Lâm Thị Phương Thùy | I469: 60
A470: 131 | F470: =B1056&E1056 -> 02020001360215CĐ-MTT2 | G470: 1 | H470: Lâm Thị Phương Thùy, Nguyễn Thị Hiền | I470: 60
A471: 132 | F471: =B1057&E1057 -> 02020001480215CĐ-MTT2 | G471: 1 | H471: Lâm Thị Phương Thùy | I471: 60
A472: 133 | F472: =B1058&E1058 -> 02020008990215CĐ-MTT2 | G472: 1 | H472: Bùi Thị Ngọc Sương | I472: 60
A473: 134 | F473: =B1059&E1059 -> 02020000490215CĐ-MTT2 | G473: 1 | I473: 60
A474: 135 | F474: =B1060&E1060 -> 02020001790215CĐ-MTT2 | G474: 1 | H474: Bùi Thị Ngọc Sương | I474: 60
A475: 136 | F475: =B1061&E1061 -> 02020001910215CĐ-MTT2 | G475: 1 | H475: Lâm Thị Phương Thùy | I475: 60
...

Sheet Mau A1
AB1: Mẫu A1
A2: UBND THÀNH PHỐ HỒ CHÍ MINH | V2: CỘNG HÒA XÃ HỘI CHỦ NGHĨA VIỆT NAM
A3: TRƯỜNG CAO ĐẲNG LÝ TỰ TRỌNG THÀNH PHỐ HỒ CHÍ MINH | V3: Độc lập - Tự do - Hạnh phúc
A4: BẢNG TÍNH KHỐI LƯỢNG CÔNG VIỆC CỦA GIẢNG VIÊN TRONG NĂM HỌC 2017 - 2018
A5: KHOA : ………………………………..
A7: TT | B7: Họ và Tên | E7: Môn dạy | F7: lớp dạy | G7: Học kỳ | H7: Thực hiện trong năm học | S7: Số tiết chuẩn giảng dạy | T7: Số tiết chuẩn giảng dạy còn lại | U7: Số tiết chuẩn "Học tập, bồi dưỡng chuẩn hóa, bồi dưỡng nâng cao, nghiên cứu khoa học" | V7: Số tiết chuẩn "Học tập, bồi dưỡng chuẩn hóa, bồi dưỡng nâng cao, nghiên cứu khoa học" còn lại | W7: Số tiết chuẩn "Thực tập tại doanh nghiệp hoặc cơ quan chuyên môn" | X7: Số tiết chuẩn "Thực tập tại doanh nghiệp hoặc cơ quan chuyên môn" còn lại | Y7: Số tiết thừa, thiếu giảng dạy | Z7: Số tiết thừa, thiếu "Học tập, bồi dưỡng chuẩn hóa, bồi dưỡng nâng cao, nghiên cứu khoa học" | AA7: Số tiết thừa, thiếu "Thực tập tại doanh nghiệp hoặc cơ quan chuyên môn" | AB7: Số tiết thiếu năm học 2016-2017 | AC7: Tổng số tiết thừa, thiếu năm học 2017-2018
D8: MÃ LỚP HP | H8: Chưa nhân hệ số | J8: Sĩ số LHP | K8: Hệ số | M8: Số tiết quy đổi và đã nhân hệ số | N8: Kiêm nhiệm | O8: Số tiết soạn đề, coi thi, chấm thi | P8: Tổng tiết thực hiện | Q8: Số tiết "Học tập, bồi dưỡng chuẩn hóa, bồi dưỡng nâng cao, nghiên cứu khoa học" | R8: Số tiết "Thực tập tại doanh nghiệp hoặc cơ quan chuyên môn"
H9: LT | I9: TH | J9: Chính thức và học lại | K9: LT | L9: TH
A10: (1) | B10: (2) | E10: (3) | F10: (4) | G10: (5) | H10: (6) | I10: (7) | K10: (8) | L10: (9) | M10: (10) | N10: (11) | O10: (12) | P10: (13) | Q10: (14) | R10: (15) | T10: (16) | V10: (17) | X10: (18) | Y10: (19) | Z10: (20) | AA10: (21) | AB10: (22) | AC10: (23)
A11: 1 | B11: Nguyễn Vân | C11: Giang | D11: 020200001807 | E11: Cấu trúc dữ liệu và giải thuật | F11: 16CĐ-TW2 | G11: 1 | I11: 30 | J11: 44 | K11: =IF(OR(LEFT(E11,2)="ĐA",LEFT(E11,2)="DA",LEFT(E11,5)="Đồ án",LEFT(E11,5)="Đồán ",LEFT(E11,9)="Sinh hoạt",LEFT(E11,9)="sinh hoạt",LEFT(E11,6)="Cố vấn",LEFT(E11,6)="cố vấn",LEFT(E11,4)="cvht",LEFT(E11,4)="CVHT",LEFT(E11,4)="shcn",LEFT(E11,4)="SHCN"),0,(IF(AND(H11>0,J11>0),IF(J11>60,1.3,IF(J11>35,1.2,1)),0))) -> 0 | L11: =IF(OR(LEFT(E11,2)="ĐA",LEFT(E11,2)="DA",LEFT(E11,5)="Đồ án",LEFT(E11,5)="Đồán "),0,IF(AND(J11>0,I11>0),IF(AND(OR(LEFT(E11,4)="GDQP",LEFT(E11,4)="gdqp",LEFT(E11,19)="Giáo dục quốc phòng"),J11>50),1.3,IF(J11>35,1.2,IF(J11>29,1.1,1))),0)) -> 1.2 | M11: =ROUND(IF(OR(LEFT(E11,2)="ĐA",LEFT(E11,2)="DA",LEFT(E11,5)="Đồ án",LEFT(E11,5)="Đồán "),J11*0.5,(IF(H11>0,H11*K11,"0")+IF(I11>0,(I11*0.75)*L11,"0"))),1) -> 27 | N11: 157.5 | O11: 0 | P11: =SUM(M11:M22)+N11+O11 -> 750.9 | Q11: 21.4 | R11: 51.8 | S11: 450 | T11: 450 | U11: 112 | V11: 112 | W11: 56 | X11: 56 | Y11: =ROUND((P11-T11),1) -> 300.9 | Z11: =IF(OR(SUM(V11:V22)="",SUM(Q11:Q22)=""),0,IF(OR(SUM(U11:U22)=320,SUM(V11:V22)>0),ROUND((SUM(Q11:Q22)-SUM(V11:V22)),1),0)) -> -90.6 | AA11: =IF(OR(SUM(X11:X22)="",SUM(R11:R22)=""),0,IF(OR(SUM(W11:W22)=160,SUM(X11:X22)>0),ROUND((SUM(R11:R22)-SUM(X11:X22)),1),0)) -> -4.2 | AC11: =SUM(Y11:AA22) -> 206.1
D12: 020200093701 | E12: Cấu trúc dữ liệu và giải thuật | F12: 16CĐ-TP1 | G12: 1 | H12: 45 | I12: 30 | J12: 49 | K12: =IF(OR(LEFT(E12,2)="ĐA",LEFT(E12,2)="DA",LEFT(E12,5)="Đồ án",LEFT(E12,5)="Đồán ",LEFT(E12,9)="Sinh hoạt",LEFT(E12,9)="sinh hoạt",LEFT(E12,6)="Cố vấn",LEFT(E12,6)="cố vấn",LEFT(E12,4)="cvht",LEFT(E12,4)="CVHT",LEFT(E12,4)="shcn",LEFT(E12,4)="SHCN"),0,(IF(AND(H12>0,J12>0),IF(J12>60,1.3,IF(J12>35,1.2,1)),0))) -> 1.2 | L12: =IF(OR(LEFT(E12,2)="ĐA",LEFT(E12,2)="DA",LEFT(E12,5)="Đồ án",LEFT(E12,5)="Đồán "),0,IF(AND(J12>0,I12>0),IF(AND(OR(LEFT(E12,4)="GDQP",LEFT(E12,4)="gdqp",LEFT(E12,19)="Giáo dục quốc phòng"),J12>50),1.3,IF(J12>35,1.2,IF(J12>29,1.1,1))),0)) -> 1.2 | M12: =ROUND(IF(OR(LEFT(E12,2)="ĐA",LEFT(E12,2)="DA",LEFT(E12,5)="Đồ án",LEFT(E12,5)="Đồán "),J12*0.5,(IF(H12>0,H12*K12,"0")+IF(I12>0,(I12*0.75)*L12,"0"))),1) -> 81
D13: 020200093702 | E13: Cấu trúc dữ liệu và giải thuật | F13: 16CĐ-TP2 | G13: 1 | H13: 45 | I13: 30 | J13: 43 | K13: =IF(OR(LEFT(E13,2)="ĐA",LEFT(E13,2)="DA",LEFT(E13,5)="Đồ án",LEFT(E13,5)="Đồán ",LEFT(E13,9)="Sinh hoạt",LEFT(E13,9)="sinh hoạt",LEFT(E13,6)="Cố vấn",LEFT(E13,6)="cố vấn",LEFT(E13,4)="cvht",LEFT(E13,4)="CVHT",LEFT(E13,4)="shcn",LEFT(E13,4)="SHCN"),0,(IF(AND(H13>0,J13>0),IF(J13>60,1.3,IF(J13>35,1.2,1)),0))) -> 1.2 | L13: =IF(OR(LEFT(E13,2)="ĐA",LEFT(E13,2)="DA",LEFT(E13,5)="Đồ án",LEFT(E13,5)="Đồán "),0,IF(AND(J13>0,I13>0),IF(AND(OR(LEFT(E13,4)="GDQP",LEFT(E13,4)="gdqp",LEFT(E13,19)="Giáo dục quốc phòng"),J13>50),1.3,IF(J13>35,1.2,IF(J13>29,1.1,1))),0)) -> 1.2 | M13: =ROUND(IF(OR(LEFT(E13,2)="ĐA",LEFT(E13,2)="DA",LEFT(E13,5)="Đồ án",LEFT(E13,5)="Đồán "),J13*0.5,(IF(H13>0,H13*K13,"0")+IF(I13>0,(I13*0.75)*L13,"0"))),1) -> 81
D14: 50600084401 | E14: Cấu trúc dữ liệu và giải thuật (Lý thuyết) | F14: 16TCN-QTM1 | G14: 2 | H14: 34 | J14: 56 | K14: =IF(OR(LEFT(E14,2)="ĐA",LEFT(E14,2)="DA",LEFT(E14,5)="Đồ án",LEFT(E14,5)="Đồán ",LEFT(E14,9)="Sinh hoạt",LEFT(E14,9)="sinh hoạt",LEFT(E14,6)="Cố vấn",LEFT(E14,6)="cố vấn",LEFT(E14,4)="cvht",LEFT(E14,4)="CVHT",LEFT(E14,4)="shcn",LEFT(E14,4)="SHCN"),0,(IF(AND(H14>0,J14>0),IF(J14>60,1.3,IF(J14>35,1.2,1)),0))) -> 1.2 | L14: =IF(OR(LEFT(E14,2)="ĐA",LEFT(E14,2)="DA",LEFT(E14,5)="Đồ án",LEFT(E14,5)="Đồán "),0,IF(AND(J14>0,I14>0),IF(AND(OR(LEFT(E14,4)="GDQP",LEFT(E14,4)="gdqp",LEFT(E14,19)="Giáo dục quốc phòng"),J14>50),1.3,IF(J14>35,1.2,IF(J14>29,1.1,1))),0)) -> 0 | M14: =ROUND(IF(OR(LEFT(E14,2)="ĐA",LEFT(E14,2)="DA",LEFT(E14,5)="Đồ án",LEFT(E14,5)="Đồán "),J14*0.5,(IF(H14>0,H14*K14,"0")+IF(I14>0,(I14*0.75)*L14,"0"))),1) -> 40.8
D15: 50600084401 | E15: Cấu trúc dữ liệu và giải thuật (TH Nhóm 1) | F15: 16TCN-QTM1 | G15: 2 | I15: 26 | J15: 28 | K15: =IF(OR(LEFT(E15,2)="ĐA",LEFT(E15,2)="DA",LEFT(E15,5)="Đồ án",LEFT(E15,5)="Đồán ",LEFT(E15,9)="Sinh hoạt",LEFT(E15,9)="sinh hoạt",LEFT(E15,6)="Cố vấn",LEFT(E15,6)="cố vấn",LEFT(E15,4)="cvht",LEFT(E15,4)="CVHT",LEFT(E15,4)="shcn",LEFT(E15,4)="SHCN"),0,(IF(AND(H15>0,J15>0),IF(J15>60,1.3,IF(J15>35,1.2,1)),0))) -> 0 | L15: =IF(OR(LEFT(E15,2)="ĐA",LEFT(E15,2)="DA",LEFT(E15,5)="Đồ án",LEFT(E15,5)="Đồán "),0,IF(AND(J15>0,I15>0),IF(AND(OR(LEFT(E15,4)="GDQP",LEFT(E15,4)="gdqp",LEFT(E15,19)="Giáo dục quốc phòng"),J15>50),1.3,IF(J15>35,1.2,IF(J15>29,1.1,1))),0)) -> 1 | M15: =ROUND(IF(OR(LEFT(E15,2)="ĐA",LEFT(E15,2)="DA",LEFT(E15,5)="Đồ án",LEFT(E15,5)="Đồán "),J15*0.5,(IF(H15>0,H15*K15,"0")+IF(I15>0,(I15*0.75)*L15,"0"))),1) -> 19.5
D16: 50600084401 | E16: Cấu trúc dữ liệu và giải thuật (TH Nhóm 2) | F16: 16TCN-QTM1 | G16: 2 | I16: 26 | J16: 28 | K16: =IF(OR(LEFT(E16,2)="ĐA",LEFT(E16,2)="DA",LEFT(E16,5)="Đồ án",LEFT(E16,5)="Đồán ",LEFT(E16,9)="Sinh hoạt",LEFT(E16,9)="sinh hoạt",LEFT(E16,6)="Cố vấn",LEFT(E16,6)="cố vấn",LEFT(E16,4)="cvht",LEFT(E16,4)="CVHT",LEFT(E16,4)="shcn",LEFT(E16,4)="SHCN"),0,(IF(AND(H16>0,J16>0),IF(J16>60,1.3,IF(J16>35,1.2,1)),0))) -> 0 | L16: =IF(OR(LEFT(E16,2)="ĐA",LEFT(E16,2)="DA",LEFT(E16,5)="Đồ án",LEFT(E16,5)="Đồán "),0,IF(AND(J16>0,I16>0),IF(AND(OR(LEFT(E16,4)="GDQP",LEFT(E16,4)="gdqp",LEFT(E16,19)="Giáo dục quốc phòng"),J16>50),1.3,IF(J16>35,1.2,IF(J16>29,1.1,1))),0)) -> 1 | M16: =ROUND(IF(OR(LEFT(E16,2)="ĐA",LEFT(E16,2)="DA",LEFT(E16,5)="Đồ án",LEFT(E16,5)="Đồán "),J16*0.5,(IF(H16>0,H16*K16,"0")+IF(I16>0,(I16*0.75)*L16,"0"))),1) -> 19.5
D17: 50600084402 | E17: Cấu trúc dữ liệu và giải thuật | F17: 16TCN-QTM2 | G17: 2 | H17: 38 | I17: 20 | J17: 50 | K17: =IF(OR(LEFT(E17,2)="ĐA",LEFT(E17,2)="DA",LEFT(E17,5)="Đồ án",LEFT(E17,5)="Đồán ",LEFT(E17,9)="Sinh hoạt",LEFT(E17,9)="sinh hoạt",LEFT(E17,6)="Cố vấn",LEFT(E17,6)="cố vấn",LEFT(E17,4)="cvht",LEFT(E17,4)="CVHT",LEFT(E17,4)="shcn",LEFT(E17,4)="SHCN"),0,(IF(AND(H17>0,J17>0),IF(J17>60,1.3,IF(J17>35,1.2,1)),0))) -> 1.2 | L17: =IF(OR(LEFT(E17,2)="ĐA",LEFT(E17,2)="DA",LEFT(E17,5)="Đồ án",LEFT(E17,5)="Đồán "),0,IF(AND(J17>0,I17>0),IF(AND(OR(LEFT(E17,4)="GDQP",LEFT(E17,4)="gdqp",LEFT(E17,19)="Giáo dục quốc phòng"),J17>50),1.3,IF(J17>35,1.2,IF(J17>29,1.1,1))),0)) -> 1.2 | M17: =ROUND(IF(OR(LEFT(E17,2)="ĐA",LEFT(E17,2)="DA",LEFT(E17,5)="Đồ án",LEFT(E17,5)="Đồán "),J17*0.5,(IF(H17>0,H17*K17,"0")+IF(I17>0,(I17*0.75)*L17,"0"))),1) -> 63.6
D18: 50600084402 | E18: Cấu trúc dữ liệu và giải thuật (TH nhóm 1) | F18: 16TCN-QTM2 | G18: 2 | I18: 6 | J18: 25 | K18: =IF(OR(LEFT(E18,2)="ĐA",LEFT(E18,2)="DA",LEFT(E18,5)="Đồ án",LEFT(E18,5)="Đồán ",LEFT(E18,9)="Sinh hoạt",LEFT(E18,9)="sinh hoạt",LEFT(E18,6)="Cố vấn",LEFT(E18,6)="cố vấn",LEFT(E18,4)="cvht",LEFT(E18,4)="CVHT",LEFT(E18,4)="shcn",LEFT(E18,4)="SHCN"),0,(IF(AND(H18>0,J18>0),IF(J18>60,1.3,IF(J18>35,1.2,1)),0))) -> 0 | L18: =IF(OR(LEFT(E18,2)="ĐA",LEFT(E18,2)="DA",LEFT(E18,5)="Đồ án",LEFT(E18,5)="Đồán "),0,IF(AND(J18>0,I18>0),IF(AND(OR(LEFT(E18,4)="GDQP",LEFT(E18,4)="gdqp",LEFT(E18,19)="Giáo dục quốc phòng"),J18>50),1.3,IF(J18>35,1.2,IF(J18>29,1.1,1))),0)) -> 1 | M18: =ROUND(IF(OR(LEFT(E18,2)="ĐA",LEFT(E18,2)="DA",LEFT(E18,5)="Đồ án",LEFT(E18,5)="Đồán "),J18*0.5,(IF(H18>0,H18*K18,"0")+IF(I18>0,(I18*0.75)*L18,"0"))),1) -> 4.5
D19: 50600084402 | E19: Cấu trúc dữ liệu và giải thuật (TH Nhóm 2) | F19: 16TCN-QTM2 | G19: 2 | I19: 6 | J19: 25 | K19: =IF(OR(LEFT(E19,2)="ĐA",LEFT(E19,2)="DA",LEFT(E19,5)="Đồ án",LEFT(E19,5)="Đồán ",LEFT(E19,9)="Sinh hoạt",LEFT(E19,9)="sinh hoạt",LEFT(E19,6)="Cố vấn",LEFT(E19,6)="cố vấn",LEFT(E19,4)="cvht",LEFT(E19,4)="CVHT",LEFT(E19,4)="shcn",LEFT(E19,4)="SHCN"),0,(IF(AND(H19>0,J19>0),IF(J19>60,1.3,IF(J19>35,1.2,1)),0))) -> 0 | L19: =IF(OR(LEFT(E19,2)="ĐA",LEFT(E19,2)="DA",LEFT(E19,5)="Đồ án",LEFT(E19,5)="Đồán "),0,IF(AND(J19>0,I19>0),IF(AND(OR(LEFT(E19,4)="GDQP",LEFT(E19,4)="gdqp",LEFT(E19,19)="Giáo dục quốc phòng"),J19>50),1.3,IF(J19>35,1.2,IF(J19>29,1.1,1))),0)) -> 1 | M19: =ROUND(IF(OR(LEFT(E19,2)="ĐA",LEFT(E19,2)="DA",LEFT(E19,5)="Đồ án",LEFT(E19,5)="Đồán "),J19*0.5,(IF(H19>0,H19*K19,"0")+IF(I19>0,(I19*0.75)*L19,"0"))),1) -> 4.5
D20: 021100094303 | E20: Kỹ thuật Lập trình | F20: 17C1-LTM1 | G20: 2 | H20: 30 | I20: 60 | J20: 49 | K20: =IF(OR(LEFT(E20,2)="ĐA",LEFT(E20,2)="DA",LEFT(E20,5)="Đồ án",LEFT(E20,5)="Đồán ",LEFT(E20,9)="Sinh hoạt",LEFT(E20,9)="sinh hoạt",LEFT(E20,6)="Cố vấn",LEFT(E20,6)="cố vấn",LEFT(E20,4)="cvht",LEFT(E20,4)="CVHT",LEFT(E20,4)="shcn",LEFT(E20,4)="SHCN"),0,(IF(AND(H20>0,J20>0),IF(J20>60,1.3,IF(J20>35,1.2,1)),0))) -> 1.2 | L20: =IF(OR(LEFT(E20,2)="ĐA",LEFT(E20,2)="DA",LEFT(E20,5)="Đồ án",LEFT(E20,5)="Đồán "),0,IF(AND(J20>0,I20>0),IF(AND(OR(LEFT(E20,4)="GDQP",LEFT(E20,4)="gdqp",LEFT(E20,19)="Giáo dục quốc phòng"),J20>50),1.3,IF(J20>35,1.2,IF(J20>29,1.1,1))),0)) -> 1.2 | M20: =ROUND(IF(OR(LEFT(E20,2)="ĐA",LEFT(E20,2)="DA",LEFT(E20,5)="Đồ án",LEFT(E20,5)="Đồán "),J20*0.5,(IF(H20>0,H20*K20,"0")+IF(I20>0,(I20*0.75)*L20,"0"))),1) -> 90
D21: 021100094403 | E21: Cấu trúc dữ liệu và giải thuật | F21: 17C1-LTM1 | G21: 2 | H21: 15 | I21: 60 | J21: 49 | K21: =IF(OR(LEFT(E21,2)="ĐA",LEFT(E21,2)="DA",LEFT(E21,5)="Đồ án",LEFT(E21,5)="Đồán ",LEFT(E21,9)="Sinh hoạt",LEFT(E21,9)="sinh hoạt",LEFT(E21,6)="Cố vấn",LEFT(E21,6)="cố vấn",LEFT(E21,4)="cvht",LEFT(E21,4)="CVHT",LEFT(E21,4)="shcn",LEFT(E21,4)="SHCN"),0,(IF(AND(H21>0,J21>0),IF(J21>60,1.3,IF(J21>35,1.2,1)),0))) -> 1.2 | L21: =IF(OR(LEFT(E21,2)="ĐA",LEFT(E21,2)="DA",LEFT(E21,5)="Đồ án",LEFT(E21,5)="Đồán "),0,IF(AND(J21>0,I21>0),IF(AND(OR(LEFT(E21,4)="GDQP",LEFT(E21,4)="gdqp",LEFT(E21,19)="Giáo dục quốc phòng"),J21>50),1.3,IF(J21>35,1.2,IF(J21>29,1.1,1))),0)) -> 1.2 | M21: =ROUND(IF(OR(LEFT(E21,2)="ĐA",LEFT(E21,2)="DA",LEFT(E21,5)="Đồ án",LEFT(E21,5)="Đồán "),J21*0.5,(IF(H21>0,H21*K21,"0")+IF(I21>0,(I21*0.75)*L21,"0"))),1) -> 72
D22: 021100094307 | E22: Kỹ thuật Lập trình | F22: 17C1-CTM2 | G22: 2 | H22: 30 | I22: 60 | J22: 50 | K22: =IF(OR(LEFT(E22,2)="ĐA",LEFT(E22,2)="DA",LEFT(E22,5)="Đồ án",LEFT(E22,5)="Đồán ",LEFT(E22,9)="Sinh hoạt",LEFT(E22,9)="sinh hoạt",LEFT(E22,6)="Cố vấn",LEFT(E22,6)="cố vấn",LEFT(E22,4)="cvht",LEFT(E22,4)="CVHT",LEFT(E22,4)="shcn",LEFT(E22,4)="SHCN"),0,(IF(AND(H22>0,J22>0),IF(J22>60,1.3,IF(J22>35,1.2,1)),0))) -> 1.2 | L22: =IF(OR(LEFT(E22,2)="ĐA",LEFT(E22,2)="DA",LEFT(E22,5)="Đồ án",LEFT(E22,5)="Đồán "),0,IF(AND(J22>0,I22>0),IF(AND(OR(LEFT(E22,4)="GDQP",LEFT(E22,4)="gdqp",LEFT(E22,19)="Giáo dục quốc phòng"),J22>50),1.3,IF(J22>35,1.2,IF(J22>29,1.1,1))),0)) -> 1.2 | M22: =ROUND(IF(OR(LEFT(E22,2)="ĐA",LEFT(E22,2)="DA",LEFT(E22,5)="Đồ án",LEFT(E22,5)="Đồán "),J22*0.5,(IF(H22>0,H22*K22,"0")+IF(I22>0,(I22*0.75)*L22,"0"))),1) -> 90
A23: 2 | B23: Nguyễn | C23: Khoa | D23: 41000092301 | E23: Lập trình quản lý | F23: 15TC-QTM | G23: 1 | H23: 45 | I23: 30 | J23: 13 | K23: =IF(OR(LEFT(E23,2)="ĐA",LEFT(E23,2)="DA",LEFT(E23,5)="Đồ án",LEFT(E23,5)="Đồán ",LEFT(E23,9)="Sinh hoạt",LEFT(E23,9)="sinh hoạt",LEFT(E23,6)="Cố vấn",LEFT(E23,6)="cố vấn",LEFT(E23,4)="cvht",LEFT(E23,4)="CVHT",LEFT(E23,4)="shcn",LEFT(E23,4)="SHCN"),0,(IF(AND(H23>0,J23>0),IF(J23>60,1.3,IF(J23>35,1.2,1)),0))) -> 1 | L23: =IF(OR(LEFT(E23,2)="ĐA",LEFT(E23,2)="DA",LEFT(E23,5)="Đồ án",LEFT(E23,5)="Đồán "),0,IF(AND(J23>0,I23>0),IF(AND(OR(LEFT(E23,4)="GDQP",LEFT(E23,4)="gdqp",LEFT(E23,19)="Giáo dục quốc phòng"),J23>50),1.3,IF(J23>35,1.2,IF(J23>29,1.1,1))),0)) -> 1 | M23: =ROUND(IF(OR(LEFT(E23,2)="ĐA",LEFT(E23,2)="DA",LEFT(E23,5)="Đồ án",LEFT(E23,5)="Đồán "),J23*0.5,(IF(H23>0,H23*K23,"0")+IF(I23>0,(I23*0.75)*L23,"0"))),1) -> 67.5 | N23: 213.8 | O23: 0 | P23: 763 | Q23: 0 | R23: 29.4 | S23: 450 | T23: 450 | U23: 112 | V23: 112 | W23: 56 | X23: 56 | Y23: 313.1 | Z23: -112 | AA23: -27 | AC23: 174.1
D24: 30600068401 | E24: Tin học ứng dụng trong kinh doanh | F24: 16CĐN-QTD | G24: 1 | H24: 31 | I24: 39 | J24: 38 | K24: =IF(OR(LEFT(E24,2)="ĐA",LEFT(E24,2)="DA",LEFT(E24,5)="Đồ án",LEFT(E24,5)="Đồán ",LEFT(E24,9)="Sinh hoạt",LEFT(E24,9)="sinh hoạt",LEFT(E24,6)="Cố vấn",LEFT(E24,6)="cố vấn",LEFT(E24,4)="cvht",LEFT(E24,4)="CVHT",LEFT(E24,4)="shcn",LEFT(E24,4)="SHCN"),0,(IF(AND(H24>0,J24>0),IF(J24>60,1.3,IF(J24>35,1.2,1)),0))) -> 1.2 | L24: =IF(OR(LEFT(E24,2)="ĐA",LEFT(E24,2)="DA",LEFT(E24,5)="Đồ án",LEFT(E24,5)="Đồán "),0,IF(AND(J24>0,I24>0),IF(AND(OR(LEFT(E24,4)="GDQP",LEFT(E24,4)="gdqp",LEFT(E24,19)="Giáo dục quốc phòng"),J24>50),1.3,IF(J24>35,1.2,IF(J24>29,1.1,1))),0)) -> 1.2 | M24: =ROUND(IF(OR(LEFT(E24,2)="ĐA",LEFT(E24,2)="DA",LEFT(E24,5)="Đồ án",LEFT(E24,5)="Đồán "),J24*0.5,(IF(H24>0,H24*K24,"0")+IF(I24>0,(I24*0.75)*L24,"0"))),1) -> 72.3
D25: 20200009803 | E25: Lập trình quản lý | F25: 16CĐ-TM1 | G25: 1 | H25: 45 | I25: 30 | J25: 46 | K25: =IF(OR(LEFT(E25,2)="ĐA",LEFT(E25,2)="DA",LEFT(E25,5)="Đồ án",LEFT(E25,5)="Đồán ",LEFT(E25,9)="Sinh hoạt",LEFT(E25,9)="sinh hoạt",LEFT(E25,6)="Cố vấn",LEFT(E25,6)="cố vấn",LEFT(E25,4)="cvht",LEFT(E25,4)="CVHT",LEFT(E25,4)="shcn",LEFT(E25,4)="SHCN"),0,(IF(AND(H25>0,J25>0),IF(J25>60,1.3,IF(J25>35,1.2,1)),0))) -> 1.2 | L25: =IF(OR(LEFT(E25,2)="ĐA",LEFT(E25,2)="DA",LEFT(E25,5)="Đồ án",LEFT(E25,5)="Đồán "),0,IF(AND(J25>0,I25>0),IF(AND(OR(LEFT(E25,4)="GDQP",LEFT(E25,4)="gdqp",LEFT(E25,19)="Giáo dục quốc phòng"),J25>50),1.3,IF(J25>35,1.2,IF(J25>29,1.1,1))),0)) -> 1.2 | M25: =ROUND(IF(OR(LEFT(E25,2)="ĐA",LEFT(E25,2)="DA",LEFT(E25,5)="Đồ án",LEFT(E25,5)="Đồán "),J25*0.5,(IF(H25>0,H25*K25,"0")+IF(I25>0,(I25*0.75)*L25,"0"))),1) -> 81
D26: 20200009804 | E26: Lập trình quản lý | F26: 16CĐ-TM2 | G26: 1 | H26: 45 | I26: 30 | J26: 42 | K26: =IF(OR(LEFT(E26,2)="ĐA",LEFT(E26,2)="DA",LEFT(E26,5)="Đồ án",LEFT(E26,5)="Đồán ",LEFT(E26,9)="Sinh hoạt",LEFT(E26,9)="sinh hoạt",LEFT(E26,6)="Cố vấn",LEFT(E26,6)="cố vấn",LEFT(E26,4)="cvht",LEFT(E26,4)="CVHT",LEFT(E26,4)="shcn",LEFT(E26,4)="SHCN"),0,(IF(AND(H26>0,J26>0),IF(J26>60,1.3,IF(J26>35,1.2,1)),0))) -> 1.2 | L26: =IF(OR(LEFT(E26,2)="ĐA",LEFT(E26,2)="DA",LEFT(E26,5)="Đồ án",LEFT(E26,5)="Đồán "),0,IF(AND(J26>0,I26>0),IF(AND(OR(LEFT(E26,4)="GDQP",LEFT(E26,4)="gdqp",LEFT(E26,19)="Giáo dục quốc phòng"),J26>50),1.3,IF(J26>35,1.2,IF(J26>29,1.1,1))),0)) -> 1.2 | M26: =ROUND(IF(OR(LEFT(E26,2)="ĐA",LEFT(E26,2)="DA",LEFT(E26,5)="Đồ án",LEFT(E26,5)="Đồán "),J26*0.5,(IF(H26>0,H26*K26,"0")+IF(I26>0,(I26*0.75)*L26,"0"))),1) -> 81
D27: 21100119922 | E27: Tin học | F27: 17C1-ĐCN3 | G27: 1 | H27: 0 | I27: 4 | J27: 37 | K27: =IF(OR(LEFT(E27,2)="ĐA",LEFT(E27,2)="DA",LEFT(E27,5)="Đồ án",LEFT(E27,5)="Đồán ",LEFT(E27,9)="Sinh hoạt",LEFT(E27,9)="sinh hoạt",LEFT(E27,6)="Cố vấn",LEFT(E27,6)="cố vấn",LEFT(E27,4)="cvht",LEFT(E27,4)="CVHT",LEFT(E27,4)="shcn",LEFT(E27,4)="SHCN"),0,(IF(AND(H27>0,J27>0),IF(J27>60,1.3,IF(J27>35,1.2,1)),0))) -> 0 | L27: =IF(OR(LEFT(E27,2)="ĐA",LEFT(E27,2)="DA",LEFT(E27,5)="Đồ án",LEFT(E27,5)="Đồán "),0,IF(AND(J27>0,I27>0),IF(AND(OR(LEFT(E27,4)="GDQP",LEFT(E27,4)="gdqp",LEFT(E27,19)="Giáo dục quốc phòng"),J27>50),1.3,IF(J27>35,1.2,IF(J27>29,1.1,1))),0)) -> 1.2 | M27: =ROUND(IF(OR(LEFT(E27,2)="ĐA",LEFT(E27,2)="DA",LEFT(E27,5)="Đồ án",LEFT(E27,5)="Đồán "),J27*0.5,(IF(H27>0,H27*K27,"0")+IF(I27>0,(I27*0.75)*L27,"0"))),1) -> 3.6
D28: 21100119946 | E28: Tin học | F28: 17C1-ĐCN4 | G28: 1 | H28: 30 | I28: 60 | J28: 45 | K28: =IF(OR(LEFT(E28,2)="ĐA",LEFT(E28,2)="DA",LEFT(E28,5)="Đồ án",LEFT(E28,5)="Đồán ",LEFT(E28,9)="Sinh hoạt",LEFT(E28,9)="sinh hoạt",LEFT(E28,6)="Cố vấn",LEFT(E28,6)="cố vấn",LEFT(E28,4)="cvht",LEFT(E28,4)="CVHT",LEFT(E28,4)="shcn",LEFT(E28,4)="SHCN"),0,(IF(AND(H28>0,J28>0),IF(J28>60,1.3,IF(J28>35,1.2,1)),0))) -> 1.2 | L28: =IF(OR(LEFT(E28,2)="ĐA",LEFT(E28,2)="DA",LEFT(E28,5)="Đồ án",LEFT(E28,5)="Đồán "),0,IF(AND(J28>0,I28>0),IF(AND(OR(LEFT(E28,4)="GDQP",LEFT(E28,4)="gdqp",LEFT(E28,19)="Giáo dục quốc phòng"),J28>50),1.3,IF(J28>35,1.2,IF(J28>29,1.1,1))),0)) -> 1.2 | M28: =ROUND(IF(OR(LEFT(E28,2)="ĐA",LEFT(E28,2)="DA",LEFT(E28,5)="Đồ án",LEFT(E28,5)="Đồán "),J28*0.5,(IF(H28>0,H28*K28,"0")+IF(I28>0,(I28*0.75)*L28,"0"))),1) -> 90
D29: 71400119904 | E29: Tin học | F29: 17T4-LTM1 | G29: 1 | H29: 30 | I29: 60 | J29: 44 | K29: =IF(OR(LEFT(E29,2)="ĐA",LEFT(E29,2)="DA",LEFT(E29,5)="Đồ án",LEFT(E29,5)="Đồán ",LEFT(E29,9)="Sinh hoạt",LEFT(E29,9)="sinh hoạt",LEFT(E29,6)="Cố vấn",LEFT(E29,6)="cố vấn",LEFT(E29,4)="cvht",LEFT(E29,4)="CVHT",LEFT(E29,4)="shcn",LEFT(E29,4)="SHCN"),0,(IF(AND(H29>0,J29>0),IF(J29>60,1.3,IF(J29>35,1.2,1)),0))) -> 1.2 | L29: =IF(OR(LEFT(E29,2)="ĐA",LEFT(E29,2)="DA",LEFT(E29,5)="Đồ án",LEFT(E29,5)="Đồán "),0,IF(AND(J29>0,I29>0),IF(AND(OR(LEFT(E29,4)="GDQP",LEFT(E29,4)="gdqp",LEFT(E29,19)="Giáo dục quốc phòng"),J29>50),1.3,IF(J29>35,1.2,IF(J29>29,1.1,1))),0)) -> 1.2 | M29: =ROUND(IF(OR(LEFT(E29,2)="ĐA",LEFT(E29,2)="DA",LEFT(E29,5)="Đồ án",LEFT(E29,5)="Đồán "),J29*0.5,(IF(H29>0,H29*K29,"0")+IF(I29>0,(I29*0.75)*L29,"0"))),1) -> 90
D30: 71400119905 | E30: Tin học | F30: 17T4-QTM1 | G30: 1 | H30: 2 | I30: 4 | J30: 45 | K30: =IF(OR(LEFT(E30,2)="ĐA",LEFT(E30,2)="DA",LEFT(E30,5)="Đồ án",LEFT(E30,5)="Đồán ",LEFT(E30,9)="Sinh hoạt",LEFT(E30,9)="sinh hoạt",LEFT(E30,6)="Cố vấn",LEFT(E30,6)="cố vấn",LEFT(E30,4)="cvht",LEFT(E30,4)="CVHT",LEFT(E30,4)="shcn",LEFT(E30,4)="SHCN"),0,(IF(AND(H30>0,J30>0),IF(J30>60,1.3,IF(J30>35,1.2,1)),0))) -> 1.2 | L30: =IF(OR(LEFT(E30,2)="ĐA",LEFT(E30,2)="DA",LEFT(E30,5)="Đồ án",LEFT(E30,5)="Đồán "),0,IF(AND(J30>0,I30>0),IF(AND(OR(LEFT(E30,4)="GDQP",LEFT(E30,4)="gdqp",LEFT(E30,19)="Giáo dục quốc phòng"),J30>50),1.3,IF(J30>35,1.2,IF(J30>29,1.1,1))),0)) -> 1.2 | M30: =ROUND(IF(OR(LEFT(E30,2)="ĐA",LEFT(E30,2)="DA",LEFT(E30,5)="Đồ án",LEFT(E30,5)="Đồán "),J30*0.5,(IF(H30>0,H30*K30,"0")+IF(I30>0,(I30*0.75)*L30,"0"))),1) -> 6
D31: 71300119902 | E31: Tin học | F31: 17T4-QTM2 | G31: 1 | H31: 10 | I31: 20 | J31: 43 | K31: =IF(OR(LEFT(E31,2)="ĐA",LEFT(E31,2)="DA",LEFT(E31,5)="Đồ án",LEFT(E31,5)="Đồán ",LEFT(E31,9)="Sinh hoạt",LEFT(E31,9)="sinh hoạt",LEFT(E31,6)="Cố vấn",LEFT(E31,6)="cố vấn",LEFT(E31,4)="cvht",LEFT(E31,4)="CVHT",LEFT(E31,4)="shcn",LEFT(E31,4)="SHCN"),0,(IF(AND(H31>0,J31>0),IF(J31>60,1.3,IF(J31>35,1.2,1)),0))) -> 1.2 | L31: =IF(OR(LEFT(E31,2)="ĐA",LEFT(E31,2)="DA",LEFT(E31,5)="Đồ án",LEFT(E31,5)="Đồán "),0,IF(AND(J31>0,I31>0),IF(AND(OR(LEFT(E31,4)="GDQP",LEFT(E31,4)="gdqp",LEFT(E31,19)="Giáo dục quốc phòng"),J31>50),1.3,IF(J31>35,1.2,IF(J31>29,1.1,1))),0)) -> 1.2 | M31: =ROUND(IF(OR(LEFT(E31,2)="ĐA",LEFT(E31,2)="DA",LEFT(E31,5)="Đồ án",LEFT(E31,5)="Đồán "),J31*0.5,(IF(H31>0,H31*K31,"0")+IF(I31>0,(I31*0.75)*L31,"0"))),1) -> 30
D32: 21100119923 | E32: Tin học | F32: 17C1-CNM2 | G32: 2 | H32: 14 | I32: 28 | J32: 45 | K32: =IF(OR(LEFT(E32,2)="ĐA",LEFT(E32,2)="DA",LEFT(E32,5)="Đồ án",LEFT(E32,5)="Đồán ",LEFT(E32,9)="Sinh hoạt",LEFT(E32,9)="sinh hoạt",LEFT(E32,6)="Cố vấn",LEFT(E32,6)="cố vấn",LEFT(E32,4)="cvht",LEFT(E32,4)="CVHT",LEFT(E32,4)="shcn",LEFT(E32,4)="SHCN"),0,(IF(AND(H32>0,J32>0),IF(J32>60,1.3,IF(J32>35,1.2,1)),0))) -> 1.2 | L32: =IF(OR(LEFT(E32,2)="ĐA",LEFT(E32,2)="DA",LEFT(E32,5)="Đồ án",LEFT(E32,5)="Đồán "),0,IF(AND(J32>0,I32>0),IF(AND(OR(LEFT(E32,4)="GDQP",LEFT(E32,4)="gdqp",LEFT(E32,19)="Giáo dục quốc phòng"),J32>50),1.3,IF(J32>35,1.2,IF(J32>29,1.1,1))),0)) -> 1.2 | M32: =ROUND(IF(OR(LEFT(E32,2)="ĐA",LEFT(E32,2)="DA",LEFT(E32,5)="Đồ án",LEFT(E32,5)="Đồán "),J32*0.5,(IF(H32>0,H32*K32,"0")+IF(I32>0,(I32*0.75)*L32,"0"))),1) -> 42
D33: 21100119920 | E33: Tin học | F33: 17C1-CNÔ14 | G33: 2 | H33: 0 | I33: 4 | J33: 41 | K33: =IF(OR(LEFT(E33,2)="ĐA",LEFT(E33,2)="DA",LEFT(E33,5)="Đồ án",LEFT(E33,5)="Đồán ",LEFT(E33,9)="Sinh hoạt",LEFT(E33,9)="sinh hoạt",LEFT(E33,6)="Cố vấn",LEFT(E33,6)="cố vấn",LEFT(E33,4)="cvht",LEFT(E33,4)="CVHT",LEFT(E33,4)="shcn",LEFT(E33,4)="SHCN"),0,(IF(AND(H33>0,J33>0),IF(J33>60,1.3,IF(J33>35,1.2,1)),0))) -> 0 | L33: =IF(OR(LEFT(E33,2)="ĐA",LEFT(E33,2)="DA",LEFT(E33,5)="Đồ án",LEFT(E33,5)="Đồán "),0,IF(AND(J33>0,I33>0),IF(AND(OR(LEFT(E33,4)="GDQP",LEFT(E33,4)="gdqp",LEFT(E33,19)="Giáo dục quốc phòng"),J33>50),1.3,IF(J33>35,1.2,IF(J33>29,1.1,1))),0)) -> 1.2 | M33: =ROUND(IF(OR(LEFT(E33,2)="ĐA",LEFT(E33,2)="DA",LEFT(E33,5)="Đồ án",LEFT(E33,5)="Đồán "),J33*0.5,(IF(H33>0,H33*K33,"0")+IF(I33>0,(I33*0.75)*L33,"0"))),1) -> 3.6
A34: 3 | B34: Nguyễn Văn | C34: Minh | D34: 050600068902 | E34: Lập trình căn bản | F34: 16TCN-QTM2 | G34: 1 | H34: 50 | I34: 40 | J34: 50 | K34: =IF(OR(LEFT(E34,2)="ĐA",LEFT(E34,2)="DA",LEFT(E34,5)="Đồ án",LEFT(E34,5)="Đồán ",LEFT(E34,9)="Sinh hoạt",LEFT(E34,9)="sinh hoạt",LEFT(E34,6)="Cố vấn",LEFT(E34,6)="cố vấn",LEFT(E34,4)="cvht",LEFT(E34,4)="CVHT",LEFT(E34,4)="shcn",LEFT(E34,4)="SHCN"),0,(IF(AND(H34>0,J34>0),IF(J34>60,1.3,IF(J34>35,1.2,1)),0))) -> 1.2 | L34: =IF(OR(LEFT(E34,2)="ĐA",LEFT(E34,2)="DA",LEFT(E34,5)="Đồ án",LEFT(E34,5)="Đồán "),0,IF(AND(J34>0,I34>0),IF(AND(OR(LEFT(E34,4)="GDQP",LEFT(E34,4)="gdqp",LEFT(E34,19)="Giáo dục quốc phòng"),J34>50),1.3,IF(J34>35,1.2,IF(J34>29,1.1,1))),0)) -> 1.2 | M34: =ROUND(IF(OR(LEFT(E34,2)="ĐA",LEFT(E34,2)="DA",LEFT(E34,5)="Đồ án",LEFT(E34,5)="Đồán "),J34*0.5,(IF(H34>0,H34*K34,"0")+IF(I34>0,(I34*0.75)*L34,"0"))),1) -> 96 | N34: 37.5 | O34: 0 | P34: =SUM(M34:M44)+N34+O34 -> 773.1 | Q34: 0 | R34: 37.8 | S34: 450 | T34: 450 | U34: 112 | V34: 112 | W34: 56 | X34: 56 | Y34: =ROUND((P34-T34),1) -> 323.1 | Z34: =IF(OR(SUM(V34:V44)="",SUM(Q34:Q44)=""),0,IF(OR(SUM(U34:U44)=320,SUM(V34:V44)>0),ROUND((SUM(Q34:Q44)-SUM(V34:V44)),1),0)) -> -112 | AA34: =IF(OR(SUM(X34:X44)="",SUM(R34:R44)=""),0,IF(OR(SUM(W34:W44)=160,SUM(X34:X44)>0),ROUND((SUM(R34:R44)-SUM(X34:X44)),1),0)) -> -18.2 | AC34: =SUM(Y34:AA44) -> 192.9
D35: 020200001808 | E35: Cấu trúc dữ liệu và giải thuật | F35: 16CĐ-TM1 | G35: 1 | H35: 45 | I35: 30 | J35: 45 | K35: =IF(OR(LEFT(E35,2)="ĐA",LEFT(E35,2)="DA",LEFT(E35,5)="Đồ án",LEFT(E35,5)="Đồán ",LEFT(E35,9)="Sinh hoạt",LEFT(E35,9)="sinh hoạt",LEFT(E35,6)="Cố vấn",LEFT(E35,6)="cố vấn",LEFT(E35,4)="cvht",LEFT(E35,4)="CVHT",LEFT(E35,4)="shcn",LEFT(E35,4)="SHCN"),0,(IF(AND(H35>0,J35>0),IF(J35>60,1.3,IF(J35>35,1.2,1)),0))) -> 1.2 | L35: =IF(OR(LEFT(E35,2)="ĐA",LEFT(E35,2)="DA",LEFT(E35,5)="Đồ án",LEFT(E35,5)="Đồán "),0,IF(AND(J35>0,I35>0),IF(AND(OR(LEFT(E35,4)="GDQP",LEFT(E35,4)="gdqp",LEFT(E35,19)="Giáo dục quốc phòng"),J35>50),1.3,IF(J35>35,1.2,IF(J35>29,1.1,1))),0)) -> 1.2 | M35: =ROUND(IF(OR(LEFT(E35,2)="ĐA",LEFT(E35,2)="DA",LEFT(E35,5)="Đồ án",LEFT(E35,5)="Đồán "),J35*0.5,(IF(H35>0,H35*K35,"0")+IF(I35>0,(I35*0.75)*L35,"0"))),1) -> 81
D36: 020200001809 | E36: Cấu trúc dữ liệu và giải thuật | F36: 16CĐ-TM2 | G36: 1 | H36: 45 | I36: 30 | J36: 50 | K36: =IF(OR(LEFT(E36,2)="ĐA",LEFT(E36,2)="DA",LEFT(E36,5)="Đồ án",LEFT(E36,5)="Đồán ",LEFT(E36,9)="Sinh hoạt",LEFT(E36,9)="sinh hoạt",LEFT(E36,6)="Cố vấn",LEFT(E36,6)="cố vấn",LEFT(E36,4)="cvht",LEFT(E36,4)="CVHT",LEFT(E36,4)="shcn",LEFT(E36,4)="SHCN"),0,(IF(AND(H36>0,J36>0),IF(J36>60,1.3,IF(J36>35,1.2,1)),0))) -> 1.2 | L36: =IF(OR(LEFT(E36,2)="ĐA",LEFT(E36,2)="DA",LEFT(E36,5)="Đồ án",LEFT(E36,5)="Đồán "),0,IF(AND(J36>0,I36>0),IF(AND(OR(LEFT(E36,4)="GDQP",LEFT(E36,4)="gdqp",LEFT(E36,19)="Giáo dục quốc phòng"),J36>50),1.3,IF(J36>35,1.2,IF(J36>29,1.1,1))),0)) -> 1.2 | M36: =ROUND(IF(OR(LEFT(E36,2)="ĐA",LEFT(E36,2)="DA",LEFT(E36,5)="Đồ án",LEFT(E36,5)="Đồán "),J36*0.5,(IF(H36>0,H36*K36,"0")+IF(I36>0,(I36*0.75)*L36,"0"))),1) -> 81
D37: 020400001801 | E37: Cấu trúc dữ liệu và giải thuật | F37: 16CĐ-LTCNTT | G37: 1 | I37: 30 | J37: 12 | K37: =IF(OR(LEFT(E37,2)="ĐA",LEFT(E37,2)="DA",LEFT(E37,5)="Đồ án",LEFT(E37,5)="Đồán ",LEFT(E37,9)="Sinh hoạt",LEFT(E37,9)="sinh hoạt",LEFT(E37,6)="Cố vấn",LEFT(E37,6)="cố vấn",LEFT(E37,4)="cvht",LEFT(E37,4)="CVHT",LEFT(E37,4)="shcn",LEFT(E37,4)="SHCN"),0,(IF(AND(H37>0,J37>0),IF(J37>60,1.3,IF(J37>35,1.2,1)),0))) -> 0 | L37: =IF(OR(LEFT(E37,2)="ĐA",LEFT(E37,2)="DA",LEFT(E37,5)="Đồ án",LEFT(E37,5)="Đồán "),0,IF(AND(J37>0,I37>0),IF(AND(OR(LEFT(E37,4)="GDQP",LEFT(E37,4)="gdqp",LEFT(E37,19)="Giáo dục quốc phòng"),J37>50),1.3,IF(J37>35,1.2,IF(J37>29,1.1,1))),0)) -> 1 | M37: =ROUND(IF(OR(LEFT(E37,2)="ĐA",LEFT(E37,2)="DA",LEFT(E37,5)="Đồ án",LEFT(E37,5)="Đồán "),J37*0.5,(IF(H37>0,H37*K37,"0")+IF(I37>0,(I37*0.75)*L37,"0"))),1) -> 22.5
D38: 021100119926 | E38: Tin học | F38: 17C1-ĐCN4 | G38: 1 | H38: 30 | I38: 60 | J38: 45 | K38: =IF(OR(LEFT(E38,2)="ĐA",LEFT(E38,2)="DA",LEFT(E38,5)="Đồ án",LEFT(E38,5)="Đồán ",LEFT(E38,9)="Sinh hoạt",LEFT(E38,9)="sinh hoạt",LEFT(E38,6)="Cố vấn",LEFT(E38,6)="cố vấn",LEFT(E38,4)="cvht",LEFT(E38,4)="CVHT",LEFT(E38,4)="shcn",LEFT(E38,4)="SHCN"),0,(IF(AND(H38>0,J38>0),IF(J38>60,1.3,IF(J38>35,1.2,1)),0))) -> 1.2 | L38: =IF(OR(LEFT(E38,2)="ĐA",LEFT(E38,2)="DA",LEFT(E38,5)="Đồ án",LEFT(E38,5)="Đồán "),0,IF(AND(J38>0,I38>0),IF(AND(OR(LEFT(E38,4)="GDQP",LEFT(E38,4)="gdqp",LEFT(E38,19)="Giáo dục quốc phòng"),J38>50),1.3,IF(J38>35,1.2,IF(J38>29,1.1,1))),0)) -> 1.2 | M38: =ROUND(IF(OR(LEFT(E38,2)="ĐA",LEFT(E38,2)="DA",LEFT(E38,5)="Đồ án",LEFT(E38,5)="Đồán "),J38*0.5,(IF(H38>0,H38*K38,"0")+IF(I38>0,(I38*0.75)*L38,"0"))),1) -> 90
D39: 071300098501 | E39: Kỹ thuật lập trình | F39: 17T2-QTM1 | G39: 2 | H39: 5 | I39: 79 | J39: 45 | K39: =IF(OR(LEFT(E39,2)="ĐA",LEFT(E39,2)="DA",LEFT(E39,5)="Đồ án",LEFT(E39,5)="Đồán ",LEFT(E39,9)="Sinh hoạt",LEFT(E39,9)="sinh hoạt",LEFT(E39,6)="Cố vấn",LEFT(E39,6)="cố vấn",LEFT(E39,4)="cvht",LEFT(E39,4)="CVHT",LEFT(E39,4)="shcn",LEFT(E39,4)="SHCN"),0,(IF(AND(H39>0,J39>0),IF(J39>60,1.3,IF(J39>35,1.2,1)),0))) -> 1.2 | L39: =IF(OR(LEFT(E39,2)="ĐA",LEFT(E39,2)="DA",LEFT(E39,5)="Đồ án",LEFT(E39,5)="Đồán "),0,IF(AND(J39>0,I39>0),IF(AND(OR(LEFT(E39,4)="GDQP",LEFT(E39,4)="gdqp",LEFT(E39,19)="Giáo dục quốc phòng"),J39>50),1.3,IF(J39>35,1.2,IF(J39>29,1.1,1))),0)) -> 1.2 | M39: =ROUND(IF(OR(LEFT(E39,2)="ĐA",LEFT(E39,2)="DA",LEFT(E39,5)="Đồ án",LEFT(E39,5)="Đồán "),J39*0.5,(IF(H39>0,H39*K39,"0")+IF(I39>0,(I39*0.75)*L39,"0"))),1) -> 77.1
D40: 021100094301 | E40: Kỹ thuật lập trình | F40: 17C1-TKW1 | G40: 2 | H40: 30 | I40: 60 | J40: 39 | K40: =IF(OR(LEFT(E40,2)="ĐA",LEFT(E40,2)="DA",LEFT(E40,5)="Đồ án",LEFT(E40,5)="Đồán ",LEFT(E40,9)="Sinh hoạt",LEFT(E40,9)="sinh hoạt",LEFT(E40,6)="Cố vấn",LEFT(E40,6)="cố vấn",LEFT(E40,4)="cvht",LEFT(E40,4)="CVHT",LEFT(E40,4)="shcn",LEFT(E40,4)="SHCN"),0,(IF(AND(H40>0,J40>0),IF(J40>60,1.3,IF(J40>35,1.2,1)),0))) -> 1.2 | L40: =IF(OR(LEFT(E40,2)="ĐA",LEFT(E40,2)="DA",LEFT(E40,5)="Đồ án",LEFT(E40,5)="Đồán "),0,IF(AND(J40>0,I40>0),IF(AND(OR(LEFT(E40,4)="GDQP",LEFT(E40,4)="gdqp",LEFT(E40,19)="Giáo dục quốc phòng"),J40>50),1.3,IF(J40>35,1.2,IF(J40>29,1.1,1))),0)) -> 1.2 | M40: =ROUND(IF(OR(LEFT(E40,2)="ĐA",LEFT(E40,2)="DA",LEFT(E40,5)="Đồ án",LEFT(E40,5)="Đồán "),J40*0.5,(IF(H40>0,H40*K40,"0")+IF(I40>0,(I40*0.75)*L40,"0"))),1) -> 90
D41: 021100094402 | E41: Cấu trúc dữ liệu và giải thuật | F41: 17C1-TKW1 | G41: 2 | H41: 15 | I41: 60 | J41: 39 | K41: =IF(OR(LEFT(E41,2)="ĐA",LEFT(E41,2)="DA",LEFT(E41,5)="Đồ án",LEFT(E41,5)="Đồán ",LEFT(E41,9)="Sinh hoạt",LEFT(E41,9)="sinh hoạt",LEFT(E41,6)="Cố vấn",LEFT(E41,6)="cố vấn",LEFT(E41,4)="cvht",LEFT(E41,4)="CVHT",LEFT(E41,4)="shcn",LEFT(E41,4)="SHCN"),0,(IF(AND(H41>0,J41>0),IF(J41>60,1.3,IF(J41>35,1.2,1)),0))) -> 1.2 | L41: =IF(OR(LEFT(E41,2)="ĐA",LEFT(E41,2)="DA",LEFT(E41,5)="Đồ án",LEFT(E41,5)="Đồán "),0,IF(AND(J41>0,I41>0),IF(AND(OR(LEFT(E41,4)="GDQP",LEFT(E41,4)="gdqp",LEFT(E41,19)="Giáo dục quốc phòng"),J41>50),1.3,IF(J41>35,1.2,IF(J41>29,1.1,1))),0)) -> 1.2 | M41: =ROUND(IF(OR(LEFT(E41,2)="ĐA",LEFT(E41,2)="DA",LEFT(E41,5)="Đồ án",LEFT(E41,5)="Đồán "),J41*0.5,(IF(H41>0,H41*K41,"0")+IF(I41>0,(I41*0.75)*L41,"0"))),1) -> 72
D42: 021100094302 | E42: Kỹ thuật lập trình (Lý thuyết) | F42: 17C1-CMT1 | G42: 2 | H42: 30 | J42: 57 | K42: =IF(OR(LEFT(E42,2)="ĐA",LEFT(E42,2)="DA",LEFT(E42,5)="Đồ án",LEFT(E42,5)="Đồán ",LEFT(E42,9)="Sinh hoạt",LEFT(E42,9)="sinh hoạt",LEFT(E42,6)="Cố vấn",LEFT(E42,6)="cố vấn",LEFT(E42,4)="cvht",LEFT(E42,4)="CVHT",LEFT(E42,4)="shcn",LEFT(E42,4)="SHCN"),0,(IF(AND(H42>0,J42>0),IF(J42>60,1.3,IF(J42>35,1.2,1)),0))) -> 1.2 | L42: =IF(OR(LEFT(E42,2)="ĐA",LEFT(E42,2)="DA",LEFT(E42,5)="Đồ án",LEFT(E42,5)="Đồán "),0,IF(AND(J42>0,I42>0),IF(AND(OR(LEFT(E42,4)="GDQP",LEFT(E42,4)="gdqp",LEFT(E42,19)="Giáo dục quốc phòng"),J42>50),1.3,IF(J42>35,1.2,IF(J42>29,1.1,1))),0)) -> 0 | M42: =ROUND(IF(OR(LEFT(E42,2)="ĐA",LEFT(E42,2)="DA",LEFT(E42,5)="Đồ án",LEFT(E42,5)="Đồán "),J42*0.5,(IF(H42>0,H42*K42,"0")+IF(I42>0,(I42*0.75)*L42,"0"))),1) -> 36
D43: 021100094302 | E43: Kỹ thuật lập trình (TH nhóm 1) | F43: 17C1-CMT1 | G43: 2 | I43: 60 | J43: 29 | K43: =IF(OR(LEFT(E43,2)="ĐA",LEFT(E43,2)="DA",LEFT(E43,5)="Đồ án",LEFT(E43,5)="Đồán ",LEFT(E43,9)="Sinh hoạt",LEFT(E43,9)="sinh hoạt",LEFT(E43,6)="Cố vấn",LEFT(E43,6)="cố vấn",LEFT(E43,4)="cvht",LEFT(E43,4)="CVHT",LEFT(E43,4)="shcn",LEFT(E43,4)="SHCN"),0,(IF(AND(H43>0,J43>0),IF(J43>60,1.3,IF(J43>35,1.2,1)),0))) -> 0 | L43: =IF(OR(LEFT(E43,2)="ĐA",LEFT(E43,2)="DA",LEFT(E43,5)="Đồ án",LEFT(E43,5)="Đồán "),0,IF(AND(J43>0,I43>0),IF(AND(OR(LEFT(E43,4)="GDQP",LEFT(E43,4)="gdqp",LEFT(E43,19)="Giáo dục quốc phòng"),J43>50),1.3,IF(J43>35,1.2,IF(J43>29,1.1,1))),0)) -> 1 | M43: =ROUND(IF(OR(LEFT(E43,2)="ĐA",LEFT(E43,2)="DA",LEFT(E43,5)="Đồ án",LEFT(E43,5)="Đồán "),J43*0.5,(IF(H43>0,H43*K43,"0")+IF(I43>0,(I43*0.75)*L43,"0"))),1) -> 45
D44: 021100094302 | E44: Kỹ thuật lập trình (TH nhóm 2) | F44: 17C1-CMT1 | G44: 2 | I44: 60 | J44: 28 | K44: =IF(OR(LEFT(E44,2)="ĐA",LEFT(E44,2)="DA",LEFT(E44,5)="Đồ án",LEFT(E44,5)="Đồán ",LEFT(E44,9)="Sinh hoạt",LEFT(E44,9)="sinh hoạt",LEFT(E44,6)="Cố vấn",LEFT(E44,6)="cố vấn",LEFT(E44,4)="cvht",LEFT(E44,4)="CVHT",LEFT(E44,4)="shcn",LEFT(E44,4)="SHCN"),0,(IF(AND(H44>0,J44>0),IF(J44>60,1.3,IF(J44>35,1.2,1)),0))) -> 0 | L44: =IF(OR(LEFT(E44,2)="ĐA",LEFT(E44,2)="DA",LEFT(E44,5)="Đồ án",LEFT(E44,5)="Đồán "),0,IF(AND(J44>0,I44>0),IF(AND(OR(LEFT(E44,4)="GDQP",LEFT(E44,4)="gdqp",LEFT(E44,19)="Giáo dục quốc phòng"),J44>50),1.3,IF(J44>35,1.2,IF(J44>29,1.1,1))),0)) -> 1 | M44: =ROUND(IF(OR(LEFT(E44,2)="ĐA",LEFT(E44,2)="DA",LEFT(E44,5)="Đồ án",LEFT(E44,5)="Đồán "),J44*0.5,(IF(H44>0,H44*K44,"0")+IF(I44>0,(I44*0.75)*L44,"0"))),1) -> 45
A45: 4 | B45: Vũ Thị Thái | C45: Linh | D45: 20200001403 | E45: Anh văn chuyên ngành CNTT | F45: 16CĐ-TM1 | G45: 1 | H45: 30 | J45: 45 | K45: =IF(OR(LEFT(E45,2)="ĐA",LEFT(E45,2)="DA",LEFT(E45,5)="Đồ án",LEFT(E45,5)="Đồán ",LEFT(E45,9)="Sinh hoạt",LEFT(E45,9)="sinh hoạt",LEFT(E45,6)="Cố vấn",LEFT(E45,6)="cố vấn",LEFT(E45,4)="cvht",LEFT(E45,4)="CVHT",LEFT(E45,4)="shcn",LEFT(E45,4)="SHCN"),0,(IF(AND(H45>0,J45>0),IF(J45>60,1.3,IF(J45>35,1.2,1)),0))) -> 1.2 | L45: =IF(OR(LEFT(E45,2)="ĐA",LEFT(E45,2)="DA",LEFT(E45,5)="Đồ án",LEFT(E45,5)="Đồán "),0,IF(AND(J45>0,I45>0),IF(AND(OR(LEFT(E45,4)="GDQP",LEFT(E45,4)="gdqp",LEFT(E45,19)="Giáo dục quốc phòng"),J45>50),1.3,IF(J45>35,1.2,IF(J45>29,1.1,1))),0)) -> 0 | M45: =ROUND(IF(OR(LEFT(E45,2)="ĐA",LEFT(E45,2)="DA",LEFT(E45,5)="Đồ án",LEFT(E45,5)="Đồán "),J45*0.5,(IF(H45>0,H45*K45,"0")+IF(I45>0,(I45*0.75)*L45,"0"))),1) -> 36 | N45: 139.5 | O45: 0 | P45: =SUM(M45:M63)+N45+O45 -> 743.3 | Q45: 0 | R45: 39.9 | S45: 450 | T45: 450 | U45: 112 | V45: 112 | W45: 56 | X45: 56 | Y45: =ROUND((P45-T45),1) -> 293.3 | Z45: =IF(OR(SUM(V45:V63)="",SUM(Q45:Q63)=""),0,IF(OR(SUM(U45:U63)=320,SUM(V45:V63)>0),ROUND((SUM(Q45:Q63)-SUM(V45:V63)),1),0)) -> -112 | AA45: =IF(OR(SUM(X45:X63)="",SUM(R45:R63)=""),0,IF(OR(SUM(W45:W63)=160,SUM(X45:X63)>0),ROUND((SUM(R45:R63)-SUM(X45:X63)),1),0)) -> -16.1 | AC45: =SUM(Y45:AA63) -> 165.2
D46: 20200001404 | E46: Anh văn chuyên ngành CNTT | F46: 16CĐ-TM2 | G46: 1 | H46: 30 | J46: 43 | K46: =IF(OR(LEFT(E46,2)="ĐA",LEFT(E46,2)="DA",LEFT(E46,5)="Đồ án",LEFT(E46,5)="Đồán ",LEFT(E46,9)="Sinh hoạt",LEFT(E46,9)="sinh hoạt",LEFT(E46,6)="Cố vấn",LEFT(E46,6)="cố vấn",LEFT(E46,4)="cvht",LEFT(E46,4)="CVHT",LEFT(E46,4)="shcn",LEFT(E46,4)="SHCN"),0,(IF(AND(H46>0,J46>0),IF(J46>60,1.3,IF(J46>35,1.2,1)),0))) -> 1.2 | L46: =IF(OR(LEFT(E46,2)="ĐA",LEFT(E46,2)="DA",LEFT(E46,5)="Đồ án",LEFT(E46,5)="Đồán "),0,IF(AND(J46>0,I46>0),IF(AND(OR(LEFT(E46,4)="GDQP",LEFT(E46,4)="gdqp",LEFT(E46,19)="Giáo dục quốc phòng"),J46>50),1.3,IF(J46>35,1.2,IF(J46>29,1.1,1))),0)) -> 0 | M46: =ROUND(IF(OR(LEFT(E46,2)="ĐA",LEFT(E46,2)="DA",LEFT(E46,5)="Đồ án",LEFT(E46,5)="Đồán "),J46*0.5,(IF(H46>0,H46*K46,"0")+IF(I46>0,(I46*0.75)*L46,"0"))),1) -> 36
D47: 20200001401 | E47: Anh văn chuyên ngành CNTT | F47: 16CĐ-TP1 | G47: 1 | H47: 22.5 | J47: 32 | K47: =IF(OR(LEFT(E47,2)="ĐA",LEFT(E47,2)="DA",LEFT(E47,5)="Đồ án",LEFT(E47,5)="Đồán ",LEFT(E47,9)="Sinh hoạt",LEFT(E47,9)="sinh hoạt",LEFT(E47,6)="Cố vấn",LEFT(E47,6)="cố vấn",LEFT(E47,4)="cvht",LEFT(E47,4)="CVHT",LEFT(E47,4)="shcn",LEFT(E47,4)="SHCN"),0,(IF(AND(H47>0,J47>0),IF(J47>60,1.3,IF(J47>35,1.2,1)),0))) -> 1 | L47: =IF(OR(LEFT(E47,2)="ĐA",LEFT(E47,2)="DA",LEFT(E47,5)="Đồ án",LEFT(E47,5)="Đồán "),0,IF(AND(J47>0,I47>0),IF(AND(OR(LEFT(E47,4)="GDQP",LEFT(E47,4)="gdqp",LEFT(E47,19)="Giáo dục quốc phòng"),J47>50),1.3,IF(J47>35,1.2,IF(J47>29,1.1,1))),0)) -> 0 | M47: =ROUND(IF(OR(LEFT(E47,2)="ĐA",LEFT(E47,2)="DA",LEFT(E47,5)="Đồ án",LEFT(E47,5)="Đồán "),J47*0.5,(IF(H47>0,H47*K47,"0")+IF(I47>0,(I47*0.75)*L47,"0"))),1) -> 22.5
D48: 20200001402 | E48: Anh văn chuyên ngành CNTT | F48: 16CĐ-TP2 | G48: 1 | H48: 22.5 | J48: 34 | K48: =IF(OR(LEFT(E48,2)="ĐA",LEFT(E48,2)="DA",LEFT(E48,5)="Đồ án",LEFT(E48,5)="Đồán ",LEFT(E48,9)="Sinh hoạt",LEFT(E48,9)="sinh hoạt",LEFT(E48,6)="Cố vấn",LEFT(E48,6)="cố vấn",LEFT(E48,4)="cvht",LEFT(E48,4)="CVHT",LEFT(E48,4)="shcn",LEFT(E48,4)="SHCN"),0,(IF(AND(H48>0,J48>0),IF(J48>60,1.3,IF(J48>35,1.2,1)),0))) -> 1 | L48: =IF(OR(LEFT(E48,2)="ĐA",LEFT(E48,2)="DA",LEFT(E48,5)="Đồ án",LEFT(E48,5)="Đồán "),0,IF(AND(J48>0,I48>0),IF(AND(OR(LEFT(E48,4)="GDQP",LEFT(E48,4)="gdqp",LEFT(E48,19)="Giáo dục quốc phòng"),J48>50),1.3,IF(J48>35,1.2,IF(J48>29,1.1,1))),0)) -> 0 | M48: =ROUND(IF(OR(LEFT(E48,2)="ĐA",LEFT(E48,2)="DA",LEFT(E48,5)="Đồ án",LEFT(E48,5)="Đồán "),J48*0.5,(IF(H48>0,H48*K48,"0")+IF(I48>0,(I48*0.75)*L48,"0"))),1) -> 22.5
D49: 40800080701 | E49: Anh văn chuyên ngành CNTT | F49: 16TCT-QTM | G49: 1 | H49: 30 | J49: 25 | K49: =IF(OR(LEFT(E49,2)="ĐA",LEFT(E49,2)="DA",LEFT(E49,5)="Đồ án",LEFT(E49,5)="Đồán ",LEFT(E49,9)="Sinh hoạt",LEFT(E49,9)="sinh hoạt",LEFT(E49,6)="Cố vấn",LEFT(E49,6)="cố vấn",LEFT(E49,4)="cvht",LEFT(E49,4)="CVHT",LEFT(E49,4)="shcn",LEFT(E49,4)="SHCN"),0,(IF(AND(H49>0,J49>0),IF(J49>60,1.3,IF(J49>35,1.2,1)),0))) -> 1 | L49: =IF(OR(LEFT(E49,2)="ĐA",LEFT(E49,2)="DA",LEFT(E49,5)="Đồ án",LEFT(E49,5)="Đồán "),0,IF(AND(J49>0,I49>0),IF(AND(OR(LEFT(E49,4)="GDQP",LEFT(E49,4)="gdqp",LEFT(E49,19)="Giáo dục quốc phòng"),J49>50),1.3,IF(J49>35,1.2,IF(J49>29,1.1,1))),0)) -> 0 | M49: =ROUND(IF(OR(LEFT(E49,2)="ĐA",LEFT(E49,2)="DA",LEFT(E49,5)="Đồ án",LEFT(E49,5)="Đồán "),J49*0.5,(IF(H49>0,H49*K49,"0")+IF(I49>0,(I49*0.75)*L49,"0"))),1) -> 30
D50: 71300119101 | E50: Anh văn chuyên ngành CNTT | F50: 17T2-QTM1 | G50: 1 | H50: 30 | J50: 45 | K50: =IF(OR(LEFT(E50,2)="ĐA",LEFT(E50,2)="DA",LEFT(E50,5)="Đồ án",LEFT(E50,5)="Đồán ",LEFT(E50,9)="Sinh hoạt",LEFT(E50,9)="sinh hoạt",LEFT(E50,6)="Cố vấn",LEFT(E50,6)="cố vấn",LEFT(E50,4)="cvht",LEFT(E50,4)="CVHT",LEFT(E50,4)="shcn",LEFT(E50,4)="SHCN"),0,(IF(AND(H50>0,J50>0),IF(J50>60,1.3,IF(J50>35,1.2,1)),0))) -> 1.2 | L50: =IF(OR(LEFT(E50,2)="ĐA",LEFT(E50,2)="DA",LEFT(E50,5)="Đồ án",LEFT(E50,5)="Đồán "),0,IF(AND(J50>0,I50>0),IF(AND(OR(LEFT(E50,4)="GDQP",LEFT(E50,4)="gdqp",LEFT(E50,19)="Giáo dục quốc phòng"),J50>50),1.3,IF(J50>35,1.2,IF(J50>29,1.1,1))),0)) -> 0 | M50: =ROUND(IF(OR(LEFT(E50,2)="ĐA",LEFT(E50,2)="DA",LEFT(E50,5)="Đồ án",LEFT(E50,5)="Đồán "),J50*0.5,(IF(H50>0,H50*K50,"0")+IF(I50>0,(I50*0.75)*L50,"0"))),1) -> 36
D51: 21100094301 | E51: Kỹ thuật lập trình | F51: 17C1-THU1 | G51: 1 | H51: 30 | I51: 60 | J51: 40 | K51: =IF(OR(LEFT(E51,2)="ĐA",LEFT(E51,2)="DA",LEFT(E51,5)="Đồ án",LEFT(E51,5)="Đồán ",LEFT(E51,9)="Sinh hoạt",LEFT(E51,9)="sinh hoạt",LEFT(E51,6)="Cố vấn",LEFT(E51,6)="cố vấn",LEFT(E51,4)="cvht",LEFT(E51,4)="CVHT",LEFT(E51,4)="shcn",LEFT(E51,4)="SHCN"),0,(IF(AND(H51>0,J51>0),IF(J51>60,1.3,IF(J51>35,1.2,1)),0))) -> 1.2 | L51: =IF(OR(LEFT(E51,2)="ĐA",LEFT(E51,2)="DA",LEFT(E51,5)="Đồ án",LEFT(E51,5)="Đồán "),0,IF(AND(J51>0,I51>0),IF(AND(OR(LEFT(E51,4)="GDQP",LEFT(E51,4)="gdqp",LEFT(E51,19)="Giáo dục quốc phòng"),J51>50),1.3,IF(J51>35,1.2,IF(J51>29,1.1,1))),0)) -> 1.2 | M51: =ROUND(IF(OR(LEFT(E51,2)="ĐA",LEFT(E51,2)="DA",LEFT(E51,5)="Đồ án",LEFT(E51,5)="Đồán "),J51*0.5,(IF(H51>0,H51*K51,"0")+IF(I51>0,(I51*0.75)*L51,"0"))),1) -> 90
D52: 20200001401 | E52: Anh văn chuyên ngành CNTT | F52: 16CĐ-TW1 | G52: 2 | H52: 30 | J52: 34 | K52: =IF(OR(LEFT(E52,2)="ĐA",LEFT(E52,2)="DA",LEFT(E52,5)="Đồ án",LEFT(E52,5)="Đồán ",LEFT(E52,9)="Sinh hoạt",LEFT(E52,9)="sinh hoạt",LEFT(E52,6)="Cố vấn",LEFT(E52,6)="cố vấn",LEFT(E52,4)="cvht",LEFT(E52,4)="CVHT",LEFT(E52,4)="shcn",LEFT(E52,4)="SHCN"),0,(IF(AND(H52>0,J52>0),IF(J52>60,1.3,IF(J52>35,1.2,1)),0))) -> 1 | L52: =IF(OR(LEFT(E52,2)="ĐA",LEFT(E52,2)="DA",LEFT(E52,5)="Đồ án",LEFT(E52,5)="Đồán "),0,IF(AND(J52>0,I52>0),IF(AND(OR(LEFT(E52,4)="GDQP",LEFT(E52,4)="gdqp",LEFT(E52,19)="Giáo dục quốc phòng"),J52>50),1.3,IF(J52>35,1.2,IF(J52>29,1.1,1))),0)) -> 0 | M52: =ROUND(IF(OR(LEFT(E52,2)="ĐA",LEFT(E52,2)="DA",LEFT(E52,5)="Đồ án",LEFT(E52,5)="Đồán "),J52*0.5,(IF(H52>0,H52*K52,"0")+IF(I52>0,(I52*0.75)*L52,"0"))),1) -> 30
D53: 20200001402 | E53: Anh văn chuyên ngành CNTT | F53: 16CĐ-TW2 | G53: 2 | H53: 30 | J53: 40 | K53: =IF(OR(LEFT(E53,2)="ĐA",LEFT(E53,2)="DA",LEFT(E53,5)="Đồ án",LEFT(E53,5)="Đồán ",LEFT(E53,9)="Sinh hoạt",LEFT(E53,9)="sinh hoạt",LEFT(E53,6)="Cố vấn",LEFT(E53,6)="cố vấn",LEFT(E53,4)="cvht",LEFT(E53,4)="CVHT",LEFT(E53,4)="shcn",LEFT(E53,4)="SHCN"),0,(IF(AND(H53>0,J53>0),IF(J53>60,1.3,IF(J53>35,1.2,1)),0))) -> 1.2 | L53: =IF(OR(LEFT(E53,2)="ĐA",LEFT(E53,2)="DA",LEFT(E53,5)="Đồ án",LEFT(E53,5)="Đồán "),0,IF(AND(J53>0,I53>0),IF(AND(OR(LEFT(E53,4)="GDQP",LEFT(E53,4)="gdqp",LEFT(E53,19)="Giáo dục quốc phòng"),J53>50),1.3,IF(J53>35,1.2,IF(J53>29,1.1,1))),0)) -> 0 | M53: =ROUND(IF(OR(LEFT(E53,2)="ĐA",LEFT(E53,2)="DA",LEFT(E53,5)="Đồ án",LEFT(E53,5)="Đồán "),J53*0.5,(IF(H53>0,H53*K53,"0")+IF(I53>0,(I53*0.75)*L53,"0"))),1) -> 36
D54: 21100001401 | E54: Anh văn chuyên ngành CNTT | F54: 17C1-TKW1 | G54: 2 | H54: 30 | J54: 39 | K54: =IF(OR(LEFT(E54,2)="ĐA",LEFT(E54,2)="DA",LEFT(E54,5)="Đồ án",LEFT(E54,5)="Đồán ",LEFT(E54,9)="Sinh hoạt",LEFT(E54,9)="sinh hoạt",LEFT(E54,6)="Cố vấn",LEFT(E54,6)="cố vấn",LEFT(E54,4)="cvht",LEFT(E54,4)="CVHT",LEFT(E54,4)="shcn",LEFT(E54,4)="SHCN"),0,(IF(AND(H54>0,J54>0),IF(J54>60,1.3,IF(J54>35,1.2,1)),0))) -> 1.2 | L54: =IF(OR(LEFT(E54,2)="ĐA",LEFT(E54,2)="DA",LEFT(E54,5)="Đồ án",LEFT(E54,5)="Đồán "),0,IF(AND(J54>0,I54>0),IF(AND(OR(LEFT(E54,4)="GDQP",LEFT(E54,4)="gdqp",LEFT(E54,19)="Giáo dục quốc phòng"),J54>50),1.3,IF(J54>35,1.2,IF(J54>29,1.1,1))),0)) -> 0 | M54: =ROUND(IF(OR(LEFT(E54,2)="ĐA",LEFT(E54,2)="DA",LEFT(E54,5)="Đồ án",LEFT(E54,5)="Đồán "),J54*0.5,(IF(H54>0,H54*K54,"0")+IF(I54>0,(I54*0.75)*L54,"0"))),1) -> 36
D55: 21100001403 | E55: Anh văn chuyên ngành CNTT | F55: 17C1-LTM1 | G55: 2 | H55: 30 | J55: 49 | K55: =IF(OR(LEFT(E55,2)="ĐA",LEFT(E55,2)="DA",LEFT(E55,5)="Đồ án",LEFT(E55,5)="Đồán ",LEFT(E55,9)="Sinh hoạt",LEFT(E55,9)="sinh hoạt",LEFT(E55,6)="Cố vấn",LEFT(E55,6)="cố vấn",LEFT(E55,4)="cvht",LEFT(E55,4)="CVHT",LEFT(E55,4)="shcn",LEFT(E55,4)="SHCN"),0,(IF(AND(H55>0,J55>0),IF(J55>60,1.3,IF(J55>35,1.2,1)),0))) -> 1.2 | L55: =IF(OR(LEFT(E55,2)="ĐA",LEFT(E55,2)="DA",LEFT(E55,5)="Đồ án",LEFT(E55,5)="Đồán "),0,IF(AND(J55>0,I55>0),IF(AND(OR(LEFT(E55,4)="GDQP",LEFT(E55,4)="gdqp",LEFT(E55,19)="Giáo dục quốc phòng"),J55>50),1.3,IF(J55>35,1.2,IF(J55>29,1.1,1))),0)) -> 0 | M55: =ROUND(IF(OR(LEFT(E55,2)="ĐA",LEFT(E55,2)="DA",LEFT(E55,5)="Đồ án",LEFT(E55,5)="Đồán "),J55*0.5,(IF(H55>0,H55*K55,"0")+IF(I55>0,(I55*0.75)*L55,"0"))),1) -> 36
D56: 21100001406 | E56: Anh văn chuyên ngành CNTT | F56: 17C1-LTM2 | G56: 2 | H56: 22.5 | J56: 53 | K56: =IF(OR(LEFT(E56,2)="ĐA",LEFT(E56,2)="DA",LEFT(E56,5)="Đồ án",LEFT(E56,5)="Đồán ",LEFT(E56,9)="Sinh hoạt",LEFT(E56,9)="sinh hoạt",LEFT(E56,6)="Cố vấn",LEFT(E56,6)="cố vấn",LEFT(E56,4)="cvht",LEFT(E56,4)="CVHT",LEFT(E56,4)="shcn",LEFT(E56,4)="SHCN"),0,(IF(AND(H56>0,J56>0),IF(J56>60,1.3,IF(J56>35,1.2,1)),0))) -> 1.2 | L56: =IF(OR(LEFT(E56,2)="ĐA",LEFT(E56,2)="DA",LEFT(E56,5)="Đồ án",LEFT(E56,5)="Đồán "),0,IF(AND(J56>0,I56>0),IF(AND(OR(LEFT(E56,4)="GDQP",LEFT(E56,4)="gdqp",LEFT(E56,19)="Giáo dục quốc phòng"),J56>50),1.3,IF(J56>35,1.2,IF(J56>29,1.1,1))),0)) -> 0 | M56: =ROUND(IF(OR(LEFT(E56,2)="ĐA",LEFT(E56,2)="DA",LEFT(E56,5)="Đồ án",LEFT(E56,5)="Đồán "),J56*0.5,(IF(H56>0,H56*K56,"0")+IF(I56>0,(I56*0.75)*L56,"0"))),1) -> 27
D57: 21100001402 | E57: Anh văn chuyên ngành CNTT | F57: 17C1-CMT1 | G57: 2 | H57: 22.5 | J57: 57 | K57: =IF(OR(LEFT(E57,2)="ĐA",LEFT(E57,2)="DA",LEFT(E57,5)="Đồ án",LEFT(E57,5)="Đồán ",LEFT(E57,9)="Sinh hoạt",LEFT(E57,9)="sinh hoạt",LEFT(E57,6)="Cố vấn",LEFT(E57,6)="cố vấn",LEFT(E57,4)="cvht",LEFT(E57,4)="CVHT",LEFT(E57,4)="shcn",LEFT(E57,4)="SHCN"),0,(IF(AND(H57>0,J57>0),IF(J57>60,1.3,IF(J57>35,1.2,1)),0))) -> 1.2 | L57: =IF(OR(LEFT(E57,2)="ĐA",LEFT(E57,2)="DA",LEFT(E57,5)="Đồ án",LEFT(E57,5)="Đồán "),0,IF(AND(J57>0,I57>0),IF(AND(OR(LEFT(E57,4)="GDQP",LEFT(E57,4)="gdqp",LEFT(E57,19)="Giáo dục quốc phòng"),J57>50),1.3,IF(J57>35,1.2,IF(J57>29,1.1,1))),0)) -> 0 | M57: =ROUND(IF(OR(LEFT(E57,2)="ĐA",LEFT(E57,2)="DA",LEFT(E57,5)="Đồ án",LEFT(E57,5)="Đồán "),J57*0.5,(IF(H57>0,H57*K57,"0")+IF(I57>0,(I57*0.75)*L57,"0"))),1) -> 27
D58: 21100001407 | E58: Anh văn chuyên ngành CNTT | F58: 17C1-CMT2 | G58: 2 | H58: 22.5 | J58: 49 | K58: =IF(OR(LEFT(E58,2)="ĐA",LEFT(E58,2)="DA",LEFT(E58,5)="Đồ án",LEFT(E58,5)="Đồán ",LEFT(E58,9)="Sinh hoạt",LEFT(E58,9)="sinh hoạt",LEFT(E58,6)="Cố vấn",LEFT(E58,6)="cố vấn",LEFT(E58,4)="cvht",LEFT(E58,4)="CVHT",LEFT(E58,4)="shcn",LEFT(E58,4)="SHCN"),0,(IF(AND(H58>0,J58>0),IF(J58>60,1.3,IF(J58>35,1.2,1)),0))) -> 1.2 | L58: =IF(OR(LEFT(E58,2)="ĐA",LEFT(E58,2)="DA",LEFT(E58,5)="Đồ án",LEFT(E58,5)="Đồán "),0,IF(AND(J58>0,I58>0),IF(AND(OR(LEFT(E58,4)="GDQP",LEFT(E58,4)="gdqp",LEFT(E58,19)="Giáo dục quốc phòng"),J58>50),1.3,IF(J58>35,1.2,IF(J58>29,1.1,1))),0)) -> 0 | M58: =ROUND(IF(OR(LEFT(E58,2)="ĐA",LEFT(E58,2)="DA",LEFT(E58,5)="Đồ án",LEFT(E58,5)="Đồán "),J58*0.5,(IF(H58>0,H58*K58,"0")+IF(I58>0,(I58*0.75)*L58,"0"))),1) -> 27
D59: 21100001404 | E59: Anh văn chuyên ngành CNTT | F59: 17C1-ANM1 | G59: 2 | H59: 22.5 | J59: 26 | K59: =IF(OR(LEFT(E59,2)="ĐA",LEFT(E59,2)="DA",LEFT(E59,5)="Đồ án",LEFT(E59,5)="Đồán ",LEFT(E59,9)="Sinh hoạt",LEFT(E59,9)="sinh hoạt",LEFT(E59,6)="Cố vấn",LEFT(E59,6)="cố vấn",LEFT(E59,4)="cvht",LEFT(E59,4)="CVHT",LEFT(E59,4)="shcn",LEFT(E59,4)="SHCN"),0,(IF(AND(H59>0,J59>0),IF(J59>60,1.3,IF(J59>35,1.2,1)),0))) -> 1 | L59: =IF(OR(LEFT(E59,2)="ĐA",LEFT(E59,2)="DA",LEFT(E59,5)="Đồ án",LEFT(E59,5)="Đồán "),0,IF(AND(J59>0,I59>0),IF(AND(OR(LEFT(E59,4)="GDQP",LEFT(E59,4)="gdqp",LEFT(E59,19)="Giáo dục quốc phòng"),J59>50),1.3,IF(J59>35,1.2,IF(J59>29,1.1,1))),0)) -> 0 | M59: =ROUND(IF(OR(LEFT(E59,2)="ĐA",LEFT(E59,2)="DA",LEFT(E59,5)="Đồ án",LEFT(E59,5)="Đồán "),J59*0.5,(IF(H59>0,H59*K59,"0")+IF(I59>0,(I59*0.75)*L59,"0"))),1) -> 22.5
D60: 21100001405 | E60: Anh văn chuyên ngành CNTT | F60: 17C1-QTM1 | G60: 2 | H60: 22.5 | J60: 68 | K60: =IF(OR(LEFT(E60,2)="ĐA",LEFT(E60,2)="DA",LEFT(E60,5)="Đồ án",LEFT(E60,5)="Đồán ",LEFT(E60,9)="Sinh hoạt",LEFT(E60,9)="sinh hoạt",LEFT(E60,6)="Cố vấn",LEFT(E60,6)="cố vấn",LEFT(E60,4)="cvht",LEFT(E60,4)="CVHT",LEFT(E60,4)="shcn",LEFT(E60,4)="SHCN"),0,(IF(AND(H60>0,J60>0),IF(J60>60,1.3,IF(J60>35,1.2,1)),0))) -> 1.3 | L60: =IF(OR(LEFT(E60,2)="ĐA",LEFT(E60,2)="DA",LEFT(E60,5)="Đồ án",LEFT(E60,5)="Đồán "),0,IF(AND(J60>0,I60>0),IF(AND(OR(LEFT(E60,4)="GDQP",LEFT(E60,4)="gdqp",LEFT(E60,19)="Giáo dục quốc phòng"),J60>50),1.3,IF(J60>35,1.2,IF(J60>29,1.1,1))),0)) -> 0 | M60: =ROUND(IF(OR(LEFT(E60,2)="ĐA",LEFT(E60,2)="DA",LEFT(E60,5)="Đồ án",LEFT(E60,5)="Đồán "),J60*0.5,(IF(H60>0,H60*K60,"0")+IF(I60>0,(I60*0.75)*L60,"0"))),1) -> 29.3
D61: 41000080701 | E61: Anh văn chuyên ngành CNTT | F61: 16TC-QTM | G61: 2 | H61: 30 | J61: 43 | K61: =IF(OR(LEFT(E61,2)="ĐA",LEFT(E61,2)="DA",LEFT(E61,5)="Đồ án",LEFT(E61,5)="Đồán ",LEFT(E61,9)="Sinh hoạt",LEFT(E61,9)="sinh hoạt",LEFT(E61,6)="Cố vấn",LEFT(E61,6)="cố vấn",LEFT(E61,4)="cvht",LEFT(E61,4)="CVHT",LEFT(E61,4)="shcn",LEFT(E61,4)="SHCN"),0,(IF(AND(H61>0,J61>0),IF(J61>60,1.3,IF(J61>35,1.2,1)),0))) -> 1.2 | L61: =IF(OR(LEFT(E61,2)="ĐA",LEFT(E61,2)="DA",LEFT(E61,5)="Đồ án",LEFT(E61,5)="Đồán "),0,IF(AND(J61>0,I61>0),IF(AND(OR(LEFT(E61,4)="GDQP",LEFT(E61,4)="gdqp",LEFT(E61,19)="Giáo dục quốc phòng"),J61>50),1.3,IF(J61>35,1.2,IF(J61>29,1.1,1))),0)) -> 0 | M61: =ROUND(IF(OR(LEFT(E61,2)="ĐA",LEFT(E61,2)="DA",LEFT(E61,5)="Đồ án",LEFT(E61,5)="Đồán "),J61*0.5,(IF(H61>0,H61*K61,"0")+IF(I61>0,(I61*0.75)*L61,"0"))),1) -> 36
D62: 20400010101 | E62: Lý thuyết đồ thị | F62: 16CĐ-LTCNTT | G62: 2 | H62: 24 | J62: 12 | K62: =IF(OR(LEFT(E62,2)="ĐA",LEFT(E62,2)="DA",LEFT(E62,5)="Đồ án",LEFT(E62,5)="Đồán ",LEFT(E62,9)="Sinh hoạt",LEFT(E62,9)="sinh hoạt",LEFT(E62,6)="Cố vấn",LEFT(E62,6)="cố vấn",LEFT(E62,4)="cvht",LEFT(E62,4)="CVHT",LEFT(E62,4)="shcn",LEFT(E62,4)="SHCN"),0,(IF(AND(H62>0,J62>0),IF(J62>60,1.3,IF(J62>35,1.2,1)),0))) -> 1 | L62: =IF(OR(LEFT(E62,2)="ĐA",LEFT(E62,2)="DA",LEFT(E62,5)="Đồ án",LEFT(E62,5)="Đồán "),0,IF(AND(J62>0,I62>0),IF(AND(OR(LEFT(E62,4)="GDQP",LEFT(E62,4)="gdqp",LEFT(E62,19)="Giáo dục quốc phòng"),J62>50),1.3,IF(J62>35,1.2,IF(J62>29,1.1,1))),0)) -> 0 | M62: =ROUND(IF(OR(LEFT(E62,2)="ĐA",LEFT(E62,2)="DA",LEFT(E62,5)="Đồ án",LEFT(E62,5)="Đồán "),J62*0.5,(IF(H62>0,H62*K62,"0")+IF(I62>0,(I62*0.75)*L62,"0"))),1) -> 24
D63: SHCN(12+)15 | E63: Sinh hoạt chủ nhiệm | F63: 16CĐ-LTCNTT | G63: 2 | H63: 12 | J63: 12 | K63: =IF(OR(LEFT(E63,2)="ĐA",LEFT(E63,2)="DA",LEFT(E63,5)="Đồ án",LEFT(E63,5)="Đồán ",LEFT(E63,9)="Sinh hoạt",LEFT(E63,9)="sinh hoạt",LEFT(E63,6)="Cố vấn",LEFT(E63,6)="cố vấn",LEFT(E63,4)="cvht",LEFT(E63,4)="CVHT",LEFT(E63,4)="shcn",LEFT(E63,4)="SHCN"),0,(IF(AND(H63>0,J63>0),IF(J63>60,1.3,IF(J63>35,1.2,1)),0))) -> 0 | L63: =IF(OR(LEFT(E63,2)="ĐA",LEFT(E63,2)="DA",LEFT(E63,5)="Đồ án",LEFT(E63,5)="Đồán "),0,IF(AND(J63>0,I63>0),IF(AND(OR(LEFT(E63,4)="GDQP",LEFT(E63,4)="gdqp",LEFT(E63,19)="Giáo dục quốc phòng"),J63>50),1.3,IF(J63>35,1.2,IF(J63>29,1.1,1))),0)) -> 0 | M63: =ROUND(IF(OR(LEFT(E63,2)="ĐA",LEFT(E63,2)="DA",LEFT(E63,5)="Đồ án",LEFT(E63,5)="Đồán "),J63*0.5,(IF(H63>0,H63*K63,"0")+IF(I63>0,(I63*0.75)*L63,"0"))),1) -> 0
A64: 5 | B64: Nguyễn Văn | C64: Danh | D64: SHCN(12+)38 | E64: Sinh hoạt chủ nhiệm | F64: 16CĐ-TW1 | G64: 1 | H64: 15 | J64: 34 | K64: =IF(OR(LEFT(E64,2)="ĐA",LEFT(E64,2)="DA",LEFT(E64,5)="Đồ án",LEFT(E64,5)="Đồán ",LEFT(E64,9)="Sinh hoạt",LEFT(E64,9)="sinh hoạt",LEFT(E64,6)="Cố vấn",LEFT(E64,6)="cố vấn",LEFT(E64,4)="cvht",LEFT(E64,4)="CVHT",LEFT(E64,4)="shcn",LEFT(E64,4)="SHCN"),0,(IF(AND(H64>0,J64>0),IF(J64>60,1.3,IF(J64>35,1.2,1)),0))) -> 0 | L64: =IF(OR(LEFT(E64,2)="ĐA",LEFT(E64,2)="DA",LEFT(E64,5)="Đồ án",LEFT(E64,5)="Đồán "),0,IF(AND(J64>0,I64>0),IF(AND(OR(LEFT(E64,4)="GDQP",LEFT(E64,4)="gdqp",LEFT(E64,19)="Giáo dục quốc phòng"),J64>50),1.3,IF(J64>35,1.2,IF(J64>29,1.1,1))),0)) -> 0 | M64: =ROUND(IF(OR(LEFT(E64,2)="ĐA",LEFT(E64,2)="DA",LEFT(E64,5)="Đồ án",LEFT(E64,5)="Đồán "),J64*0.5,(IF(H64>0,H64*K64,"0")+IF(I64>0,(I64*0.75)*L64,"0"))),1) -> 0 | N64: 67.5 | O64: 0 | P64: =SUM(M64:M82)+N64+O64 -> 774.4 | Q64: 0 | R64: 38.5 | S64: 450 | T64: 450 | U64: 112 | V64: 112 | W64: 56 | X64: 56 | Y64: =ROUND((P64-T64),1) -> 324.4 | Z64: =IF(OR(SUM(V64:V82)="",SUM(Q64:Q82)=""),0,IF(OR(SUM(U64:U82)=320,SUM(V64:V82)>0),ROUND((SUM(Q64:Q82)-SUM(V64:V82)),1),0)) -> -112 | AA64: =IF(OR(SUM(X64:X82)="",SUM(R64:R82)=""),0,IF(OR(SUM(W64:W82)=160,SUM(X64:X82)>0),ROUND((SUM(R64:R82)-SUM(X64:X82)),1),0)) -> -17.5 | AC64: =SUM(Y64:AA82) -> 194.9
D65: 071400106704 | E65: Kỹ thuật lập trình 1 | F65: 17T4-LTM1 | G65: 1 | H65: 15 | J65: 71 | K65: =IF(OR(LEFT(E65,2)="ĐA",LEFT(E65,2)="DA",LEFT(E65,5)="Đồ án",LEFT(E65,5)="Đồán ",LEFT(E65,9)="Sinh hoạt",LEFT(E65,9)="sinh hoạt",LEFT(E65,6)="Cố vấn",LEFT(E65,6)="cố vấn",LEFT(E65,4)="cvht",LEFT(E65,4)="CVHT",LEFT(E65,4)="shcn",LEFT(E65,4)="SHCN"),0,(IF(AND(H65>0,J65>0),IF(J65>60,1.3,IF(J65>35,1.2,1)),0))) -> 1.3 | L65: =IF(OR(LEFT(E65,2)="ĐA",LEFT(E65,2)="DA",LEFT(E65,5)="Đồ án",LEFT(E65,5)="Đồán "),0,IF(AND(J65>0,I65>0),IF(AND(OR(LEFT(E65,4)="GDQP",LEFT(E65,4)="gdqp",LEFT(E65,19)="Giáo dục quốc phòng"),J65>50),1.3,IF(J65>35,1.2,IF(J65>29,1.1,1))),0)) -> 0 | M65: =ROUND(IF(OR(LEFT(E65,2)="ĐA",LEFT(E65,2)="DA",LEFT(E65,5)="Đồ án",LEFT(E65,5)="Đồán "),J65*0.5,(IF(H65>0,H65*K65,"0")+IF(I65>0,(I65*0.75)*L65,"0"))),1) -> 19.5
D66: 071400106704 | E66: Kỹ thuật lập trình 1 (TH -N1) | F66: 17T4-LTM1 | G66: 1 | I66: 60 | J66: 36 | K66: =IF(OR(LEFT(E66,2)="ĐA",LEFT(E66,2)="DA",LEFT(E66,5)="Đồ án",LEFT(E66,5)="Đồán ",LEFT(E66,9)="Sinh hoạt",LEFT(E66,9)="sinh hoạt",LEFT(E66,6)="Cố vấn",LEFT(E66,6)="cố vấn",LEFT(E66,4)="cvht",LEFT(E66,4)="CVHT",LEFT(E66,4)="shcn",LEFT(E66,4)="SHCN"),0,(IF(AND(H66>0,J66>0),IF(J66>60,1.3,IF(J66>35,1.2,1)),0))) -> 0 | L66: =IF(OR(LEFT(E66,2)="ĐA",LEFT(E66,2)="DA",LEFT(E66,5)="Đồ án",LEFT(E66,5)="Đồán "),0,IF(AND(J66>0,I66>0),IF(AND(OR(LEFT(E66,4)="GDQP",LEFT(E66,4)="gdqp",LEFT(E66,19)="Giáo dục quốc phòng"),J66>50),1.3,IF(J66>35,1.2,IF(J66>29,1.1,1))),0)) -> 1.2 | M66: =ROUND(IF(OR(LEFT(E66,2)="ĐA",LEFT(E66,2)="DA",LEFT(E66,5)="Đồ án",LEFT(E66,5)="Đồán "),J66*0.5,(IF(H66>0,H66*K66,"0")+IF(I66>0,(I66*0.75)*L66,"0"))),1) -> 54
D67: 071400106704 | E67: Kỹ thuật lập trình 1 (TH -N2) | F67: 17T4-LTM1 | G67: 1 | I67: 60 | J67: 35 | K67: =IF(OR(LEFT(E67,2)="ĐA",LEFT(E67,2)="DA",LEFT(E67,5)="Đồ án",LEFT(E67,5)="Đồán ",LEFT(E67,9)="Sinh hoạt",LEFT(E67,9)="sinh hoạt",LEFT(E67,6)="Cố vấn",LEFT(E67,6)="cố vấn",LEFT(E67,4)="cvht",LEFT(E67,4)="CVHT",LEFT(E67,4)="shcn",LEFT(E67,4)="SHCN"),0,(IF(AND(H67>0,J67>0),IF(J67>60,1.3,IF(J67>35,1.2,1)),0))) -> 0 | L67: =IF(OR(LEFT(E67,2)="ĐA",LEFT(E67,2)="DA",LEFT(E67,5)="Đồ án",LEFT(E67,5)="Đồán "),0,IF(AND(J67>0,I67>0),IF(AND(OR(LEFT(E67,4)="GDQP",LEFT(E67,4)="gdqp",LEFT(E67,19)="Giáo dục quốc phòng"),J67>50),1.3,IF(J67>35,1.2,IF(J67>29,1.1,1))),0)) -> 1.1 | M67: =ROUND(IF(OR(LEFT(E67,2)="ĐA",LEFT(E67,2)="DA",LEFT(E67,5)="Đồ án",LEFT(E67,5)="Đồán "),J67*0.5,(IF(H67>0,H67*K67,"0")+IF(I67>0,(I67*0.75)*L67,"0"))),1) -> 49.5
D68: 071400106706 | E68: Kỹ thuật lập trình 1 | F68: 17T4-QTM2 | G68: 1 | H68: 15 | I68: 60 | J68: 43 | K68: =IF(OR(LEFT(E68,2)="ĐA",LEFT(E68,2)="DA",LEFT(E68,5)="Đồ án",LEFT(E68,5)="Đồán ",LEFT(E68,9)="Sinh hoạt",LEFT(E68,9)="sinh hoạt",LEFT(E68,6)="Cố vấn",LEFT(E68,6)="cố vấn",LEFT(E68,4)="cvht",LEFT(E68,4)="CVHT",LEFT(E68,4)="shcn",LEFT(E68,4)="SHCN"),0,(IF(AND(H68>0,J68>0),IF(J68>60,1.3,IF(J68>35,1.2,1)),0))) -> 1.2 | L68: =IF(OR(LEFT(E68,2)="ĐA",LEFT(E68,2)="DA",LEFT(E68,5)="Đồ án",LEFT(E68,5)="Đồán "),0,IF(AND(J68>0,I68>0),IF(AND(OR(LEFT(E68,4)="GDQP",LEFT(E68,4)="gdqp",LEFT(E68,19)="Giáo dục quốc phòng"),J68>50),1.3,IF(J68>35,1.2,IF(J68>29,1.1,1))),0)) -> 1.2 | M68: =ROUND(IF(OR(LEFT(E68,2)="ĐA",LEFT(E68,2)="DA",LEFT(E68,5)="Đồ án",LEFT(E68,5)="Đồán "),J68*0.5,(IF(H68>0,H68*K68,"0")+IF(I68>0,(I68*0.75)*L68,"0"))),1) -> 72
D69: 021100093904 | E69: Cơ sở dữ liệu | F69: 17C1-CMT2 | G69: 1 | H69: 15 | I69: 30 | J69: 52 | K69: =IF(OR(LEFT(E69,2)="ĐA",LEFT(E69,2)="DA",LEFT(E69,5)="Đồ án",LEFT(E69,5)="Đồán ",LEFT(E69,9)="Sinh hoạt",LEFT(E69,9)="sinh hoạt",LEFT(E69,6)="Cố vấn",LEFT(E69,6)="cố vấn",LEFT(E69,4)="cvht",LEFT(E69,4)="CVHT",LEFT(E69,4)="shcn",LEFT(E69,4)="SHCN"),0,(IF(AND(H69>0,J69>0),IF(J69>60,1.3,IF(J69>35,1.2,1)),0))) -> 1.2 | L69: =IF(OR(LEFT(E69,2)="ĐA",LEFT(E69,2)="DA",LEFT(E69,5)="Đồ án",LEFT(E69,5)="Đồán "),0,IF(AND(J69>0,I69>0),IF(AND(OR(LEFT(E69,4)="GDQP",LEFT(E69,4)="gdqp",LEFT(E69,19)="Giáo dục quốc phòng"),J69>50),1.3,IF(J69>35,1.2,IF(J69>29,1.1,1))),0)) -> 1.2 | M69: =ROUND(IF(OR(LEFT(E69,2)="ĐA",LEFT(E69,2)="DA",LEFT(E69,5)="Đồ án",LEFT(E69,5)="Đồán "),J69*0.5,(IF(H69>0,H69*K69,"0")+IF(I69>0,(I69*0.75)*L69,"0"))),1) -> 45
D70: 021100094007 | E70: Cơ sở dữ liệu | F70: 17C1-QTM1 | G70: 1 | H70: 12 | I70: 30 | J70: 70 | K70: =IF(OR(LEFT(E70,2)="ĐA",LEFT(E70,2)="DA",LEFT(E70,5)="Đồ án",LEFT(E70,5)="Đồán ",LEFT(E70,9)="Sinh hoạt",LEFT(E70,9)="sinh hoạt",LEFT(E70,6)="Cố vấn",LEFT(E70,6)="cố vấn",LEFT(E70,4)="cvht",LEFT(E70,4)="CVHT",LEFT(E70,4)="shcn",LEFT(E70,4)="SHCN"),0,(IF(AND(H70>0,J70>0),IF(J70>60,1.3,IF(J70>35,1.2,1)),0))) -> 1.3 | L70: =IF(OR(LEFT(E70,2)="ĐA",LEFT(E70,2)="DA",LEFT(E70,5)="Đồ án",LEFT(E70,5)="Đồán "),0,IF(AND(J70>0,I70>0),IF(AND(OR(LEFT(E70,4)="GDQP",LEFT(E70,4)="gdqp",LEFT(E70,19)="Giáo dục quốc phòng"),J70>50),1.3,IF(J70>35,1.2,IF(J70>29,1.1,1))),0)) -> 1.2 | M70: =ROUND(IF(OR(LEFT(E70,2)="ĐA",LEFT(E70,2)="DA",LEFT(E70,5)="Đồ án",LEFT(E70,5)="Đồán "),J70*0.5,(IF(H70>0,H70*K70,"0")+IF(I70>0,(I70*0.75)*L70,"0"))),1) -> 42.6
D71: 021100119922 | E71: Tin học | F71: 17C1-ĐCN3 | G71: 1 | H71: 30 | I71: 52 | J71: 37 | K71: =IF(OR(LEFT(E71,2)="ĐA",LEFT(E71,2)="DA",LEFT(E71,5)="Đồ án",LEFT(E71,5)="Đồán ",LEFT(E71,9)="Sinh hoạt",LEFT(E71,9)="sinh hoạt",LEFT(E71,6)="Cố vấn",LEFT(E71,6)="cố vấn",LEFT(E71,4)="cvht",LEFT(E71,4)="CVHT",LEFT(E71,4)="shcn",LEFT(E71,4)="SHCN"),0,(IF(AND(H71>0,J71>0),IF(J71>60,1.3,IF(J71>35,1.2,1)),0))) -> 1.2 | L71: =IF(OR(LEFT(E71,2)="ĐA",LEFT(E71,2)="DA",LEFT(E71,5)="Đồ án",LEFT(E71,5)="Đồán "),0,IF(AND(J71>0,I71>0),IF(AND(OR(LEFT(E71,4)="GDQP",LEFT(E71,4)="gdqp",LEFT(E71,19)="Giáo dục quốc phòng"),J71>50),1.3,IF(J71>35,1.2,IF(J71>29,1.1,1))),0)) -> 1.2 | M71: =ROUND(IF(OR(LEFT(E71,2)="ĐA",LEFT(E71,2)="DA",LEFT(E71,5)="Đồ án",LEFT(E71,5)="Đồán "),J71*0.5,(IF(H71>0,H71*K71,"0")+IF(I71>0,(I71*0.75)*L71,"0"))),1) -> 82.8
D72: 071300136601 | E72: Hệ quản trị cơ sở dữ liệu | F72: 17T2-QTM1 | G72: 2 | H72: 15 | I72: 30 | J72: 45 | K72: =IF(OR(LEFT(E72,2)="ĐA",LEFT(E72,2)="DA",LEFT(E72,5)="Đồ án",LEFT(E72,5)="Đồán ",LEFT(E72,9)="Sinh hoạt",LEFT(E72,9)="sinh hoạt",LEFT(E72,6)="Cố vấn",LEFT(E72,6)="cố vấn",LEFT(E72,4)="cvht",LEFT(E72,4)="CVHT",LEFT(E72,4)="shcn",LEFT(E72,4)="SHCN"),0,(IF(AND(H72>0,J72>0),IF(J72>60,1.3,IF(J72>35,1.2,1)),0))) -> 1.2 | L72: =IF(OR(LEFT(E72,2)="ĐA",LEFT(E72,2)="DA",LEFT(E72,5)="Đồ án",LEFT(E72,5)="Đồán "),0,IF(AND(J72>0,I72>0),IF(AND(OR(LEFT(E72,4)="GDQP",LEFT(E72,4)="gdqp",LEFT(E72,19)="Giáo dục quốc phòng"),J72>50),1.3,IF(J72>35,1.2,IF(J72>29,1.1,1))),0)) -> 1.2 | M72: =ROUND(IF(OR(LEFT(E72,2)="ĐA",LEFT(E72,2)="DA",LEFT(E72,5)="Đồ án",LEFT(E72,5)="Đồán "),J72*0.5,(IF(H72>0,H72*K72,"0")+IF(I72>0,(I72*0.75)*L72,"0"))),1) -> 45
D73: 071300098501 | E73: Kỹ thuật lập trình (Dạy thay T.Minh) | F73: 17T2-QTM1 | G73: 2 | H73: 10 | I73: 11 | J73: 45 | K73: =IF(OR(LEFT(E73,2)="ĐA",LEFT(E73,2)="DA",LEFT(E73,5)="Đồ án",LEFT(E73,5)="Đồán ",LEFT(E73,9)="Sinh hoạt",LEFT(E73,9)="sinh hoạt",LEFT(E73,6)="Cố vấn",LEFT(E73,6)="cố vấn",LEFT(E73,4)="cvht",LEFT(E73,4)="CVHT",LEFT(E73,4)="shcn",LEFT(E73,4)="SHCN"),0,(IF(AND(H73>0,J73>0),IF(J73>60,1.3,IF(J73>35,1.2,1)),0))) -> 1.2 | L73: =IF(OR(LEFT(E73,2)="ĐA",LEFT(E73,2)="DA",LEFT(E73,5)="Đồ án",LEFT(E73,5)="Đồán "),0,IF(AND(J73>0,I73>0),IF(AND(OR(LEFT(E73,4)="GDQP",LEFT(E73,4)="gdqp",LEFT(E73,19)="Giáo dục quốc phòng"),J73>50),1.3,IF(J73>35,1.2,IF(J73>29,1.1,1))),0)) -> 1.2 | M73: =ROUND(IF(OR(LEFT(E73,2)="ĐA",LEFT(E73,2)="DA",LEFT(E73,5)="Đồ án",LEFT(E73,5)="Đồán "),J73*0.5,(IF(H73>0,H73*K73,"0")+IF(I73>0,(I73*0.75)*L73,"0"))),1) -> 21.9
D74: SHCN(12+)75 | E74: Sinh hoạt chủ nhiệm | F74: 16CĐ-TW1 | G74: 2 | H74: 15 | I74: 0 | J74: 34 | K74: =IF(OR(LEFT(E74,2)="ĐA",LEFT(E74,2)="DA",LEFT(E74,5)="Đồ án",LEFT(E74,5)="Đồán ",LEFT(E74,9)="Sinh hoạt",LEFT(E74,9)="sinh hoạt",LEFT(E74,6)="Cố vấn",LEFT(E74,6)="cố vấn",LEFT(E74,4)="cvht",LEFT(E74,4)="CVHT",LEFT(E74,4)="shcn",LEFT(E74,4)="SHCN"),0,(IF(AND(H74>0,J74>0),IF(J74>60,1.3,IF(J74>35,1.2,1)),0))) -> 0 | L74: =IF(OR(LEFT(E74,2)="ĐA",LEFT(E74,2)="DA",LEFT(E74,5)="Đồ án",LEFT(E74,5)="Đồán "),0,IF(AND(J74>0,I74>0),IF(AND(OR(LEFT(E74,4)="GDQP",LEFT(E74,4)="gdqp",LEFT(E74,19)="Giáo dục quốc phòng"),J74>50),1.3,IF(J74>35,1.2,IF(J74>29,1.1,1))),0)) -> 0 | M74: =ROUND(IF(OR(LEFT(E74,2)="ĐA",LEFT(E74,2)="DA",LEFT(E74,5)="Đồ án",LEFT(E74,5)="Đồán "),J74*0.5,(IF(H74>0,H74*K74,"0")+IF(I74>0,(I74*0.75)*L74,"0"))),1) -> 0
D75: 071400135404 | E75: Kỹ thuật lập trình 2 | F75: 17T4-LTM1 | G75: 2 | H75: 15 | J75: 71 | K75: =IF(OR(LEFT(E75,2)="ĐA",LEFT(E75,2)="DA",LEFT(E75,5)="Đồ án",LEFT(E75,5)="Đồán ",LEFT(E75,9)="Sinh hoạt",LEFT(E75,9)="sinh hoạt",LEFT(E75,6)="Cố vấn",LEFT(E75,6)="cố vấn",LEFT(E75,4)="cvht",LEFT(E75,4)="CVHT",LEFT(E75,4)="shcn",LEFT(E75,4)="SHCN"),0,(IF(AND(H75>0,J75>0),IF(J75>60,1.3,IF(J75>35,1.2,1)),0))) -> 1.3 | L75: =IF(OR(LEFT(E75,2)="ĐA",LEFT(E75,2)="DA",LEFT(E75,5)="Đồ án",LEFT(E75,5)="Đồán "),0,IF(AND(J75>0,I75>0),IF(AND(OR(LEFT(E75,4)="GDQP",LEFT(E75,4)="gdqp",LEFT(E75,19)="Giáo dục quốc phòng"),J75>50),1.3,IF(J75>35,1.2,IF(J75>29,1.1,1))),0)) -> 0 | M75: =ROUND(IF(OR(LEFT(E75,2)="ĐA",LEFT(E75,2)="DA",LEFT(E75,5)="Đồ án",LEFT(E75,5)="Đồán "),J75*0.5,(IF(H75>0,H75*K75,"0")+IF(I75>0,(I75*0.75)*L75,"0"))),1) -> 19.5
D76: 071400135404 | E76: Kỹ thuật lập trình 2 (TH-N1) | F76: 17T4-LTM1 | G76: 2 | I76: 60 | J76: 36 | K76: =IF(OR(LEFT(E76,2)="ĐA",LEFT(E76,2)="DA",LEFT(E76,5)="Đồ án",LEFT(E76,5)="Đồán ",LEFT(E76,9)="Sinh hoạt",LEFT(E76,9)="sinh hoạt",LEFT(E76,6)="Cố vấn",LEFT(E76,6)="cố vấn",LEFT(E76,4)="cvht",LEFT(E76,4)="CVHT",LEFT(E76,4)="shcn",LEFT(E76,4)="SHCN"),0,(IF(AND(H76>0,J76>0),IF(J76>60,1.3,IF(J76>35,1.2,1)),0))) -> 0 | L76: =IF(OR(LEFT(E76,2)="ĐA",LEFT(E76,2)="DA",LEFT(E76,5)="Đồ án",LEFT(E76,5)="Đồán "),0,IF(AND(J76>0,I76>0),IF(AND(OR(LEFT(E76,4)="GDQP",LEFT(E76,4)="gdqp",LEFT(E76,19)="Giáo dục quốc phòng"),J76>50),1.3,IF(J76>35,1.2,IF(J76>29,1.1,1))),0)) -> 1.2 | M76: =ROUND(IF(OR(LEFT(E76,2)="ĐA",LEFT(E76,2)="DA",LEFT(E76,5)="Đồ án",LEFT(E76,5)="Đồán "),J76*0.5,(IF(H76>0,H76*K76,"0")+IF(I76>0,(I76*0.75)*L76,"0"))),1) -> 54
D77: 071400135404 | E77: Kỹ thuật lập trình 2 (TH-N2) | F77: 17T4-LTM1 | G77: 2 | I77: 60 | J77: 35 | K77: =IF(OR(LEFT(E77,2)="ĐA",LEFT(E77,2)="DA",LEFT(E77,5)="Đồ án",LEFT(E77,5)="Đồán ",LEFT(E77,9)="Sinh hoạt",LEFT(E77,9)="sinh hoạt",LEFT(E77,6)="Cố vấn",LEFT(E77,6)="cố vấn",LEFT(E77,4)="cvht",LEFT(E77,4)="CVHT",LEFT(E77,4)="shcn",LEFT(E77,4)="SHCN"),0,(IF(AND(H77>0,J77>0),IF(J77>60,1.3,IF(J77>35,1.2,1)),0))) -> 0 | L77: =IF(OR(LEFT(E77,2)="ĐA",LEFT(E77,2)="DA",LEFT(E77,5)="Đồ án",LEFT(E77,5)="Đồán "),0,IF(AND(J77>0,I77>0),IF(AND(OR(LEFT(E77,4)="GDQP",LEFT(E77,4)="gdqp",LEFT(E77,19)="Giáo dục quốc phòng"),J77>50),1.3,IF(J77>35,1.2,IF(J77>29,1.1,1))),0)) -> 1.1 | M77: =ROUND(IF(OR(LEFT(E77,2)="ĐA",LEFT(E77,2)="DA",LEFT(E77,5)="Đồ án",LEFT(E77,5)="Đồán "),J77*0.5,(IF(H77>0,H77*K77,"0")+IF(I77>0,(I77*0.75)*L77,"0"))),1) -> 49.5
D78: 071400135406 | E78: Kỹ thuật lập trình 2 | F78: 17T4-QTM2 | G78: 2 | H78: 15 | I78: 60 | J78: 43 | K78: =IF(OR(LEFT(E78,2)="ĐA",LEFT(E78,2)="DA",LEFT(E78,5)="Đồ án",LEFT(E78,5)="Đồán ",LEFT(E78,9)="Sinh hoạt",LEFT(E78,9)="sinh hoạt",LEFT(E78,6)="Cố vấn",LEFT(E78,6)="cố vấn",LEFT(E78,4)="cvht",LEFT(E78,4)="CVHT",LEFT(E78,4)="shcn",LEFT(E78,4)="SHCN"),0,(IF(AND(H78>0,J78>0),IF(J78>60,1.3,IF(J78>35,1.2,1)),0))) -> 1.2 | L78: =IF(OR(LEFT(E78,2)="ĐA",LEFT(E78,2)="DA",LEFT(E78,5)="Đồ án",LEFT(E78,5)="Đồán "),0,IF(AND(J78>0,I78>0),IF(AND(OR(LEFT(E78,4)="GDQP",LEFT(E78,4)="gdqp",LEFT(E78,19)="Giáo dục quốc phòng"),J78>50),1.3,IF(J78>35,1.2,IF(J78>29,1.1,1))),0)) -> 1.2 | M78: =ROUND(IF(OR(LEFT(E78,2)="ĐA",LEFT(E78,2)="DA",LEFT(E78,5)="Đồ án",LEFT(E78,5)="Đồán "),J78*0.5,(IF(H78>0,H78*K78,"0")+IF(I78>0,(I78*0.75)*L78,"0"))),1) -> 72
D79: 021100124403 | E79: Phân tích và thiết kế hệ thống (Dạy thay C.Thái) | F79: 17C1-ANM1 | G79: 2 | H79: 8 | I79: 16 | J79: 26 | K79: =IF(OR(LEFT(E79,2)="ĐA",LEFT(E79,2)="DA",LEFT(E79,5)="Đồ án",LEFT(E79,5)="Đồán ",LEFT(E79,9)="Sinh hoạt",LEFT(E79,9)="sinh hoạt",LEFT(E79,6)="Cố vấn",LEFT(E79,6)="cố vấn",LEFT(E79,4)="cvht",LEFT(E79,4)="CVHT",LEFT(E79,4)="shcn",LEFT(E79,4)="SHCN"),0,(IF(AND(H79>0,J79>0),IF(J79>60,1.3,IF(J79>35,1.2,1)),0))) -> 1 | L79: =IF(OR(LEFT(E79,2)="ĐA",LEFT(E79,2)="DA",LEFT(E79,5)="Đồ án",LEFT(E79,5)="Đồán "),0,IF(AND(J79>0,I79>0),IF(AND(OR(LEFT(E79,4)="GDQP",LEFT(E79,4)="gdqp",LEFT(E79,19)="Giáo dục quốc phòng"),J79>50),1.3,IF(J79>35,1.2,IF(J79>29,1.1,1))),0)) -> 1 | M79: =ROUND(IF(OR(LEFT(E79,2)="ĐA",LEFT(E79,2)="DA",LEFT(E79,5)="Đồ án",LEFT(E79,5)="Đồán "),J79*0.5,(IF(H79>0,H79*K79,"0")+IF(I79>0,(I79*0.75)*L79,"0"))),1) -> 20
D80: 021100124404 | E80: Phân tích và thiết kế hệ thống(Dạy thay C.Thái) | F80: 17C1-QTM1 | G80: 2 | H80: 8 | I80: 16 | J80: 68 | K80: =IF(OR(LEFT(E80,2)="ĐA",LEFT(E80,2)="DA",LEFT(E80,5)="Đồ án",LEFT(E80,5)="Đồán ",LEFT(E80,9)="Sinh hoạt",LEFT(E80,9)="sinh hoạt",LEFT(E80,6)="Cố vấn",LEFT(E80,6)="cố vấn",LEFT(E80,4)="cvht",LEFT(E80,4)="CVHT",LEFT(E80,4)="shcn",LEFT(E80,4)="SHCN"),0,(IF(AND(H80>0,J80>0),IF(J80>60,1.3,IF(J80>35,1.2,1)),0))) -> 1.3 | L80: =IF(OR(LEFT(E80,2)="ĐA",LEFT(E80,2)="DA",LEFT(E80,5)="Đồ án",LEFT(E80,5)="Đồán "),0,IF(AND(J80>0,I80>0),IF(AND(OR(LEFT(E80,4)="GDQP",LEFT(E80,4)="gdqp",LEFT(E80,19)="Giáo dục quốc phòng"),J80>50),1.3,IF(J80>35,1.2,IF(J80>29,1.1,1))),0)) -> 1.2 | M80: =ROUND(IF(OR(LEFT(E80,2)="ĐA",LEFT(E80,2)="DA",LEFT(E80,5)="Đồ án",LEFT(E80,5)="Đồán "),J80*0.5,(IF(H80>0,H80*K80,"0")+IF(I80>0,(I80*0.75)*L80,"0"))),1) -> 24.8
D81: 021100124405 | E81: Phân tích và thiết kế hệ thống(Dạy thay C.Thái) | F81: 17C1-CMT2 | G81: 2 | H81: 8 | I81: 16 | J81: 61 | K81: =IF(OR(LEFT(E81,2)="ĐA",LEFT(E81,2)="DA",LEFT(E81,5)="Đồ án",LEFT(E81,5)="Đồán ",LEFT(E81,9)="Sinh hoạt",LEFT(E81,9)="sinh hoạt",LEFT(E81,6)="Cố vấn",LEFT(E81,6)="cố vấn",LEFT(E81,4)="cvht",LEFT(E81,4)="CVHT",LEFT(E81,4)="shcn",LEFT(E81,4)="SHCN"),0,(IF(AND(H81>0,J81>0),IF(J81>60,1.3,IF(J81>35,1.2,1)),0))) -> 1.3 | L81: =IF(OR(LEFT(E81,2)="ĐA",LEFT(E81,2)="DA",LEFT(E81,5)="Đồ án",LEFT(E81,5)="Đồán "),0,IF(AND(J81>0,I81>0),IF(AND(OR(LEFT(E81,4)="GDQP",LEFT(E81,4)="gdqp",LEFT(E81,19)="Giáo dục quốc phòng"),J81>50),1.3,IF(J81>35,1.2,IF(J81>29,1.1,1))),0)) -> 1.2 | M81: =ROUND(IF(OR(LEFT(E81,2)="ĐA",LEFT(E81,2)="DA",LEFT(E81,5)="Đồ án",LEFT(E81,5)="Đồán "),J81*0.5,(IF(H81>0,H81*K81,"0")+IF(I81>0,(I81*0.75)*L81,"0"))),1) -> 24.8
D82: LTTH_ÔTN01 | E82: Lý thuyết tổng hợp | F82: 15TC-QTM | G82: 2 | H82: 10 | J82: 6 | K82: =IF(OR(LEFT(E82,2)="ĐA",LEFT(E82,2)="DA",LEFT(E82,5)="Đồ án",LEFT(E82,5)="Đồán ",LEFT(E82,9)="Sinh hoạt",LEFT(E82,9)="sinh hoạt",LEFT(E82,6)="Cố vấn",LEFT(E82,6)="cố vấn",LEFT(E82,4)="cvht",LEFT(E82,4)="CVHT",LEFT(E82,4)="shcn",LEFT(E82,4)="SHCN"),0,(IF(AND(H82>0,J82>0),IF(J82>60,1.3,IF(J82>35,1.2,1)),0))) -> 1 | L82: =IF(OR(LEFT(E82,2)="ĐA",LEFT(E82,2)="DA",LEFT(E82,5)="Đồ án",LEFT(E82,5)="Đồán "),0,IF(AND(J82>0,I82>0),IF(AND(OR(LEFT(E82,4)="GDQP",LEFT(E82,4)="gdqp",LEFT(E82,19)="Giáo dục quốc phòng"),J82>50),1.3,IF(J82>35,1.2,IF(J82>29,1.1,1))),0)) -> 0 | M82: =ROUND(IF(OR(LEFT(E82,2)="ĐA",LEFT(E82,2)="DA",LEFT(E82,5)="Đồ án",LEFT(E82,5)="Đồán "),J82*0.5,(IF(H82>0,H82*K82,"0")+IF(I82>0,(I82*0.75)*L82,"0"))),1) -> 10
A83: 6 | B83: Nguyễn Thị | C83: Thủy | D83: 020200009801 | E83: Lập trình quản lý | F83: 16CĐ-TP1 | G83: 1 | H83: 45 | I83: 30 | J83: 41 | K83: =IF(OR(LEFT(E83,2)="ĐA",LEFT(E83,2)="DA",LEFT(E83,5)="Đồ án",LEFT(E83,5)="Đồán ",LEFT(E83,9)="Sinh hoạt",LEFT(E83,9)="sinh hoạt",LEFT(E83,6)="Cố vấn",LEFT(E83,6)="cố vấn",LEFT(E83,4)="cvht",LEFT(E83,4)="CVHT",LEFT(E83,4)="shcn",LEFT(E83,4)="SHCN"),0,(IF(AND(H83>0,J83>0),IF(J83>60,1.3,IF(J83>35,1.2,1)),0))) -> 1.2 | L83: =IF(OR(LEFT(E83,2)="ĐA",LEFT(E83,2)="DA",LEFT(E83,5)="Đồ án",LEFT(E83,5)="Đồán "),0,IF(AND(J83>0,I83>0),IF(AND(OR(LEFT(E83,4)="GDQP",LEFT(E83,4)="gdqp",LEFT(E83,19)="Giáo dục quốc phòng"),J83>50),1.3,IF(J83>35,1.2,IF(J83>29,1.1,1))),0)) -> 1.2 | M83: =ROUND(IF(OR(LEFT(E83,2)="ĐA",LEFT(E83,2)="DA",LEFT(E83,5)="Đồ án",LEFT(E83,5)="Đồán "),J83*0.5,(IF(H83>0,H83*K83,"0")+IF(I83>0,(I83*0.75)*L83,"0"))),1) -> 81 | N83: 67.5 | O83: 0 | P83: =SUM(M83:M98)+N83+O83 -> 775.3 | Q83: 0 | R83: 53.2 | S83: 450 | T83: 450 | U83: 112 | V83: 112 | W83: 56 | X83: 56 | Y83: =ROUND((P83-T83),1) -> 325.3 | Z83: =IF(OR(SUM(V83:V98)="",SUM(Q83:Q98)=""),0,IF(OR(SUM(U83:U98)=320,SUM(V83:V98)>0),ROUND((SUM(Q83:Q98)-SUM(V83:V98)),1),0)) -> -112 | AA83: =IF(OR(SUM(X83:X98)="",SUM(R83:R98)=""),0,IF(OR(SUM(W83:W98)=160,SUM(X83:X98)>0),ROUND((SUM(R83:R98)-SUM(X83:X98)),1),0)) -> -2.8 | AC83: =SUM(Y83:AA98) -> 210.5
D84: SHCN(12+)36 | E84: Sinh hoạt chủ nhiệm | F84: 16CĐ-TP1 | G84: 1 | H84: 15 | I84: 0 | J84: 37 | K84: =IF(OR(LEFT(E84,2)="ĐA",LEFT(E84,2)="DA",LEFT(E84,5)="Đồ án",LEFT(E84,5)="Đồán ",LEFT(E84,9)="Sinh hoạt",LEFT(E84,9)="sinh hoạt",LEFT(E84,6)="Cố vấn",LEFT(E84,6)="cố vấn",LEFT(E84,4)="cvht",LEFT(E84,4)="CVHT",LEFT(E84,4)="shcn",LEFT(E84,4)="SHCN"),0,(IF(AND(H84>0,J84>0),IF(J84>60,1.3,IF(J84>35,1.2,1)),0))) -> 0 | L84: =IF(OR(LEFT(E84,2)="ĐA",LEFT(E84,2)="DA",LEFT(E84,5)="Đồ án",LEFT(E84,5)="Đồán "),0,IF(AND(J84>0,I84>0),IF(AND(OR(LEFT(E84,4)="GDQP",LEFT(E84,4)="gdqp",LEFT(E84,19)="Giáo dục quốc phòng"),J84>50),1.3,IF(J84>35,1.2,IF(J84>29,1.1,1))),0)) -> 0 | M84: =ROUND(IF(OR(LEFT(E84,2)="ĐA",LEFT(E84,2)="DA",LEFT(E84,5)="Đồ án",LEFT(E84,5)="Đồán "),J84*0.5,(IF(H84>0,H84*K84,"0")+IF(I84>0,(I84*0.75)*L84,"0"))),1) -> 0
D85: 020200009802 | E85: Lập trình quản lý | F85: 16CĐ-TP2 | G85: 1 | H85: 45 | I85: 30 | J85: 37 | K85: =IF(OR(LEFT(E85,2)="ĐA",LEFT(E85,2)="DA",LEFT(E85,5)="Đồ án",LEFT(E85,5)="Đồán ",LEFT(E85,9)="Sinh hoạt",LEFT(E85,9)="sinh hoạt",LEFT(E85,6)="Cố vấn",LEFT(E85,6)="cố vấn",LEFT(E85,4)="cvht",LEFT(E85,4)="CVHT",LEFT(E85,4)="shcn",LEFT(E85,4)="SHCN"),0,(IF(AND(H85>0,J85>0),IF(J85>60,1.3,IF(J85>35,1.2,1)),0))) -> 1.2 | L85: =IF(OR(LEFT(E85,2)="ĐA",LEFT(E85,2)="DA",LEFT(E85,5)="Đồ án",LEFT(E85,5)="Đồán "),0,IF(AND(J85>0,I85>0),IF(AND(OR(LEFT(E85,4)="GDQP",LEFT(E85,4)="gdqp",LEFT(E85,19)="Giáo dục quốc phòng"),J85>50),1.3,IF(J85>35,1.2,IF(J85>29,1.1,1))),0)) -> 1.2 | M85: =ROUND(IF(OR(LEFT(E85,2)="ĐA",LEFT(E85,2)="DA",LEFT(E85,5)="Đồ án",LEFT(E85,5)="Đồán "),J85*0.5,(IF(H85>0,H85*K85,"0")+IF(I85>0,(I85*0.75)*L85,"0"))),1) -> 81
D86: 050600111801 | E86: Tin học văn phòng | F86: 16TCN-QTD | G86: 1 | H86: 20 | I86: 25 | J86: 53 | K86: =IF(OR(LEFT(E86,2)="ĐA",LEFT(E86,2)="DA",LEFT(E86,5)="Đồ án",LEFT(E86,5)="Đồán ",LEFT(E86,9)="Sinh hoạt",LEFT(E86,9)="sinh hoạt",LEFT(E86,6)="Cố vấn",LEFT(E86,6)="cố vấn",LEFT(E86,4)="cvht",LEFT(E86,4)="CVHT",LEFT(E86,4)="shcn",LEFT(E86,4)="SHCN"),0,(IF(AND(H86>0,J86>0),IF(J86>60,1.3,IF(J86>35,1.2,1)),0))) -> 1.2 | L86: =IF(OR(LEFT(E86,2)="ĐA",LEFT(E86,2)="DA",LEFT(E86,5)="Đồ án",LEFT(E86,5)="Đồán "),0,IF(AND(J86>0,I86>0),IF(AND(OR(LEFT(E86,4)="GDQP",LEFT(E86,4)="gdqp",LEFT(E86,19)="Giáo dục quốc phòng"),J86>50),1.3,IF(J86>35,1.2,IF(J86>29,1.1,1))),0)) -> 1.2 | M86: =ROUND(IF(OR(LEFT(E86,2)="ĐA",LEFT(E86,2)="DA",LEFT(E86,5)="Đồ án",LEFT(E86,5)="Đồán "),J86*0.5,(IF(H86>0,H86*K86,"0")+IF(I86>0,(I86*0.75)*L86,"0"))),1) -> 46.5
D87: 041000093102 | E87: Kỹ thuật lập trình 2 | F87: 16TC-QTM | G87: 1 | H87: 15 | I87: 30 | J87: 43 | K87: =IF(OR(LEFT(E87,2)="ĐA",LEFT(E87,2)="DA",LEFT(E87,5)="Đồ án",LEFT(E87,5)="Đồán ",LEFT(E87,9)="Sinh hoạt",LEFT(E87,9)="sinh hoạt",LEFT(E87,6)="Cố vấn",LEFT(E87,6)="cố vấn",LEFT(E87,4)="cvht",LEFT(E87,4)="CVHT",LEFT(E87,4)="shcn",LEFT(E87,4)="SHCN"),0,(IF(AND(H87>0,J87>0),IF(J87>60,1.3,IF(J87>35,1.2,1)),0))) -> 1.2 | L87: =IF(OR(LEFT(E87,2)="ĐA",LEFT(E87,2)="DA",LEFT(E87,5)="Đồ án",LEFT(E87,5)="Đồán "),0,IF(AND(J87>0,I87>0),IF(AND(OR(LEFT(E87,4)="GDQP",LEFT(E87,4)="gdqp",LEFT(E87,19)="Giáo dục quốc phòng"),J87>50),1.3,IF(J87>35,1.2,IF(J87>29,1.1,1))),0)) -> 1.2 | M87: =ROUND(IF(OR(LEFT(E87,2)="ĐA",LEFT(E87,2)="DA",LEFT(E87,5)="Đồ án",LEFT(E87,5)="Đồán "),J87*0.5,(IF(H87>0,H87*K87,"0")+IF(I87>0,(I87*0.75)*L87,"0"))),1) -> 45
D88: 040800027801 | E88: SQL Server | F88: 16TCT-QTM | G88: 1 | H88: 30 | I88: 30 | J88: 25 | K88: =IF(OR(LEFT(E88,2)="ĐA",LEFT(E88,2)="DA",LEFT(E88,5)="Đồ án",LEFT(E88,5)="Đồán ",LEFT(E88,9)="Sinh hoạt",LEFT(E88,9)="sinh hoạt",LEFT(E88,6)="Cố vấn",LEFT(E88,6)="cố vấn",LEFT(E88,4)="cvht",LEFT(E88,4)="CVHT",LEFT(E88,4)="shcn",LEFT(E88,4)="SHCN"),0,(IF(AND(H88>0,J88>0),IF(J88>60,1.3,IF(J88>35,1.2,1)),0))) -> 1 | L88: =IF(OR(LEFT(E88,2)="ĐA",LEFT(E88,2)="DA",LEFT(E88,5)="Đồ án",LEFT(E88,5)="Đồán "),0,IF(AND(J88>0,I88>0),IF(AND(OR(LEFT(E88,4)="GDQP",LEFT(E88,4)="gdqp",LEFT(E88,19)="Giáo dục quốc phòng"),J88>50),1.3,IF(J88>35,1.2,IF(J88>29,1.1,1))),0)) -> 1 | M88: =ROUND(IF(OR(LEFT(E88,2)="ĐA",LEFT(E88,2)="DA",LEFT(E88,5)="Đồ án",LEFT(E88,5)="Đồán "),J88*0.5,(IF(H88>0,H88*K88,"0")+IF(I88>0,(I88*0.75)*L88,"0"))),1) -> 52.5
D89: 021100119917 | E89: Tin học | F89: 17C1-CCK4 | G89: 1 | I89: 6 | J89: 49 | K89: =IF(OR(LEFT(E89,2)="ĐA",LEFT(E89,2)="DA",LEFT(E89,5)="Đồ án",LEFT(E89,5)="Đồán ",LEFT(E89,9)="Sinh hoạt",LEFT(E89,9)="sinh hoạt",LEFT(E89,6)="Cố vấn",LEFT(E89,6)="cố vấn",LEFT(E89,4)="cvht",LEFT(E89,4)="CVHT",LEFT(E89,4)="shcn",LEFT(E89,4)="SHCN"),0,(IF(AND(H89>0,J89>0),IF(J89>60,1.3,IF(J89>35,1.2,1)),0))) -> 0 | L89: =IF(OR(LEFT(E89,2)="ĐA",LEFT(E89,2)="DA",LEFT(E89,5)="Đồ án",LEFT(E89,5)="Đồán "),0,IF(AND(J89>0,I89>0),IF(AND(OR(LEFT(E89,4)="GDQP",LEFT(E89,4)="gdqp",LEFT(E89,19)="Giáo dục quốc phòng"),J89>50),1.3,IF(J89>35,1.2,IF(J89>29,1.1,1))),0)) -> 1.2 | M89: =ROUND(IF(OR(LEFT(E89,2)="ĐA",LEFT(E89,2)="DA",LEFT(E89,5)="Đồ án",LEFT(E89,5)="Đồán "),J89*0.5,(IF(H89>0,H89*K89,"0")+IF(I89>0,(I89*0.75)*L89,"0"))),1) -> 5.4
D90: 021100094004 | E90: Hệ quản trị cơ sở dữ liệu | F90: 17C1-LTM1 | G90: 1 | H90: 15 | I90: 60 | J90: 52 | K90: =IF(OR(LEFT(E90,2)="ĐA",LEFT(E90,2)="DA",LEFT(E90,5)="Đồ án",LEFT(E90,5)="Đồán ",LEFT(E90,9)="Sinh hoạt",LEFT(E90,9)="sinh hoạt",LEFT(E90,6)="Cố vấn",LEFT(E90,6)="cố vấn",LEFT(E90,4)="cvht",LEFT(E90,4)="CVHT",LEFT(E90,4)="shcn",LEFT(E90,4)="SHCN"),0,(IF(AND(H90>0,J90>0),IF(J90>60,1.3,IF(J90>35,1.2,1)),0))) -> 1.2 | L90: =IF(OR(LEFT(E90,2)="ĐA",LEFT(E90,2)="DA",LEFT(E90,5)="Đồ án",LEFT(E90,5)="Đồán "),0,IF(AND(J90>0,I90>0),IF(AND(OR(LEFT(E90,4)="GDQP",LEFT(E90,4)="gdqp",LEFT(E90,19)="Giáo dục quốc phòng"),J90>50),1.3,IF(J90>35,1.2,IF(J90>29,1.1,1))),0)) -> 1.2 | M90: =ROUND(IF(OR(LEFT(E90,2)="ĐA",LEFT(E90,2)="DA",LEFT(E90,5)="Đồ án",LEFT(E90,5)="Đồán "),J90*0.5,(IF(H90>0,H90*K90,"0")+IF(I90>0,(I90*0.75)*L90,"0"))),1) -> 72
D91: 021100119804 | E91: Tin học | F91: 17C1-LTM1 | G91: 1 | H91: 30 | I91: 0 | J91: 30 | K91: 1.2 | L91: 1.2 | M91: 36
D92: 071400106702 | E92: Kỹ thuật lập trình 1 | F92: 17T4-TKW1 | G92: 1 | H92: 15 | I92: 60 | J92: 31 | K92: =IF(OR(LEFT(E92,2)="ĐA",LEFT(E92,2)="DA",LEFT(E92,5)="Đồ án",LEFT(E92,5)="Đồán ",LEFT(E92,9)="Sinh hoạt",LEFT(E92,9)="sinh hoạt",LEFT(E92,6)="Cố vấn",LEFT(E92,6)="cố vấn",LEFT(E92,4)="cvht",LEFT(E92,4)="CVHT",LEFT(E92,4)="shcn",LEFT(E92,4)="SHCN"),0,(IF(AND(H92>0,J92>0),IF(J92>60,1.3,IF(J92>35,1.2,1)),0))) -> 1 | L92: =IF(OR(LEFT(E92,2)="ĐA",LEFT(E92,2)="DA",LEFT(E92,5)="Đồ án",LEFT(E92,5)="Đồán "),0,IF(AND(J92>0,I92>0),IF(AND(OR(LEFT(E92,4)="GDQP",LEFT(E92,4)="gdqp",LEFT(E92,19)="Giáo dục quốc phòng"),J92>50),1.3,IF(J92>35,1.2,IF(J92>29,1.1,1))),0)) -> 1.1 | M92: =ROUND(IF(OR(LEFT(E92,2)="ĐA",LEFT(E92,2)="DA",LEFT(E92,5)="Đồ án",LEFT(E92,5)="Đồán "),J92*0.5,(IF(H92>0,H92*K92,"0")+IF(I92>0,(I92*0.75)*L92,"0"))),1) -> 64.5
D93: 020200006103 | E93: Hệ quản trị cơ sở dữ liệu | F93: 16CĐ-TM1 | G93: 2 | H93: 45 | I93: 30 | J93: 45 | K93: =IF(OR(LEFT(E93,2)="ĐA",LEFT(E93,2)="DA",LEFT(E93,5)="Đồ án",LEFT(E93,5)="Đồán ",LEFT(E93,9)="Sinh hoạt",LEFT(E93,9)="sinh hoạt",LEFT(E93,6)="Cố vấn",LEFT(E93,6)="cố vấn",LEFT(E93,4)="cvht",LEFT(E93,4)="CVHT",LEFT(E93,4)="shcn",LEFT(E93,4)="SHCN"),0,(IF(AND(H93>0,J93>0),IF(J93>60,1.3,IF(J93>35,1.2,1)),0))) -> 1.2 | L93: =IF(OR(LEFT(E93,2)="ĐA",LEFT(E93,2)="DA",LEFT(E93,5)="Đồ án",LEFT(E93,5)="Đồán "),0,IF(AND(J93>0,I93>0),IF(AND(OR(LEFT(E93,4)="GDQP",LEFT(E93,4)="gdqp",LEFT(E93,19)="Giáo dục quốc phòng"),J93>50),1.3,IF(J93>35,1.2,IF(J93>29,1.1,1))),0)) -> 1.2 | M93: =ROUND(IF(OR(LEFT(E93,2)="ĐA",LEFT(E93,2)="DA",LEFT(E93,5)="Đồ án",LEFT(E93,5)="Đồán "),J93*0.5,(IF(H93>0,H93*K93,"0")+IF(I93>0,(I93*0.75)*L93,"0"))),1) -> 81
D94: 020200006101 | E94: Hệ quản trị cơ sở dữ liệu | F94: 16CĐ-TP1 | G94: 2 | H94: 45 | I94: 30 | J94: 32 | K94: =IF(OR(LEFT(E94,2)="ĐA",LEFT(E94,2)="DA",LEFT(E94,5)="Đồ án",LEFT(E94,5)="Đồán ",LEFT(E94,9)="Sinh hoạt",LEFT(E94,9)="sinh hoạt",LEFT(E94,6)="Cố vấn",LEFT(E94,6)="cố vấn",LEFT(E94,4)="cvht",LEFT(E94,4)="CVHT",LEFT(E94,4)="shcn",LEFT(E94,4)="SHCN"),0,(IF(AND(H94>0,J94>0),IF(J94>60,1.3,IF(J94>35,1.2,1)),0))) -> 1 | L94: =IF(OR(LEFT(E94,2)="ĐA",LEFT(E94,2)="DA",LEFT(E94,5)="Đồ án",LEFT(E94,5)="Đồán "),0,IF(AND(J94>0,I94>0),IF(AND(OR(LEFT(E94,4)="GDQP",LEFT(E94,4)="gdqp",LEFT(E94,19)="Giáo dục quốc phòng"),J94>50),1.3,IF(J94>35,1.2,IF(J94>29,1.1,1))),0)) -> 1.1 | M94: =ROUND(IF(OR(LEFT(E94,2)="ĐA",LEFT(E94,2)="DA",LEFT(E94,5)="Đồ án",LEFT(E94,5)="Đồán "),J94*0.5,(IF(H94>0,H94*K94,"0")+IF(I94>0,(I94*0.75)*L94,"0"))),1) -> 69.8
D95: SHCN(12+)36 | E95: Sinh hoạt chủ nhiệm | F95: 16CĐ-TP1 | G95: 2 | H95: 15 | I95: 0 | J95: 32 | K95: =IF(OR(LEFT(E95,2)="ĐA",LEFT(E95,2)="DA",LEFT(E95,5)="Đồ án",LEFT(E95,5)="Đồán ",LEFT(E95,9)="Sinh hoạt",LEFT(E95,9)="sinh hoạt",LEFT(E95,6)="Cố vấn",LEFT(E95,6)="cố vấn",LEFT(E95,4)="cvht",LEFT(E95,4)="CVHT",LEFT(E95,4)="shcn",LEFT(E95,4)="SHCN"),0,(IF(AND(H95>0,J95>0),IF(J95>60,1.3,IF(J95>35,1.2,1)),0))) -> 0 | L95: =IF(OR(LEFT(E95,2)="ĐA",LEFT(E95,2)="DA",LEFT(E95,5)="Đồ án",LEFT(E95,5)="Đồán "),0,IF(AND(J95>0,I95>0),IF(AND(OR(LEFT(E95,4)="GDQP",LEFT(E95,4)="gdqp",LEFT(E95,19)="Giáo dục quốc phòng"),J95>50),1.3,IF(J95>35,1.2,IF(J95>29,1.1,1))),0)) -> 0 | M95: =ROUND(IF(OR(LEFT(E95,2)="ĐA",LEFT(E95,2)="DA",LEFT(E95,5)="Đồ án",LEFT(E95,5)="Đồán "),J95*0.5,(IF(H95>0,H95*K95,"0")+IF(I95>0,(I95*0.75)*L95,"0"))),1) -> 0
D96: 071400135402 | E96: Kỹ thuật lập trình 2 | F96: 17T4-TKW1 | G96: 2 | H96: 15 | I96: 60 | J96: 30 | K96: =IF(OR(LEFT(E96,2)="ĐA",LEFT(E96,2)="DA",LEFT(E96,5)="Đồ án",LEFT(E96,5)="Đồán ",LEFT(E96,9)="Sinh hoạt",LEFT(E96,9)="sinh hoạt",LEFT(E96,6)="Cố vấn",LEFT(E96,6)="cố vấn",LEFT(E96,4)="cvht",LEFT(E96,4)="CVHT",LEFT(E96,4)="shcn",LEFT(E96,4)="SHCN"),0,(IF(AND(H96>0,J96>0),IF(J96>60,1.3,IF(J96>35,1.2,1)),0))) -> 1 | L96: =IF(OR(LEFT(E96,2)="ĐA",LEFT(E96,2)="DA",LEFT(E96,5)="Đồ án",LEFT(E96,5)="Đồán "),0,IF(AND(J96>0,I96>0),IF(AND(OR(LEFT(E96,4)="GDQP",LEFT(E96,4)="gdqp",LEFT(E96,19)="Giáo dục quốc phòng"),J96>50),1.3,IF(J96>35,1.2,IF(J96>29,1.1,1))),0)) -> 1.1 | M96: =ROUND(IF(OR(LEFT(E96,2)="ĐA",LEFT(E96,2)="DA",LEFT(E96,5)="Đồ án",LEFT(E96,5)="Đồán "),J96*0.5,(IF(H96>0,H96*K96,"0")+IF(I96>0,(I96*0.75)*L96,"0"))),1) -> 64.5
D97: 71400135401 | E97: Kỹ thuật lập trình 2 (dạy thay cô Hồng) | F97: 17T4-THU1 | G97: 2 | H97: 0 | I97: 5 | J97: 30 | K97: =IF(OR(LEFT(E97,2)="ĐA",LEFT(E97,2)="DA",LEFT(E97,5)="Đồ án",LEFT(E97,5)="Đồán ",LEFT(E97,9)="Sinh hoạt",LEFT(E97,9)="sinh hoạt",LEFT(E97,6)="Cố vấn",LEFT(E97,6)="cố vấn",LEFT(E97,4)="cvht",LEFT(E97,4)="CVHT",LEFT(E97,4)="shcn",LEFT(E97,4)="SHCN"),0,(IF(AND(H97>0,J97>0),IF(J97>60,1.3,IF(J97>35,1.2,1)),0))) -> 0 | L97: =IF(OR(LEFT(E97,2)="ĐA",LEFT(E97,2)="DA",LEFT(E97,5)="Đồ án",LEFT(E97,5)="Đồán "),0,IF(AND(J97>0,I97>0),IF(AND(OR(LEFT(E97,4)="GDQP",LEFT(E97,4)="gdqp",LEFT(E97,19)="Giáo dục quốc phòng"),J97>50),1.3,IF(J97>35,1.2,IF(J97>29,1.1,1))),0)) -> 1.1 | M97: =ROUND(IF(OR(LEFT(E97,2)="ĐA",LEFT(E97,2)="DA",LEFT(E97,5)="Đồ án",LEFT(E97,5)="Đồán "),J97*0.5,(IF(H97>0,H97*K97,"0")+IF(I97>0,(I97*0.75)*L97,"0"))),1) -> 4.1
D98: 71400135401 | E98: Kỹ thuật lập trình 2(dạy thay cô Hồng) | F98: 17T4-THU1 | G98: 2 | H98: 0 | I98: 5 | J98: 39 | K98: =IF(OR(LEFT(E98,2)="ĐA",LEFT(E98,2)="DA",LEFT(E98,5)="Đồ án",LEFT(E98,5)="Đồán ",LEFT(E98,9)="Sinh hoạt",LEFT(E98,9)="sinh hoạt",LEFT(E98,6)="Cố vấn",LEFT(E98,6)="cố vấn",LEFT(E98,4)="cvht",LEFT(E98,4)="CVHT",LEFT(E98,4)="shcn",LEFT(E98,4)="SHCN"),0,(IF(AND(H98>0,J98>0),IF(J98>60,1.3,IF(J98>35,1.2,1)),0))) -> 0 | L98: =IF(OR(LEFT(E98,2)="ĐA",LEFT(E98,2)="DA",LEFT(E98,5)="Đồ án",LEFT(E98,5)="Đồán "),0,IF(AND(J98>0,I98>0),IF(AND(OR(LEFT(E98,4)="GDQP",LEFT(E98,4)="gdqp",LEFT(E98,19)="Giáo dục quốc phòng"),J98>50),1.3,IF(J98>35,1.2,IF(J98>29,1.1,1))),0)) -> 1.2 | M98: =ROUND(IF(OR(LEFT(E98,2)="ĐA",LEFT(E98,2)="DA",LEFT(E98,5)="Đồ án",LEFT(E98,5)="Đồán "),J98*0.5,(IF(H98>0,H98*K98,"0")+IF(I98>0,(I98*0.75)*L98,"0"))),1) -> 4.5
A99: 7 | B99: Nguyễn Thị Thu | C99: Hồng | D99: 50600115502 | E99: Hệ quản trị cơ sở dữ liệu Microsoft Access | F99: 15TCN-QTM1 | G99: 1 | H99: 30 | I99: 0 | J99: 67 | K99: =IF(OR(LEFT(E99,2)="ĐA",LEFT(E99,2)="DA",LEFT(E99,5)="Đồ án",LEFT(E99,5)="Đồán ",LEFT(E99,9)="Sinh hoạt",LEFT(E99,9)="sinh hoạt",LEFT(E99,6)="Cố vấn",LEFT(E99,6)="cố vấn",LEFT(E99,4)="cvht",LEFT(E99,4)="CVHT",LEFT(E99,4)="shcn",LEFT(E99,4)="SHCN"),0,(IF(AND(H99>0,J99>0),IF(J99>60,1.3,IF(J99>35,1.2,1)),0))) -> 1.3 | L99: =IF(OR(LEFT(E99,2)="ĐA",LEFT(E99,2)="DA",LEFT(E99,5)="Đồ án",LEFT(E99,5)="Đồán "),0,IF(AND(J99>0,I99>0),IF(AND(OR(LEFT(E99,4)="GDQP",LEFT(E99,4)="gdqp",LEFT(E99,19)="Giáo dục quốc phòng"),J99>50),1.3,IF(J99>35,1.2,IF(J99>29,1.1,1))),0)) -> 0 | M99: =ROUND(IF(OR(LEFT(E99,2)="ĐA",LEFT(E99,2)="DA",LEFT(E99,5)="Đồ án",LEFT(E99,5)="Đồán "),J99*0.5,(IF(H99>0,H99*K99,"0")+IF(I99>0,(I99*0.75)*L99,"0"))),1) -> 39 | N99: 67.5 | O99: 0 | P99: =SUM(M99:M117)+N99+O99 -> 762.1 | Q99: 0 | R99: 48.8 | S99: 450 | T99: 450 | U99: 112 | V99: 112 | W99: 56 | X99: 56 | Y99: =ROUND((P99-T99),1) -> 312.1 | Z99: =IF(OR(SUM(V99:V117)="",SUM(Q99:Q117)=""),0,IF(OR(SUM(U99:U117)=320,SUM(V99:V117)>0),ROUND((SUM(Q99:Q117)-SUM(V99:V117)),1),0)) -> -112 | AA99: =IF(OR(SUM(X99:X117)="",SUM(R99:R117)=""),0,IF(OR(SUM(W99:W117)=160,SUM(X99:X117)>0),ROUND((SUM(R99:R117)-SUM(X99:X117)),1),0)) -> -7.2 | AC99: =SUM(Y99:AA117) -> 192.9
D100: 50600115502 | E100: Hệ quản trị cơ sở dữ liệu Microsoft Access | F100: 15TCN-QTM1 | G100: 1 | H100: 0 | I100: 30 | J100: 33 | K100: =IF(OR(LEFT(E100,2)="ĐA",LEFT(E100,2)="DA",LEFT(E100,5)="Đồ án",LEFT(E100,5)="Đồán ",LEFT(E100,9)="Sinh hoạt",LEFT(E100,9)="sinh hoạt",LEFT(E100,6)="Cố vấn",LEFT(E100,6)="cố vấn",LEFT(E100,4)="cvht",LEFT(E100,4)="CVHT",LEFT(E100,4)="shcn",LEFT(E100,4)="SHCN"),0,(IF(AND(H100>0,J100>0),IF(J100>60,1.3,IF(J100>35,1.2,1)),0))) -> 0 | L100: =IF(OR(LEFT(E100,2)="ĐA",LEFT(E100,2)="DA",LEFT(E100,5)="Đồ án",LEFT(E100,5)="Đồán "),0,IF(AND(J100>0,I100>0),IF(AND(OR(LEFT(E100,4)="GDQP",LEFT(E100,4)="gdqp",LEFT(E100,19)="Giáo dục quốc phòng"),J100>50),1.3,IF(J100>35,1.2,IF(J100>29,1.1,1))),0)) -> 1.1 | M100: =ROUND(IF(OR(LEFT(E100,2)="ĐA",LEFT(E100,2)="DA",LEFT(E100,5)="Đồ án",LEFT(E100,5)="Đồán "),J100*0.5,(IF(H100>0,H100*K100,"0")+IF(I100>0,(I100*0.75)*L100,"0"))),1) -> 24.8
D101: 50600115502 | E101: Hệ quản trị cơ sở dữ liệu Microsoft Access | F101: 15TCN-QTM1 | G101: 1 | H101: 0 | I101: 30 | J101: 34 | K101: =IF(OR(LEFT(E101,2)="ĐA",LEFT(E101,2)="DA",LEFT(E101,5)="Đồ án",LEFT(E101,5)="Đồán ",LEFT(E101,9)="Sinh hoạt",LEFT(E101,9)="sinh hoạt",LEFT(E101,6)="Cố vấn",LEFT(E101,6)="cố vấn",LEFT(E101,4)="cvht",LEFT(E101,4)="CVHT",LEFT(E101,4)="shcn",LEFT(E101,4)="SHCN"),0,(IF(AND(H101>0,J101>0),IF(J101>60,1.3,IF(J101>35,1.2,1)),0))) -> 0 | L101: =IF(OR(LEFT(E101,2)="ĐA",LEFT(E101,2)="DA",LEFT(E101,5)="Đồ án",LEFT(E101,5)="Đồán "),0,IF(AND(J101>0,I101>0),IF(AND(OR(LEFT(E101,4)="GDQP",LEFT(E101,4)="gdqp",LEFT(E101,19)="Giáo dục quốc phòng"),J101>50),1.3,IF(J101>35,1.2,IF(J101>29,1.1,1))),0)) -> 1.1 | M101: =ROUND(IF(OR(LEFT(E101,2)="ĐA",LEFT(E101,2)="DA",LEFT(E101,5)="Đồ án",LEFT(E101,5)="Đồán "),J101*0.5,(IF(H101>0,H101*K101,"0")+IF(I101>0,(I101*0.75)*L101,"0"))),1) -> 24.8
...

Sheet Sheet1
A1: 148 | B1: =A1*56/160 -> 51.8
A2: 168 | B2: =A2*56/160 -> 58.8
A3: 84 | B3: =A3*56/160 -> 29.4
A4: 108 | B4: =A4*56/160 -> 37.8
A5: 110 | B5: =A5*56/160 -> 38.5
A6: 152 | B6: =A6*56/160 -> 53.2
A7: 103 | B7: =A7*56/160 -> 36.05
A8: 132 | B8: =A8*56/160 -> 46.2
A9: 156 | B9: =A9*56/160 -> 54.6
A10: 144 | B10: =A10*56/160 -> 50.4
A11: 100 | B11: =A11*56/160 -> 35
A12: 116 | B12: =A12*56/160 -> 40.6
... A14: 114 | B14: =A14*56/160 -> 39.9
B15: =A15*56/160 -> 0
B16: =A16*56/160 -> 0
B17: =A17*56/160 -> 0
B18: =A18*56/160 -> 0
B19: =A19*56/160 -> 0
B20: =A20*56/160 -> 0
B21: =A21*56/160 -> 0
B22: =A22*56/160 -> 0
B23: =A23*56/160 -> 0
